Workbook

Sheet Заземлення
D1: Блискавкозахист та заземлення | G1: Прайс-лист від 20.05.2026р.
D3: +38(067) 314 07 85, +38(097) 095 63 06 | G3: Введіть Вашу знижку %
A4: Вигляд | B4: Код | C4: Матеріал | D4: Назва | E4: Артикул | F4: Опис | G4: Од. вим. | H4: Ціна грн., з ПДВ | I4: Ціна грн., з ПДВ зі знижкою | J4: Введіть потрібну кількість
A5: КОМПЛЕКТИ ЗАЗЕМЛЕННЯ ОЦИНКОВАНІ (діаметр 16мм)
C6: ОС | D6: Комплект заземлення R3m | E6: ='Прайс повний'!A282 -> 40 030 | F6: ='Прайс повний'!F282 -> Склад комплекту: стержень заземлення d16мм -2 шт, наконечник-1 шт, муфта заземлення-2 шт, болт для забивання стержнів-1 шт, затискач прут d16/дріт d8-10-1 шт, стрічка гідроізоляціна-1 шт., антикорозійна паста-1шт. | G6: компл. | H6: ='Прайс повний'!I282 -> 1600 | I6: ='Прайс повний'!J282 -> 1600
C7: ОС | D7: Комплект заземлення R4,5m | E7: ='Прайс повний'!A283 -> 40 045 | F7: ='Прайс повний'!F283 -> Склад комплекту: стержень заземлення d16мм -3 шт, наконечник-1 шт, муфта заземлення-3 шт, болт для забивання стержнів-1 шт, затискач прут d16/дріт d8-10-1 шт, стрічка гідроізоляціна-1 шт., антикорозійна паста-1шт. | G7: компл. | H7: ='Прайс повний'!I283 -> 2200 | I7: ='Прайс повний'!J283 -> 2200
C8: ОС | D8: Комплект заземлення R6m | E8: ='Прайс повний'!A284 -> 40 060 | F8: ='Прайс повний'!F284 -> Склад комплекту: стержень заземлення d16мм -4 шт, наконечник-1 шт, муфта заземлення-4 шт, болт для забивання стержнів-1 шт, затискач прут d16/дріт d8-10-1 шт, стрічка гідроізоляціна-1 шт, антикорозійна паста-1шт. | G8: компл. | H8: ='Прайс повний'!I284 -> 2800 | I8: ='Прайс повний'!J284 -> 2800
C9: ОС | D9: Комплект заземлення R7,5m | E9: ='Прайс повний'!A285 -> 40 075 | F9: ='Прайс повний'!F285 -> Склад комплекту: стержень заземлення d16мм -5 шт, наконечник-1 шт, муфта заземлення-5 шт, болт для забивання стержнів-1 шт, затискач прут d16/дріт d8-10-1 шт, стрічка гідроізоляціна-1 шт, антикорозійна паста-1шт. | G9: компл. | H9: ='Прайс повний'!I285 -> 3400 | I9: ='Прайс повний'!J285 -> 3400
C10: ОС | D10: Комплект заземлення R9m | E10: ='Прайс повний'!A286 -> 40 090 | F10: ='Прайс повний'!F286 -> Склад комплекту: стержень заземлення-6 шт, наконечник-1 шт, муфта заземлення-6 шт, болт для забивання стержнів-1 шт, затискач прут d16/дріт d8-10-1 шт, стрічка гідроізоляціна-1 шт, антикорозійна паста-1шт. | G10: компл. | H10: ='Прайс повний'!I286 -> 4000 | I10: ='Прайс повний'!J286 -> 4000
C11: ОС | D11: ='Прайс повний'!E287 -> Комплект заземлення R10,5m | E11: ='Прайс повний'!A287 -> 40 105 | F11: ='Прайс повний'!F287 -> Склад комплекту: стержень заземлення-7 шт, наконечник-1 шт, муфта заземлення-7 шт, болт для забивання стержнів-1 шт, затискач прут d16/дріт d8-10-1 шт, стрічка гідроізоляціна-1 шт, антикорозійна паста-1шт. | G11: компл. | H11: ='Прайс повний'!I287 -> 4550 | I11: ='Прайс повний'!J287 -> 4550
C12: ОС | D12: ='Прайс повний'!E288 -> Комплект заземлення R12m | E12: ='Прайс повний'!A288 -> 40 120 | F12: ='Прайс повний'!F288 -> Склад комплекту: стержень заземлення-8 шт, наконечник-1 шт, муфта заземлення-8 шт, болт для забивання стержнів-1 шт, затискач прут d16/дріт d8-10-1 шт, стрічка гідроізоляціна-1шт, антикорозійна паста-1шт. | G12: компл. | H12: ='Прайс повний'!I288 -> 5150 | I12: ='Прайс повний'!J288 -> 5150
C13: ОС | D13: ='Прайс повний'!E289 -> Комплект заземлення R13,5m | E13: ='Прайс повний'!A289 -> 40 135 | F13: ='Прайс повний'!F289 -> Склад комплекту: стержень заземлення-9 шт, наконечник-1 шт, муфта заземлення-9 шт, болт для забивання стержнів-1 шт, затискач прут d16/дріт d8-10-1 шт, стрічка гідроізоляціна-1шт, антикорозійна паста-1шт. | G13: компл. | H13: ='Прайс повний'!I289 -> 5750 | I13: ='Прайс повний'!J289 -> 5750
C14: ОС | D14: ='Прайс повний'!E290 -> Комплект заземлення R15m | E14: ='Прайс повний'!A290 -> 40 150 | F14: ='Прайс повний'!F290 -> Склад комплекту: стержень заземлення d16mm-10 шт, наконечник-2 шт, муфта заземлення-10 шт, болт для забивання стержнів-2 шт, затискач прут d16/дріт d8-10-2 шт, стрічка гідроізоляціна-1 шт, антикорозійна паста-1шт. | G14: компл. | H14: ='Прайс повний'!I290 -> 6650 | I14: ='Прайс повний'!J290 -> 6650
A15: КОМПЛЕКТИ ЗАЗЕМЛЕННЯ ОЦИНКОВАНІ (діаметр 20мм)
C16: OC | D16: ='Прайс повний'!E291 -> Комплект заземлення R3m d20mm | E16: ='Прайс повний'!A291 -> 42030 | F16: ='Прайс повний'!F291 -> Склад комплекту: стержень заземлення d20мм -2 шт, муфта заземлення-2 шт, наконечник-1шт, болт для забивання стержнів-1 шт, затискач прут d16-20/смуга 40/дріт d8-10 (гар.оцинк.) - 1шт, стрічка гідроізоляціна-1 шт, антикорозійна паста-1шт. | G16: ='Прайс повний'!G291 -> компл. | H16: ='Прайс повний'!I291 -> 1950 | I16: ='Прайс повний'!J291 -> 1950
C17: OC | D17: ='Прайс повний'!E292 -> Комплект заземлення R4,5m d20mm | E17: ='Прайс повний'!A292 -> 42045 | F17: ='Прайс повний'!F292 -> Склад комплекту: стержень заземлення d20мм -3 шт, муфта заземлення-3 шт, наконечник-1шт, болт для забивання стержнів-1 шт, затискач прут d16-20/смуга 40/дріт d8-10 (гар.оцинк.) - 1шт, стрічка гідроізоляціна-1 шт, антикорозійна паста-1шт. | G17: ='Прайс повний'!G292 -> компл. | H17: ='Прайс повний'!I292 -> 2650 | I17: ='Прайс повний'!J292 -> 2650
C18: OC | D18: ='Прайс повний'!E293 -> Комплект заземлення R6m d20mm | E18: ='Прайс повний'!A293 -> 42060 | F18: ='Прайс повний'!F293 -> Склад комплекту: стержень заземлення d20мм -4 шт, муфта заземлення-4 шт, наконечник-1шт, болт для забивання стержнів-1 шт, затискач прут d16-20/смуга 40/дріт d8-10 (гар.оцинк.) - 1шт, стрічка гідроізоляціна-1 шт, антикорозійна паста-1шт. | G18: ='Прайс повний'!G293 -> компл. | H18: ='Прайс повний'!I293 -> 3350 | I18: ='Прайс повний'!J293 -> 3350
C19: OC | D19: ='Прайс повний'!E294 -> Комплект заземлення R7,5m d20mm | E19: ='Прайс повний'!A294 -> 42075 | F19: ='Прайс повний'!F294 -> Склад комплекту: стержень заземлення d20мм -5 шт, муфта заземлення-5 шт, наконечник-1шт, болт для забивання стержнів-1 шт, затискач прут d16-20/смуга 40/дріт d8-10 (гар.оцинк.) - 1шт, стрічка гідроізоляціна-1 шт, антикорозійна паста-1шт. | G19: ='Прайс повний'!G294 -> компл. | H19: ='Прайс повний'!I294 -> 4050 | I19: ='Прайс повний'!J294 -> 4050
C20: OC | D20: ='Прайс повний'!E295 -> Комплект заземлення R9m d20mm | E20: ='Прайс повний'!A295 -> 42090 | F20: ='Прайс повний'!F295 -> Склад комплекту: стержень заземлення d20мм -6 шт, муфта заземлення-6 шт, наконечник-1шт, болт для забивання стержнів-1 шт, затискач прут d16-20/смуга 40/дріт d8-10 (гар.оцинк.) - 1шт, стрічка гідроізоляціна-1 шт, антикорозійна паста-1шт. | G20: ='Прайс повний'!G295 -> компл. | H20: ='Прайс повний'!I295 -> 4750 | I20: ='Прайс повний'!J295 -> 4750
C21: OC | D21: ='Прайс повний'!E296 -> Комплект заземлення R10,5m d20mm | E21: ='Прайс повний'!A296 -> 42105 | F21: ='Прайс повний'!F296 -> Склад комплекту: стержень заземлення d20мм -7 шт, муфта заземлення-7 шт, наконечник-1шт, болт для забивання стержнів-1 шт, затискач прут d16-20/смуга 40/дріт d8-10 (гар.оцинк.) - 1шт, стрічка гідроізоляціна-1 шт, антикорозійна паста-1шт. | G21: ='Прайс повний'!G296 -> компл. | H21: ='Прайс повний'!I296 -> 5450 | I21: ='Прайс повний'!J296 -> 5450
C22: OC | D22: ='Прайс повний'!E297 -> Комплект заземлення R12m d20mm | E22: ='Прайс повний'!A297 -> 42120 | F22: ='Прайс повний'!F297 -> Склад комплекту: стержень заземлення d20мм -8 шт, муфта заземлення-8 шт, наконечник-1шт, болт для забивання стержнів-1 шт, затискач прут d16-20/смуга 40/дріт d8-10 (гар.оцинк.) - 1шт, стрічка гідроізоляціна-1 шт, антикорозійна паста-1шт. | G22: ='Прайс повний'!G297 -> компл. | H22: ='Прайс повний'!I297 -> 6200 | I22: ='Прайс повний'!J297 -> 6200
C23: OC | D23: ='Прайс повний'!E298 -> Комплект заземлення R13,5m d20mm | E23: ='Прайс повний'!A298 -> 42135 | F23: ='Прайс повний'!F298 -> Склад комплекту: стержень заземлення d20мм -9 шт, муфта заземлення-9 шт, наконечник-1шт, болт для забивання стержнів-1 шт, затискач прут d16-20/смуга 40/дріт d8-10 (гар.оцинк.) - 1шт, стрічка гідроізоляціна-1 шт, антикорозійна паста-1шт. | G23: ='Прайс повний'!G298 -> компл. | H23: ='Прайс повний'!I298 -> 6900 | I23: ='Прайс повний'!J298 -> 6900
C24: OC | D24: ='Прайс повний'!E299 -> Комплект заземлення R15m d20mm | E24: ='Прайс повний'!A299 -> 42150 | F24: ='Прайс повний'!F299 -> Склад комплекту: стержень заземлення d20mm-10 шт, муфта заземлення-10 шт, наконечник-2шт, болт для забивання стержнів-2 шт, затискач прут d16-20/смуга 40/дріт d8-10 (гар.оцинк.) - 2шт, стрічка гідроізоляціна-1 шт, антикорозійна паста-1шт. | G24: ='Прайс повний'!G299 -> компл. | H24: ='Прайс повний'!I299 -> 8000 | I24: ='Прайс повний'!J299 -> 8000
A25: КОМПЛЕКТИ ЗАЗЕМЛЕННЯ З НЕРЖАВІЮЧОЇ СТАЛІ
B26: ='Прайс повний'!B300 -> 43/3 | C26: ='Прайс повний'!C300 -> Ni | D26: ='Прайс повний'!E300 -> Комплект заземлення R3m-Ni | E26: ='Прайс повний'!A300 -> 43030 | F26: ='Прайс повний'!F300 -> Склад комплекту: стержень заземлення d16мм -2 шт, наконечник-1 шт, муфта заземлення-2 шт, болт для забивання стержнів-1 шт, затискач прут d16/дріт d8-10-1 шт, стрічка гідроізоляціна-1 шт, антикорозійна паста-1шт. | G26: ='Прайс повний'!G300 -> компл. | H26: ='Прайс повний'!I300 -> 2350 | I26: ='Прайс повний'!J300 -> 2350
B27: ='Прайс повний'!B301 -> 43/4,5 | C27: ='Прайс повний'!C301 -> Ni | D27: ='Прайс повний'!E301 -> Комплект заземлення R4,5m-Ni | E27: ='Прайс повний'!A301 -> 43045 | F27: ='Прайс повний'!F301 -> Склад комплекту: стержень заземлення d16мм -3 шт, наконечник-1 шт, муфта заземлення-3 шт, болт для забивання стержнів-1 шт, затискач прут d16/дріт d8-10-1 шт, стрічка гідроізоляціна-1 шт., антикорозійна паста-1шт. | G27: ='Прайс повний'!G301 -> компл. | H27: ='Прайс повний'!I301 -> 3300 | I27: ='Прайс повний'!J301 -> 3300
B28: ='Прайс повний'!B302 -> 43/6 | C28: ='Прайс повний'!C302 -> Ni | D28: ='Прайс повний'!E302 -> Комплект заземлення R6m-Ni | E28: ='Прайс повний'!A302 -> 43060 | F28: ='Прайс повний'!F302 -> Склад комплекту: стержень заземлення d16мм -4 шт, наконечник-1 шт, муфта заземлення-4 шт, болт для забивання стержнів-1 шт, затискач прут d16/дріт d8-10-1 шт, стрічка гідроізоляціна-1 шт, антикорозійна паста-1шт. | G28: ='Прайс повний'!G302 -> компл. | H28: ='Прайс повний'!I302 -> 4250 | I28: ='Прайс повний'!J302 -> 4250
B29: ='Прайс повний'!B303 -> 43/7,5 | C29: ='Прайс повний'!C303 -> Ni | D29: ='Прайс повний'!E303 -> Комплект заземлення R7,5m-Ni | E29: ='Прайс повний'!A303 -> 43075 | F29: ='Прайс повний'!F303 -> Склад комплекту: стержень заземлення d16мм -5 шт, наконечник-1 шт, муфта заземлення-5 шт, болт для забивання стержнів-1 шт, затискач прут d16/дріт d8-10-1 шт, стрічка гідроізоляціна-1 шт, тантикорозійна паста-1шт. | G29: ='Прайс повний'!G303 -> компл. | H29: ='Прайс повний'!I303 -> 5200 | I29: ='Прайс повний'!J303 -> 5200
B30: ='Прайс повний'!B304 -> 43/9 | C30: ='Прайс повний'!C304 -> Ni | D30: ='Прайс повний'!E304 -> Комплект заземлення R9m-Ni | E30: ='Прайс повний'!A304 -> 43090 | F30: ='Прайс повний'!F304 -> Склад комплекту: стержень заземлення-6 шт, наконечник-1 шт, муфта заземлення-6 шт, болт для забивання стержнів-1 шт, затискач прут d16/дріт d8-10-1 шт, стрічка гідроізоляціна-1 шт, антикорозійна паста-1шт. | G30: ='Прайс повний'!G304 -> компл. | H30: ='Прайс повний'!I304 -> 6100 | I30: ='Прайс повний'!J304 -> 6100
B31: ='Прайс повний'!B305 -> 43/10,5 | C31: ='Прайс повний'!C305 -> Ni | D31: ='Прайс повний'!E305 -> Комплект заземлення R10,5m-Ni | E31: ='Прайс повний'!A305 -> 43105 | F31: ='Прайс повний'!F305 -> Склад комплекту: стержень заземлення-7 шт, наконечник-1 шт, муфта заземлення-7 шт, болт для забивання стержнів-1 шт, затискач прут d16/дріт d8-10-1 шт, стрічка гідроізоляціна-1 шт, антикорозійна паста-1шт. | G31: ='Прайс повний'!G305 -> компл. | H31: ='Прайс повний'!I305 -> 7050 | I31: ='Прайс повний'!J305 -> 7050
B32: ='Прайс повний'!B306 -> 43/12 | C32: ='Прайс повний'!C306 -> Ni | D32: ='Прайс повний'!E306 -> Комплект заземлення R12m-Ni | E32: ='Прайс повний'!A306 -> 43120 | F32: ='Прайс повний'!F306 -> Склад комплекту: стержень заземлення-8 шт, наконечник-1 шт, муфта заземлення-8 шт, болт для забивання стержнів-1 шт, затискач прут d16/дріт d8-10-1 шт, стрічка гідроізоляціна-1 шт, антикорозійна паста-1шт. | G32: ='Прайс повний'!G306 -> компл. | H32: ='Прайс повний'!I306 -> 8000 | I32: ='Прайс повний'!J306 -> 8000
B33: ='Прайс повний'!B307 -> 43/13,5 | C33: ='Прайс повний'!C307 -> Ni | D33: ='Прайс повний'!E307 -> Комплект заземлення R13,5m-Ni | E33: ='Прайс повний'!A307 -> 43135 | F33: ='Прайс повний'!F307 -> Склад комплекту: стержень заземлення-9 шт, наконечник-1 шт, муфта заземлення-9 шт, болт для забивання стержнів-1 шт, затискач прут d16/дріт d8-10-1 шт, стрічка гідроізоляціна-1 шт, антикорозійна паста-1шт. | G33: ='Прайс повний'!G307 -> компл. | H33: ='Прайс повний'!I307 -> 8900 | I33: ='Прайс повний'!J307 -> 8900
B34: ='Прайс повний'!B308 -> 43/15 | C34: ='Прайс повний'!C308 -> Ni | D34: ='Прайс повний'!E308 -> Комплект заземлення R15m-Ni | E34: ='Прайс повний'!A308 -> 13150 | F34: ='Прайс повний'!F308 -> Склад комплекту: стержень заземлення-10 шт, наконечник-2 шт, муфта заземлення-10 шт, болт для забивання стержнів-2 шт, затискач прут d16/дріт d8-10-2 шт, стрічка гідроізоляціна-1 шт, антикорозійна паста-1шт. | G34: ='Прайс повний'!G308 -> компл. | H34: ='Прайс повний'!I308 -> 10200 | I34: ='Прайс повний'!J308 -> 10200
A35: КОМПЛЕКТИ ЗАЗЕМЛЕННЯ ОБМІДНЕНІ (Виробник CBM Польща)
C36: Cu | D36: ='Прайс повний'!E309 -> Комплект заземлення R3m-Cu | E36: 44030 | F36: Склад комплекту: стержень заземлення d14,2 мм обміднений-2 шт, наконечник-1 шт, муфта заземлення-2 шт, болт для забивання стержнів-1 шт, Затискач прут d16/смуга/дріт d8-10 (нержавійка) - 1 шт, стрічка гідроізоляційна-3м, токопровідна паста -1шт. | G36: компл. | H36: ='Прайс повний'!I309 -> 3000 | I36: ='Прайс повний'!J309 -> 3000
A37: #VALUE! | C37: Cu | D37: ='Прайс повний'!E310 -> Комплект заземлення R4,5m-Cu | E37: 44045 | F37: Склад комплекту: стержень заземлення d14,2 мм обміднений-3 шт, наконечник-1 шт, муфта заземлення-3 шт, болт для забивання стержнів-1 шт, Затискач прут d16/смуга/дріт d8-10 (нержавійка) - 1 шт, стрічка гідроізоляційна-3м, токопровідна паста -1шт. | G37: компл. | H37: ='Прайс повний'!I310 -> 4200 | I37: ='Прайс повний'!J310 -> 4200
A38: #VALUE! | C38: Cu | D38: ='Прайс повний'!E311 -> Комплект заземлення R6m-Cu | E38: 44060 | F38: Склад комплекту: стержень заземлення d14,2 мм обміднений-4 шт, наконечник-1 шт, муфта заземлення-4 шт, болт для забивання стержнів-1 шт, затискач прут d16/смуга/дріт d8-10 (нержавійка)-1 шт, стрічка гідроізоляційна-3м, токопровідна паста -1шт. | G38: компл. | H38: ='Прайс повний'!I311 -> 5350 | I38: ='Прайс повний'!J311 -> 5350
A39: #VALUE! | C39: Cu | D39: ='Прайс повний'!E312 -> Комплект заземлення R7,5m-Cu | E39: 44075 | F39: Склад комплекту: стержень заземлення d14,2 мм обміднений-5 шт, наконечник-1 шт, муфта заземлення-5 шт, болт для забивання стержнів-1 шт, затискач прут d16/смуга/дріт d8-10 (нержавійка)-1 шт, стрічка гідроізоляційна-3м, токопровідна паста -1шт. | G39: компл. | H39: ='Прайс повний'!I312 -> 6500 | I39: ='Прайс повний'!J312 -> 6500
A40: #VALUE! | C40: Cu | D40: ='Прайс повний'!E313 -> Комплект заземлення R9m-Cu | E40: 44090 | F40: Склад комплекту: стержень заземлення d14,2 мм обміднений-6 шт, наконечник-1 шт, муфта заземлення-6 шт, болт для забивання стержнів-1 шт, затискач прут d16/смуга/дріт d8-10 (нержавійка)-1 шт, стрічка гідроізоляційна-3м, токопровідна паста -1шт. | G40: компл. | H40: ='Прайс повний'!I313 -> 7650 | I40: ='Прайс повний'!J313 -> 7650
C41: Cu | D41: ='Прайс повний'!E314 -> Комплект заземлення R10,5m-Cu | E41: 44105 | F41: Склад комплекту: стержень заземлення d14,2 мм обміднений-7 шт, наконечник-1 шт, муфта заземлення-7 шт, болт для забивання стержнів-1 шт, затискач прут d16/смуга/дріт d8-10 (нержавійка)-1 шт, стрічка гідроізоляційна-3м, токопровідна паста -1шт. | G41: компл. | H41: ='Прайс повний'!I314 -> 8800 | I41: ='Прайс повний'!J314 -> 8800
C42: Cu | D42: ='Прайс повний'!E315 -> Комплект заземлення R12m-Cu | E42: 44120 | F42: Склад комплекту: стержень заземлення d14,2 мм обміднений-8 шт, наконечник-1 шт, муфта заземлення-8 шт, болт для забивання стержнів-1 шт, затискач прут d16/смуга/дріт d8-10 (нержавійка)-1 шт, стрічка гідроізоляційна-3м, токопровідна паста -1шт. | G42: компл. | H42: ='Прайс повний'!I315 -> 9900 | I42: ='Прайс повний'!J315 -> 9900
C43: Cu | D43: ='Прайс повний'!E316 -> Комплект заземлення R13,5m-Cu | E43: 44135 | F43: Склад комплекту: стержень заземлення d14,2 мм обміднений-9 шт, наконечник-1 шт, муфта заземлення-9 шт, болт для забивання стержнів-1 шт, затискач прут d16/смуга/дріт d8-10 (нержавійка)-1 шт, стрічка гідроізоляційна-3м, токопровідна паста -1шт. | G43: компл. | H43: ='Прайс повний'!I316 -> 11100 | I43: ='Прайс повний'!J316 -> 11100
C44: Cu | D44: ='Прайс повний'!E317 -> Комплект заземлення R15m-Cu | E44: 44150 | F44: Склад комплекту: стержень заземлення d14,2 мм обміднений-10 шт, наконечник-2 шт, муфта заземлення-10 шт, болт для забивання стержнів-2 шт, затискач прут d16/смуга/дріт d8-10 (нержавійка)-2 шт, стрічка гідроізоляційна-3м, токопровідна паста -1шт. | G44: компл. | H44: ='Прайс повний'!I317 -> 12600 | I44: ='Прайс повний'!J317 -> 12600
A45: КОМПЛЕКТУЮЧІ ДЛЯ ЗАЗЕМЛЕННЯ
C46: Fe | D46: Болт для забивання стержнів | E46: 40 020 | F46: Надміцна сталь, зовнішня різьба М16, під насадку SDS-max для вібромолота | G46: шт. | H46: ='Прайс повний'!I319 -> 48.33 | I46: ='Прайс повний'!J319 -> 48.33
B47: 42/16 | C47: OC | D47: Муфта заземлення | E47: 40 030 | F47: Сталь гальванічно оцинкована,з внутрішньою різьбою М16 | G47: шт. | H47: ='Прайс повний'!I320 -> 119.78 | I47: ='Прайс повний'!J320 -> 119.78
B48: ='Прайс повний'!B321 -> 43/16 | C48: ='Прайс повний'!C314 -> Cu | D48: ='Прайс повний'!E321 -> Муфта заземлення NI | E48: 43 010 | F48: ='Прайс повний'!F321 -> Нержавіюча сталь, з внутрішньою різьбою М16 | G48: шт. | H48: ='Прайс повний'!I321 -> 222 | I48: ='Прайс повний'!J321 -> 222
B49: 46/16 | C49: ОС | D49: Муфта заземлення шестигранна | E49: 40 036 | F49: Сталь гальванічно оцинкована,з внутрішньою різьбою М16 | G49: шт. | H49: ='Прайс повний'!I322 -> 71.78 | I49: ='Прайс повний'!J322 -> 71.78
B50: 40/16 ОС | C50: ОС | D50: Стержень заземлення D16mm | E50: 40 010 | F50: ='Прайс повний'!F325 -> Сталь гальванічно оцинкована, довжина 1,5 м, діаметр 16 мм, із зовнішньою різьбою з обох кінців | G50: шт. | H50: ='Прайс повний'!I323 -> 468.59 | I50: ='Прайс повний'!J323 -> 468.59
C51: ОС | D51: Стержень заземлення D20mm | E51: 40010/2 | F51: Сталь гальванічно оцинкована, довжина 1,5 м, діаметр 20 мм, із зовнішньою різьбою з обох кінців | G51: шт. | H51: ='Прайс повний'!I324 -> 590.49 | I51: ='Прайс повний'!J324 -> 590.49
B52: 41/01 | C52: Ni | D52: Стержень заземлення Ni D16mm | E52: 43 020 | F52: Нержавіюча сталь, довжина 1,5 м, діаметр 16 мм, із зовнішньою різьбою з обох кінців | G52: шт. | H52: ='Прайс повний'!I325 -> 717.04 | I52: ='Прайс повний'!J325 -> 717.04
B53: 43/16 | C53: Fe | D53: Наконечник для звичайних грунтів | E53: 40 040 | F53: ='Прайс повний'!F326 -> Надміцна сталь, з внутрішньою різьбою М16, полегшує занурення першого стержня в грунт | G53: шт. | H53: ='Прайс повний'!I326 -> 77.72 | I53: ='Прайс повний'!J326 -> 77.72
B54: 41/01 | C54: Fe | D54: ='Прайс повний'!E327 -> Насадка SDS-max для вібромолота | E54: 41 001 | F54: ='Прайс повний'!F327 -> Сталь надміцна | G54: шт. | H54: ='Прайс повний'!I327 -> 491.34 | I54: ='Прайс повний'!J327 -> 491.34
B55: 41/01/1 | C55: ='Прайс повний'!C329 -> Fe | D55: ='Прайс повний'!E328 -> Насадка HEX для вібромолота | E55: 41 001/1 | F55: ='Прайс повний'!F328 -> Сталь надміцна | G55: шт. | H55: ='Прайс повний'!I328 -> 1000 | I55: ='Прайс повний'!J328 -> 1000
C56: Fe | D56: Болт для забивання обміднених стержнів | E56: 40024 | F56: Надміцна сталь, зовнішня різьба 5/8'', під насадку SDS-max для вібромолота | G56: шт. | H56: ='Прайс повний'!I329 -> 137.5 | I56: ='Прайс повний'!J329 -> 137.5
C57: Cu | D57: Стрижень обміднений Ankor | E57: 40142 | F57: Сталь гальванічно оміднена, із зовнішньою різьбою з обох кінців, товщина покриття понад 250 мкм, діаметр 14,2 мм, 5/8", 0,25mm, довжина 1.5 m. | G57: шт. | H57: ='Прайс повний'!I330 -> 687.86 | I57: ='Прайс повний'!J330 -> 687.86
C58: Cu | D58: Стрижень обміднений CBM | E58: 40144 | F58: Сталь гальванічно оміднена, із зовнішньою різьбою з обох кінців, товщина покриття понад 250 мкм, діаметр 14,2 мм, 5/8", 0,25mm, довжина 1.5 m. | G58: шт. | H58: ='Прайс повний'!I331 -> 911.4 | I58: ='Прайс повний'!J331 -> 911.4
C59: CuZn | D59: Муфта латунна 5/8" | E59: 40143 | F59: Муфта латунна призначена для з'єднання стержнів заземлення | G59: шт. | H59: ='Прайс повний'!I332 -> 244.65 | I59: ='Прайс повний'!J332 -> 244.65
D60: ='Прайс повний'!E333 -> Стрічка антикорозійна 10м | E60: 40070 | F60: ='Прайс повний'!F333 -> Клейка стрічка для гідроізоляції та антикорозійного захисту місць з'єднань в землі. Довжина 10 метрів. | G60: м.п. | H60: ='Прайс повний'!I333 -> 555 | I60: ='Прайс повний'!J333 -> 555
D61: ='Прайс повний'!E334 -> Стрічка гідроізоляційна 3м | F61: ='Прайс повний'!F334 -> При використанні рекомендується попередньо розтягнути стрічку в 3 рази для досягнення найкращого прилягання і створення якісного захисту. Ширина: 50 мм Товщина: 1.65 мм | G61: м.п. | H61: ='Прайс повний'!I334 -> 220 | I61: ='Прайс повний'!J334 -> 220
D62: ='Прайс повний'!E335 -> Антикорозійна струмопровідна паста 50 мл. | E62: 40 072 | F62: ='Прайс повний'!F335 -> Паста для використання при монтажі заземлення. | G62: шт. | H62: ='Прайс повний'!I335 -> 90 | I62: ='Прайс повний'!J335 -> 90
C63: ='Прайс повний'!C336 -> латунь / АБС-пластмаса | D63: ='Прайс повний'!E336 -> Шина зрівнювання потенціалів | F63: ='Прайс повний'!F336 -> Призначена для електричної комутації та механічної фіксації нульових, фазних і провідників заземлення | G63: шт. | H63: ='Прайс повний'!I336 -> 712 | I63: ='Прайс повний'!J336 -> 712
B64: ='Прайс повний'!D337 -> 68/3 PL | C64: ='Прайс повний'!C337 -> PL | D64: ='Прайс повний'!E337 -> Ревізійний колодязь | E64: ='Прайс повний'!A337 -> 68030 | F64: ='Прайс повний'!F337 -> Колодязь для контрольного ревізійного з'єднання в землі. 200*200*165mm | G64: шт. | H64: ='Прайс повний'!I337 -> 856.8 | I64: ='Прайс повний'!J337 -> 856.8
B65: ='Прайс повний'!D338 -> Ni | C65: ='Прайс повний'!C338 -> Ni | D65: ='Прайс повний'!E338 -> Ревізійний колодязь з нержавійки | E65: ='Прайс повний'!A338 -> 905023 | F65: ='Прайс повний'!F338 -> Використовується на ділянках з невеликим дорожнім рухом, пішоходна зона тощо. 210х210х120 | G65: шт. | H65: ='Прайс повний'!I338 -> 5355 | I65: ='Прайс повний'!J338 -> 5355
B66: ='Прайс повний'!D339 -> 68/4 PL | C66: ='Прайс повний'!C339 -> PL | D66: ='Прайс повний'!E339 -> Коробка монтажна ABS 150x150x70 ІР65 | E66: ='Прайс повний'!A339 -> 150150 | F66: ='Прайс повний'!F339 -> Коробка монтажна ABS 150*150*70, ІР65 | G66: шт. | H66: ='Прайс повний'!I339 -> 299 | I66: ='Прайс повний'!J339 -> 299
B67: ПРОВІДНИКИ
C68: OCH | D68: ='Прайс повний'!E345 -> Смуга TSO 25х4 | E68: 40090 | F68: Сталь плоска 25х4 гарячооцинкована, 1 м.п. = 0,8 кг, 1 кг = 1,25 м.п. | G68: м.п. | H68: ='Прайс повний'!I345 -> 124.8 | I68: ='Прайс повний'!J345 -> 124.8
C69: OCH | D69: ='Прайс повний'!E346 -> Смуга TSO 30х3,5 | E69: 40091 | F69: Сталь плоска 30х3,5 гарячооцинкована, 1 м.п. = 0,84 кг, 1 кг = 1,19 м.п. | G69: м.п. | H69: ='Прайс повний'!I346 -> 131.04 | I69: ='Прайс повний'!J346 -> 131.04
C70: OCH | D70: ='Прайс повний'!E347 -> Смуга TSO 40х4 | E70: 40092 | F70: Сталь плоска 40х4 гарячооцинкована, 1 м.п. = 1,29 кг, 1 кг = 0,78 м.п. | G70: м.п. | H70: ='Прайс повний'!I347 -> 201.24 | I70: ='Прайс повний'!J347 -> 201.24
C71: Cu | D71: ='Прайс повний'!E348 -> Смуга мідна 25*4 | E71: 40093 | F71: ='Прайс повний'!F348 -> Сталь плоска мідна 25*4, 1м.п.=0,89 кг, 1 кг=1,123 м.п. | G71: м.п. | H71: ='Прайс повний'!I348 -> 870.1 | I71: ='Прайс повний'!J348 -> 870.1
C72: Cu | D72: ='Прайс повний'!E349 -> Смуга обміднена 25*4 | E72: 40094 | F72: ='Прайс повний'!F349 -> Сталь плоска 25х4 обміднена, 1 м.п. = 0,8 кг, 1 кг = 1,25 м.п. Товщина покриття мінімум 70мкм | G72: м.п. | H72: ='Прайс повний'!I349 -> 448.41 | I72: ='Прайс повний'!J349 -> 448.41
C73: Cu | D73: ='Прайс повний'!E350 -> Смуга обміднена 40*4 | E73: 40095 | F73: ='Прайс повний'!F350 -> Сталь плоска 40х4 обміднена, 1 м.п. = 1,29 кг, 1 кг = 0,78 м.п. Товщина покриття мінімум 70мкм | G73: м.п. | H73: ='Прайс повний'!I350 -> 770 | I73: ='Прайс повний'!J350 -> 770
C74: Cu | D74: ='Прайс повний'!E351 -> Провід ПВ3 1*6 для заземлення | E74: 01-3185 | F74: ='Прайс повний'!F351 -> Силовий провід з мідної багатодротяної жили перерізом 6 мм. | G74: м.п. | H74: ='Прайс повний'!I351 -> 71.97 | I74: ='Прайс повний'!J351 -> 71.97
C75: Cu | D75: ='Прайс повний'!E352 -> Провід ПВ3 1*10 для заземлення | E75: 01-3110 | F75: ='Прайс повний'!F352 -> Силовий провід з мідної багатодротяної жили перерізом 10 мм. | G75: м.п. | H75: ='Прайс повний'!I352 -> 131.32 | I75: ='Прайс повний'!J352 -> 131.32
C76: Cu | D76: ='Прайс повний'!E353 -> Провід ПВ3 1*16 для заземлення | E76: 01-3116 | F76: ='Прайс повний'!F353 -> Силовий провід з мідної багатодротяної жили перерізом 16 мм. | G76: м.п. | H76: ='Прайс повний'!I353 -> 197.97 | I76: ='Прайс повний'!J353 -> 197.97
C77: Cu | D77: ='Прайс повний'!E354 -> Наконечник мідно-луджений 6/8 | E77: 01-3117 | F77: ='Прайс повний'!F354 -> Кабельний наконечник призначений для обжимання жил мідних та алюмінієвих кабелів методом опресування: січення провідника: 6мм2; матеріал: луджена мідь; діаметр отвору під гвинт: 8 мм | G77: шт. | H77: ='Прайс повний'!I354 -> 30.21 | I77: ='Прайс повний'!J354 -> 30.21
C78: Cu | D78: ='Прайс повний'!E355 -> Наконечник мідно-луджений 10/8 | E78: 01-3118 | F78: ='Прайс повний'!F355 -> Кабельний наконечник призначений для обжимання жил мідних та алюмінієвих кабелів методом опресування: січення провідника: 10мм2; матеріал: луджена мідь; діаметр отвору під гвинт: 8 мм | G78: шт. | H78: ='Прайс повний'!I355 -> 33.55 | I78: ='Прайс повний'!J355 -> 33.55
C79: Cu | D79: ='Прайс повний'!E356 -> Наконечник мідно-луджений 16/8 | E79: 01-3119 | F79: ='Прайс повний'!F356 -> Кабельний наконечник призначений для обжимання жил мідних та алюмінієвих кабелів методом опресування: січення провідника: 16мм2; матеріал: луджена мідь; діаметр отвору під гвинт: 8 мм | G79: шт. | H79: ='Прайс повний'!I356 -> 42.48 | I79: ='Прайс повний'!J356 -> 42.48
E80: ЗАТИСКАЧІ ДЛЯ ЗАЗЕМЛЕННЯ
B81: ='Прайс повний'!B358 -> 04/16.2 | C81: ='Прайс повний'!C358 -> ОС | D81: ='Прайс повний'!E358 -> Затискач прут d16/смуга | E81: 80051 | F81: ='Прайс повний'!F358 -> Затискач з однієї пластини з вигином під 16 мм товщ. 1,5 мм та однієї плоскої, гальван. оцинк., на чотири болти М8 | G81: шт. | H81: ='Прайс повний'!I358 -> 81.59 | I81: ='Прайс повний'!J358 -> 81.59
B82: ='Прайс повний'!B359 -> 04/16.2 | C82: ='Прайс повний'!C359 -> ОСН | D82: ='Прайс повний'!E359 -> Затискач прут d16/смуга (гар.оцинк.) | E82: 80050 | F82: ='Прайс повний'!F359 -> Затискач з однієї пластини з вигином під 16 мм товщ. 3 мм та однієї плоскої, гарячооцинк., на чотири болти М8 | G82: шт. | H82: ='Прайс повний'!I359 -> 111.5 | I82: ='Прайс повний'!J359 -> 111.5
B83: ='Прайс повний'!B360 -> 04/16.2 | C83: ='Прайс повний'!C360 -> Ni | D83: ='Прайс повний'!E360 -> Затискач прут d16/смуга (нержавійка) | E83: 80053 | F83: ='Прайс повний'!F360 -> Затискач з однієї пластини з вигином під 16 мм товщ. 1,5 мм та однієї плоскої, нерж. сталь, на чотири болти М8 | G83: шт. | H83: ='Прайс повний'!I360 -> 118.94 | I83: ='Прайс повний'!J360 -> 118.94
B84: ='Прайс повний'!B361 -> 04/16.3 | C84: ='Прайс повний'!C361 -> ОС | D84: ='Прайс повний'!E361 -> Затискач прут d16/смуга | E84: 80056 | F84: ='Прайс повний'!F361 -> Затискач з однієї пластини з вигином під 16 мм товщ. 2 мм та двох плоских, гальв. оцинк., на чотири болти М8 | G84: шт. | H84: ='Прайс повний'!I361 -> 101.43 | I84: ='Прайс повний'!J361 -> 101.43
B85: ='Прайс повний'!B361 -> 04/16.3 | C85: ='Прайс повний'!C362 -> ОСН | D85: ='Прайс повний'!E362 -> Затискач прут d16/смуга (гар.оцинк.) | E85: 80055 | F85: ='Прайс повний'!F362 -> Затискач з однієї пластини з вигином під 16 мм товщ. 3 мм та двох плоских, гарячооцинк., на чотири болти М8 | G85: шт. | H85: ='Прайс повний'!I362 -> 137.7 | I85: ='Прайс повний'!J362 -> 137.7
B86: ='Прайс повний'!B363 -> 04/16.3 | C86: ='Прайс повний'!C363 -> Ni | D86: ='Прайс повний'!E363 -> Затискач прут d16/смуга (нержавійка) | E86: 80080 | F86: ='Прайс повний'!F363 -> Затискач з однієї пластини з вигином під 16 мм товщ. 1,5 мм та двох плоских, нержавіюча сталь, на чотири болти М8 | G86: шт. | H86: ='Прайс повний'!I363 -> 151.66 | I86: ='Прайс повний'!J363 -> 151.66
B87: ='Прайс повний'!B364 -> 04/168.3 | C87: ='Прайс повний'!C364 -> ОС | D87: ='Прайс повний'!E364 -> Затискач прут d16/дріт d8-10 | E87: 80020 | F87: ='Прайс повний'!F364 -> Затискач з однієї пластини з вигином під 16 мм, однієї під 8 мм та однієї плоскої, товщ. 2 мм, гальванічно оцинк., на чотири болти М8 | G87: шт. | H87: ='Прайс повний'!I364 -> 104.38 | I87: ='Прайс повний'!J364 -> 104.38
B88: ='Прайс повний'!B364 -> 04/168.3 | C88: ='Прайс повний'!C365 -> ОСH | D88: ='Прайс повний'!E365 -> Затискач прут d16/смуга/дріт d8-10 (гар.оцинк.) | E88: 80040 | F88: ='Прайс повний'!F365 -> Затискач з однієї пластини з вигином під 16 мм товщ. 3 мм, однієї під 8 мм та однієї плоскої, гарячооцинк., на чотири болти М8 | G88: шт. | H88: ='Прайс повний'!I365 -> 135.26 | I88: ='Прайс повний'!J365 -> 135.26
B89: ='Прайс повний'!B366 -> 04/168.3 | C89: ='Прайс повний'!C366 -> Ni | D89: ='Прайс повний'!E366 -> Затискач прут d16/смуга/дріт d8-10 (нержавійка) | E89: 80084 | F89: ='Прайс повний'!F366 -> Затискач з однієї пластини з вигином під 16 мм товщ. 1,5 мм, однієї під 8 мм та однієї плоскої, нержавіюча сталь, на чотири болти М8 | G89: шт. | H89: ='Прайс повний'!I366 -> 166.19 | I89: ='Прайс повний'!J366 -> 166.19
B90: ='Прайс повний'!B367 -> 44/20.2 | C90: ='Прайс повний'!C367 -> ОСН | D90: ='Прайс повний'!E367 -> Затискач прут d16-20/смуга 40 (гар.оцинк.) | E90: ='Прайс повний'!A367 -> 80 450 | F90: ='Прайс повний'!F367 -> Затискач з однієї пластини з вигином під 16-20 мм товщ. 3 мм та однієї плоскої, гарячооцинк., на чотири болти М8 | G90: шт. | H90: ='Прайс повний'!I367 -> 147.15 | I90: ='Прайс повний'!J367 -> 147.15
B91: ='Прайс повний'!B367 -> 44/20.2 | C91: ='Прайс повний'!C368 -> ОСН | D91: ='Прайс повний'!E368 -> Затискач прут d16-20/смуга 40 (гар.оцинк.) | E91: ='Прайс повний'!A368 -> 80 455 | F91: ='Прайс повний'!F368 -> Затискач з однієї пластини з вигином під 16-20 мм товщ. 3 мм та двох плоских, гарячооцинк., на чотири болти М8 | G91: шт. | H91: ='Прайс повний'!I368 -> 179.89 | I91: ='Прайс повний'!J368 -> 179.89
B92: ='Прайс повний'!B369 -> 44/208.2 | C92: ='Прайс повний'!C369 -> ОСН | D92: ='Прайс повний'!E369 -> Затискач прут d16-20/дріт d8-10 (гар.оцинк.) | E92: ='Прайс повний'!A369 -> 80 445 | F92: ='Прайс повний'!F369 -> Затискач з однієї пластини з вигином під 16-20 мм товщ. 3 мм та однієї під 8 мм, гарячооцинк., на чотири болти М8 | G92: шт. | H92: ='Прайс повний'!I369 -> 150.99 | I92: ='Прайс повний'!J369 -> 150.99
B93: ='Прайс повний'!B370 -> 44/208.3 | C93: ='Прайс повний'!C370 -> ОСH | D93: ='Прайс повний'!E370 -> Затискач прут d16-20/смуга 40/дріт d8-10 (гар.оцинк.) | E93: ='Прайс повний'!A370 -> 80 440 | F93: ='Прайс повний'!F370 -> Затискач з однієї пластини з вигином під 16-20 мм товщ. 3 мм, однієї під 8 мм та однієї плоскої, гарячооцинк., на чотири болти М8 | G93: шт. | H93: ='Прайс повний'!I370 -> 179.78 | I93: ='Прайс повний'!J370 -> 179.78
B94: ='Прайс повний'!B371 -> 42/168.3 | C94: ='Прайс повний'!C371 -> ОС | D94: ='Прайс повний'!E371 -> Затискач прут d16-20/смуга 40/дріт d8-10 | E94: ='Прайс повний'!A371 -> 80 220 | F94: ='Прайс повний'!F371 -> Затискач з однієї пластини з вигином під 16-20 мм товщ. 3 мм, однієї під 8-10 мм та однієї плоскої, гальванічно оцинкований, на два болти М10 | G94: шт. | H94: ='Прайс повний'!I371 -> 96.57 | I94: ='Прайс повний'!J371 -> 96.57
B95: ='Прайс повний'!B372 -> 42/168.3 | C95: ='Прайс повний'!C372 -> ОСH | D95: ='Прайс повний'!E372 -> Затискач прут d16-20/смуга 40/дріт d8-10 (гар.оцинк.) | E95: ='Прайс повний'!A372 -> 80 221 | F95: ='Прайс повний'!F372 -> Затискач з однієї пластини з вигином під 16-20 мм товщ. 3 мм, однієї під 8 мм та однієї плоскої, гарячооцинк., на два болти М10 | G95: шт. | H95: ='Прайс повний'!I372 -> 110.29 | I95: ='Прайс повний'!J372 -> 110.29
B96: ='Прайс повний'!B373 -> 42/168.3 | C96: ='Прайс повний'!C373 -> Ni | D96: ='Прайс повний'!E373 -> Затискач прут d16-20/смуга 40/дріт d8-10 (нержавійка) | E96: ='Прайс повний'!A373 -> 80 221 | F96: ='Прайс повний'!F373 -> Затискач з однієї пластини з вигином під 16-20 мм товщ. 3 мм, однієї під 8 мм та однієї плоскої, нержавійка, на два болти М10 | G96: шт. | H96: ='Прайс повний'!I373 -> 277.2 | I96: ='Прайс повний'!J373 -> 277.2
B97: ='Прайс повний'!B374 -> 04/0.2 | C97: ='Прайс повний'!C374 -> ОС | D97: ='Прайс повний'!E374 -> Затискач смуга/смуга | E97: ='Прайс повний'!A374 -> 80 105 | F97: ='Прайс повний'!F374 -> Затискач з двох плоских пластин товщиною 2мм, гальванічно оцинк., на чотири болти М8 | G97: шт. | H97: ='Прайс повний'!I374 -> 85.05 | I97: ='Прайс повний'!J374 -> 85.05
B98: ='Прайс повний'!B375 -> 04/0.2 | C98: ='Прайс повний'!C375 -> OCH | D98: ='Прайс повний'!E375 -> Затискач смуга/смуга (гар.оцинк.) | E98: ='Прайс повний'!A375 -> 80 005 | F98: ='Прайс повний'!F375 -> Затискач з двох плоских пластин товщиною 3мм, гарячооцинк., на чотири болти М8 | G98: шт. | H98: ='Прайс повний'!I375 -> 104.49 | I98: ='Прайс повний'!J375 -> 104.49
B99: ='Прайс повний'!B376 -> 44/0.2 | C99: ='Прайс повний'!C376 -> OC | D99: ='Прайс повний'!E376 -> Затискач смуга/смуга 40 | E99: ='Прайс повний'!A376 -> 80 404 | F99: ='Прайс повний'!F376 -> Затискач з двох плоских пластин товщиною 3мм, гарячооцинк., на чотири болти М8 | G99: шт. | H99: ='Прайс повний'!I376 -> 93.83 | I99: ='Прайс повний'!J376 -> 93.83
B100: ='Прайс повний'!B377 -> 44/0.2 | C100: ='Прайс повний'!C377 -> OCH | D100: ='Прайс повний'!E377 -> Затискач смуга/смуга 40 (гар.оцинк.) | E100: ='Прайс повний'!A377 -> 80 405 | F100: ='Прайс повний'!F377 -> Затискач з двох плоских пластин товщиною 3мм, гарячооцинк., на чотири болти М8 | G100: шт. | H100: ='Прайс повний'!I377 -> 128.37 | I100: ='Прайс повний'!J377 -> 128.37

Sheet Тримачі для Блискавкозахисту
D1: Блискавкозахист та заземлення | G1: =Заземлення!G1 -> Прайс-лист від 20.05.2026р.
D3: +38(067) 314 07 85, +38(097) 095 63 06 | G3: Введіть Вашу знижку %
A4: Вигляд | B4: Код | C4: Матеріал | D4: Назва | E4: Артикул | F4: Опис | G4: Од. вим. | H4: Ціна грн., з ПДВ | I4: Ціна грн., з ПДВ зі знижкою | J4: Введіть потрібну кількість
B5: 01/8 | C5: PL | D5: Тримач пластиковий сірий M8 | E5: 01 010 | F5: Поліамід, колір — сірий, висота монтажу 30 мм, внутрішня різьба М8 | G5: шт. | H5: ='Прайс повний'!I6 -> 17.7 | I5: ='Прайс повний'!J6 -> 17.7
B6: 01/6 | C6: PL G | D6: Тримач пластиковий сірий M6 | E6: 01 020 | F6: Поліамід, висота монтажу 30 мм, внутрішня різьба М6. Варіанти кольорів: сірий, червоний RAL 3011, коричневий RAL 8017, "під мідь", рудий RAL 8004. | G6: шт. | H6: ='Прайс повний'!I7 -> 17.7 | I6: ='Прайс повний'!J7 -> 17.7
C7: PL R | D7: Тримач пластиковий червоний M6 | E7: 01 030 | G7: шт. | H7: ='Прайс повний'!I8 -> 17.7 | I7: ='Прайс повний'!J8 -> 17.7
C8: PL B | D8: Тримач пластиковий коричневий M6 | E8: 01 040 | G8: шт. | H8: ='Прайс повний'!I9 -> 17.7 | I8: ='Прайс повний'!J9 -> 17.7
C9: PL Cu | D9: Тримач пластиковий колір мідь M6 | E9: 01 050 | G9: шт. | H9: ='Прайс повний'!I10 -> 17.7 | I9: ='Прайс повний'!J10 -> 17.7
C10: PL F | D10: ='Прайс повний'!E11 -> Тримач пластиковий рудий M6 | E10: ='Прайс повний'!A11 -> 01 060 | G10: шт. | H10: ='Прайс повний'!I11 -> 17.7 | I10: ='Прайс повний'!J11 -> 17.7
B11: 01/1 | C11: Ni | D11: Тримач дроту Niro | E11: 01 001 | F11: Нержаіюча сталь, висота монтажу 20мм, внутрішня різьба M6, висота тримача 40мм | G11: шт. | H11: ='Прайс повний'!I12 -> 36.76 | I11: ='Прайс повний'!J12 -> 36.76
B12: 01/8.2 | C12: PL ОС | D12: Тримач пластиковий з підставкою | E12: 01 070 | F12: Поліамід, колір — сірий, висота монтажу 30 мм, внутрішня різьба М8 | G12: шт. | H12: ='Прайс повний'!I13 -> 46.88 | I12: ='Прайс повний'!J13 -> 46.88
B13: 01/1.2 | C13: Ni OC | D13: Тримач дроту Niro з підставкою | E13: 01 080 | F13: Нержавіюча сталь, висота монтажу 40мм | G13: шт. | H13: ='Прайс повний'!I14 -> 63.15 | I13: ='Прайс повний'!J14 -> 63.15
B14: ='Прайс повний'!B15 -> 02/8.3 | C14: ='Прайс повний'!C15 -> OC | D14: ='Прайс повний'!E15 -> Тримач дроту металевий | E14: ='Прайс повний'!A15 -> 02 001 | F14: ='Прайс повний'!F15 -> Сталь, гальванічно оцинкована, товщина 2.5 мм | G14: ='Прайс повний'!G15 -> шт. | H14: ='Прайс повний'!I15 -> 59.44 | I14: ='Прайс повний'!J15 -> 59.44
B15: ='Прайс повний'!B16 -> 02/8.3 | C15: ='Прайс повний'!C16 -> Cu | D15: ='Прайс повний'!E16 -> Тримач дроту металевий (мідь) | E15: ='Прайс повний'!A16 -> 02 011 | F15: ='Прайс повний'!F16 -> Мідь, товщина 2,5мм | G15: ='Прайс повний'!G16 -> шт. | H15: ='Прайс повний'!I16 -> 218.59 | I15: ='Прайс повний'!J16 -> 218.59
B16: ='Прайс повний'!B17 -> 02/16.3 | C16: ='Прайс повний'!C17 -> OC | D16: ='Прайс повний'!E17 -> Тримач блискавкоприймача | E16: ='Прайс повний'!A17 -> 02 002 | F16: ='Прайс повний'!F17 -> Сталь, гальванічно оцинкована, товщина 2.5 мм | G16: ='Прайс повний'!G17 -> шт. | H16: ='Прайс повний'!I17 -> 63.24 | I16: ='Прайс повний'!J17 -> 63.24
B17: ='Прайс повний'!B18 -> 02/0.2 | C17: ='Прайс повний'!C18 -> OC | D17: ='Прайс повний'!E18 -> Тримач полоси металевий | E17: ='Прайс повний'!A18 -> 02 003 | F17: ='Прайс повний'!F18 -> Сталь, гальванічно оцинкована, товщина 2.5 мм | G17: ='Прайс повний'!G18 -> шт. | H17: ='Прайс повний'!I18 -> 45.98 | I17: ='Прайс повний'!J18 -> 45.98
B18: ='Прайс повний'!B19 -> 02/0.3 | C18: ='Прайс повний'!C19 -> Cu | D18: ='Прайс повний'!E19 -> Тримач полоси металевий (мідь) | E18: ='Прайс повний'!A19 -> 02 013 | F18: ='Прайс повний'!F19 -> Мідь, товщина 2,5мм | G18: ='Прайс повний'!G19 -> шт. | H18: ='Прайс повний'!I19 -> 205.99 | I18: ='Прайс повний'!J19 -> 205.99
B19: ='Прайс повний'!B20 -> 02/40.2 | C19: ='Прайс повний'!C20 -> OC | D19: ='Прайс повний'!E20 -> Тримач полоси 40мм металевий | E19: ='Прайс повний'!A20 -> 02 004 | F19: ='Прайс повний'!F20 -> Сталь, гальванічно оцинкована, товщина 2.5 мм | G19: ='Прайс повний'!G20 -> шт. | H19: ='Прайс повний'!I20 -> 53.17 | I19: ='Прайс повний'!J20 -> 53.17
B20: ='Прайс повний'!B21 -> 02/8.1 | C20: ='Прайс повний'!C21 -> OC | D20: ='Прайс повний'!E21 -> Скоба тримача дроту | E20: ='Прайс повний'!A21 -> 02 008 | F20: ='Прайс повний'!F21 -> Для кріплення дроту до стіни | G20: ='Прайс повний'!G21 -> шт. | H20: ='Прайс повний'!I21 -> 14.92 | I20: ='Прайс повний'!J21 -> 14.92
B21: ='Прайс повний'!B22 -> 02/16.1 | C21: ='Прайс повний'!C22 -> OC | D21: ='Прайс повний'!E22 -> Скоба тримача блискавкоприймача | E21: ='Прайс повний'!A22 -> 02 016 | F21: ='Прайс повний'!F22 -> Для кріплення блискавкоприймача до стіни | G21: ='Прайс повний'!G22 -> шт. | H21: ='Прайс повний'!I22 -> 15.64 | I21: ='Прайс повний'!J22 -> 15.64
B22: 03/8.3 ОС | C22: ОС | D22: Тримач дроту подовжений | E22: 03 001 | F22: Металевий тримач для дроту довжиною 100мм | G22: ='Прайс повний'!G25 -> шт. | H22: ='Прайс повний'!I23 -> 109.81 | I22: ='Прайс повний'!J23 -> 109.81
B23: 03/16.3 ОС | C23: ОС | D23: Тримач блискавкоприймача подовжений | E23: 03 002 | F23: Тримач для блискавкоприймача довжиною 100 мм | G23: ='Прайс повний'!G26 -> шт. | H23: ='Прайс повний'!I24 -> 113.05 | I23: ='Прайс повний'!J24 -> 113.05
B24: 07/OC | C24: OC | D24: Тримач універсальний | E24: 07 000 | F24: Сталь, гальванічно оцинкована, товщина 2 мм, висота монтажу - 100мм. | G24: шт. | H24: ='Прайс повний'!I25 -> 31.93 | I24: ='Прайс повний'!J25 -> 31.93
C25: OC 8017 | D25: Тримач універсальний коричневий | E25: 07 001 | F25: Сталь, гальванічно оцинкована, товщина 2 мм, висота монтажу - 100мм. Варіанти кольорів: коричневий RAL 8017, червоний RAL 3011, рудий RAL 8004. | G25: шт. | H25: ='Прайс повний'!I26 -> 43.3 | I25: ='Прайс повний'!J26 -> 43.3
C26: OC 3011 | D26: Тримач універсальний червоний | E26: 07 002 | G26: шт. | H26: ='Прайс повний'!I27 -> 43.3 | I26: ='Прайс повний'!J27 -> 43.3
C27: OC 8004 | D27: Тримач універсальний рудий | E27: 07 003 | G27: шт. | H27: ='Прайс повний'!I28 -> 43.3 | I27: ='Прайс повний'!J28 -> 43.3
B28: ='Прайс повний'!B29 -> 07 | C28: ='Прайс повний'!C29 -> CU | D28: ='Прайс повний'!E29 -> Тримач універсальний мідний | E28: ='Прайс повний'!A29 -> 07 100 | F28: Мідь, товщина 1,5 мм, висота монтажу - 100мм | G28: шт. | H28: ='Прайс повний'!I29 -> 199 | I28: ='Прайс повний'!J29 -> 199
B29: 07/S | C29: OC | D29: Тримач універсальний скручений | E29: 07 800 | F29: Сталь, гальванічно оцинкована, товщина 2 мм, з замком на два болти М6, висота монтажу - 100мм | G29: шт. | H29: ='Прайс повний'!I30 -> 45.3 | I29: ='Прайс повний'!J30 -> 45.3
C30: OC 8017 | D30: Тримач універсальний скручений коричневий | E30: 07 801 | F30: Сталь, гальванічно оцинкована, товщина 2 мм, з замком на два болти М6, висота монтажу - 100мм. Варіанти кольорів: коричневий RAL 8017, червоний RAL 3011, рудий RAL 8004. | G30: шт. | H30: ='Прайс повний'!I31 -> 55.72 | I30: ='Прайс повний'!J31 -> 55.72
C31: OC 3011 | D31: Тримач універсальний скручений червоний | E31: 07 802 | G31: шт. | H31: ='Прайс повний'!I32 -> 55.72 | I31: ='Прайс повний'!J32 -> 55.72
C32: OC 8004 | D32: Тримач універсальний скручений рудий | E32: 07 803 | G32: шт. | H32: ='Прайс повний'!I33 -> 55.72 | I32: ='Прайс повний'!J33 -> 55.72
B33: 01/8.3 | C33: ОС, PL | D33: Тримач дроту пластиковий подовжений | E33: 01 080 | F33: Пластиковий тримач для дроту 8-10мм, довжиною 100мм | G33: шт. | H33: ='Прайс повний'!I34 -> 77.89 | I33: ='Прайс повний'!J34 -> 77.89
B34: ='Прайс повний'!B35 -> 01/8/10 | C34: ='Прайс повний'!C35 -> OC, PL | D34: ='Прайс повний'!E35 -> Тримач дроту з дюбелем 100 | E34: ='Прайс повний'!A35 -> 01 100 | F34: Сталь, гальванічно оцинкована, довжина 100 мм, 140 мм, 200 мм, 250 мм, 300мм, з різьбою під дюбель. В комплекті дюбель 12х60 | G34: шт. | H34: ='Прайс повний'!I35 -> 32.12 | I34: ='Прайс повний'!J35 -> 32.12
B35: ='Прайс повний'!B36 -> 01/8/14 | C35: ='Прайс повний'!C36 -> OC, PL | D35: ='Прайс повний'!E36 -> Тримач дроту з дюбелем 140 | E35: ='Прайс повний'!A36 -> 01 140 | G35: шт. | H35: ='Прайс повний'!I36 -> 35.45 | I35: ='Прайс повний'!J36 -> 35.45
B36: ='Прайс повний'!B37 -> 01/8/20 | C36: ='Прайс повний'!C37 -> OC, PL | D36: ='Прайс повний'!E37 -> Тримач дроту з дюбелем 200 | E36: ='Прайс повний'!A37 -> 01 200 | G36: шт. | H36: ='Прайс повний'!I37 -> 43.16 | I36: ='Прайс повний'!J37 -> 43.16
B37: ='Прайс повний'!B38 -> 01/8/25 | C37: ='Прайс повний'!C38 -> OC, PL | D37: ='Прайс повний'!E38 -> Тримач дроту з дюбелем 250 | E37: ='Прайс повний'!A38 -> 01 250 | G37: шт. | H37: ='Прайс повний'!I38 -> 49.63 | I37: ='Прайс повний'!J38 -> 49.63
B38: ='Прайс повний'!B39 -> 01/8/30 | C38: ='Прайс повний'!C39 -> OC, PL | D38: ='Прайс повний'!E39 -> Тримач дроту з дюбелем 300 | E38: ='Прайс повний'!A39 -> 01 300 | G38: шт. | H38: ='Прайс повний'!I39 -> 57.07 | I38: ='Прайс повний'!J39 -> 57.07
B39: ='Прайс повний'!B40 -> 02/8/10 | C39: ='Прайс повний'!C40 -> OC | D39: ='Прайс повний'!E40 -> Тримач дроту металевий з дюбелем 100 | E39: ='Прайс повний'!A40 -> 02 101 | F39: Сталь, гальванічно оцинкована, довжина 100 мм, 140 мм, 200 мм, 250мм, 300мм, з різьбою під дюбель. В комплекті дюбель 12х60 | G39: шт. | H39: ='Прайс повний'!I40 -> 66.33 | I39: ='Прайс повний'!J40 -> 66.33
B40: ='Прайс повний'!B41 -> 02/8/14 | C40: ='Прайс повний'!C41 -> ОС | D40: ='Прайс повний'!E41 -> Тримач дроту металевий з дюбелем 140 | E40: ='Прайс повний'!A41 -> 02 141 | G40: шт. | H40: ='Прайс повний'!I41 -> 74.14 | I40: ='Прайс повний'!J41 -> 74.14
B41: ='Прайс повний'!B42 -> 02/8/20 | C41: ='Прайс повний'!C42 -> ОС | D41: ='Прайс повний'!E42 -> Тримач дроту металевий з дюбелем 200 | E41: ='Прайс повний'!A42 -> 02 201 | G41: шт. | H41: ='Прайс повний'!I42 -> 79.59 | I41: ='Прайс повний'!J42 -> 79.59
B42: ='Прайс повний'!B43 -> 02/8/25 | C42: ='Прайс повний'!C43 -> ОС | D42: ='Прайс повний'!E43 -> Тримач дроту металевий з дюбелем 250 | E42: ='Прайс повний'!A43 -> 02 251 | G42: шт. | H42: ='Прайс повний'!I43 -> 86.7 | I42: ='Прайс повний'!J43 -> 86.7
B43: ='Прайс повний'!B44 -> 02/8/30 | C43: ='Прайс повний'!C44 -> ОС | D43: ='Прайс повний'!E44 -> Тримач дроту металевий з дюбелем 300 | E43: ='Прайс повний'!A44 -> 02 301 | G43: шт. | H43: ='Прайс повний'!I44 -> 89.4 | I43: ='Прайс повний'!J44 -> 89.4
B44: ='Прайс повний'!B45 -> 02/16/10 | C44: ='Прайс повний'!C45 -> ОС | D44: ='Прайс повний'!E45 -> Тримач блискавкоприймача з дюбелем 100 | E44: ='Прайс повний'!A45 -> 02 102 | F44: Сталь, гальванічно оцинкована, довжина 100 мм, 140 мм, 200 мм, 250 мм, 300 мм, з різьбою під дюбель. В комплекті дюбель 12х60 | G44: шт. | H44: ='Прайс повний'!I45 -> 74.59 | I44: ='Прайс повний'!J45 -> 74.59
B45: ='Прайс повний'!B46 -> 02/16/14 | C45: ='Прайс повний'!C46 -> ОС | D45: ='Прайс повний'!E46 -> Тримач блискавкоприймача з дюбелем 140 | E45: ='Прайс повний'!A46 -> 02 142 | G45: шт. | H45: ='Прайс повний'!I46 -> 79.36 | I45: ='Прайс повний'!J46 -> 79.36
B46: ='Прайс повний'!B47 -> 02/16/20 | C46: ='Прайс повний'!C47 -> ОС | D46: ='Прайс повний'!E47 -> Тримач блискавкоприймача з дюбелем 200 | E46: ='Прайс повний'!A47 -> 02 202 | G46: шт. | H46: ='Прайс повний'!I47 -> 83.92 | I46: ='Прайс повний'!J47 -> 83.92
B47: ='Прайс повний'!B48 -> 02/16/25 | C47: ='Прайс повний'!C48 -> ОС | D47: ='Прайс повний'!E48 -> Тримач блискавкоприймача з дюбелем 250 | E47: ='Прайс повний'!A48 -> 02 252 | G47: шт. | H47: ='Прайс повний'!I48 -> 90.5 | I47: ='Прайс повний'!J48 -> 90.5
B48: ='Прайс повний'!B49 -> 02/16/30 | C48: ='Прайс повний'!C49 -> ОС | D48: ='Прайс повний'!E49 -> Тримач блискавкоприймача з дюбелем 300 | E48: ='Прайс повний'!A49 -> 02 302 | G48: шт. | H48: ='Прайс повний'!I49 -> 94.15 | I48: ='Прайс повний'!J49 -> 94.15
B49: ='Прайс повний'!B50 -> 02/0/10 | C49: ='Прайс повний'!C50 -> ОС | D49: ='Прайс повний'!E50 -> Тримач полоси металевий з дюбелем 100 | E49: ='Прайс повний'!A50 -> 02 103 | F49: Сталь, гальванічно оцинкована, довжина 100 мм, 140 мм, 200 мм, 250 мм, 300 мм, з різьбою під дюбель. В комплекті дюбель 12х60 | G49: шт. | H49: ='Прайс повний'!I50 -> 61.91 | I49: ='Прайс повний'!J50 -> 61.91
B50: ='Прайс повний'!B51 -> 02/0/14 | C50: ='Прайс повний'!C51 -> ОС | D50: ='Прайс повний'!E51 -> Тримач полоси металевий з дюбелем 140 | E50: ='Прайс повний'!A51 -> 02 143 | G50: шт. | H50: ='Прайс повний'!I51 -> 65.97 | I50: ='Прайс повний'!J51 -> 65.97
B51: ='Прайс повний'!B52 -> 02/0/20 | C51: ='Прайс повний'!C52 -> ОС | D51: ='Прайс повний'!E52 -> Тримач полоси металевий з дюбелем 200 | E51: ='Прайс повний'!A52 -> 02 203 | G51: шт. | H51: ='Прайс повний'!I52 -> 73.22 | I51: ='Прайс повний'!J52 -> 73.22
B52: ='Прайс повний'!B53 -> 02/0/25 | C52: ='Прайс повний'!C53 -> ОС | D52: ='Прайс повний'!E53 -> Тримач полоси металевий з дюбелем 250 | E52: ='Прайс повний'!A53 -> 02 253 | G52: шт. | H52: ='Прайс повний'!I53 -> 76.58 | I52: ='Прайс повний'!J53 -> 76.58
B53: ='Прайс повний'!B54 -> 02/0/30 | C53: ='Прайс повний'!C54 -> ОС | D53: ='Прайс повний'!E54 -> Тримач полоси металевий з дюбелем 300 | E53: ='Прайс повний'!A54 -> 02 303 | G53: шт. | H53: ='Прайс повний'!I54 -> 79.83 | I53: ='Прайс повний'!J54 -> 79.83
B54: 10/ОС | C54: ОС PL | D54: Тримач коньковий півкруглий з пластиком | E54: 10 010 | F54: Сталь, гальванічно оцинкована, з пластиковим тримачем сірого кольору | G54: шт. | H54: ='Прайс повний'!I55 -> 97.46 | I54: ='Прайс повний'!J55 -> 97.46
C55: ОС PL 8017 | D55: Тримач коньковий півкруглий з пластиком коричневий | E55: 10 020 | F55: Сталь, гальванічно оцинкована і лакована. Варіанти кольорів: коричневий RAL 8017, червоний RAL 3011, рудий RAL 8004. | G55: шт. | H55: ='Прайс повний'!I56 -> 121.08 | I55: ='Прайс повний'!J56 -> 121.08
C56: ОС PL 3011 | D56: Тримач коньковий півкруглий з пластиком червоний | E56: 10 030 | G56: шт. | H56: ='Прайс повний'!I57 -> 121.08 | I56: ='Прайс повний'!J57 -> 121.08
C57: ОС PL 8004 | D57: Тримач коньковий півкруглий з пластиком рудий | E57: 10 040 | G57: шт. | H57: ='Прайс повний'!I58 -> 121.08 | I57: ='Прайс повний'!J58 -> 121.08
B58: 10/Cu PL | C58: Cu PL | D58: Тримач коньковий півкруглий з пластиком | E58: 10 060 | F58: Мідь, з пластиковим тримачем кольору міді | G58: шт. | H58: ='Прайс повний'!I59 -> 509 | I58: ='Прайс повний'!J59 -> 509
B59: 10/1 Ni | C59: Ni | D59: Тримач коньковий півкруглий з Niro (нерж.) | E59: 10 001 | F59: Нержавіюча сталь, з тримачем Niro | G59: шт. | H59: ='Прайс повний'!I60 -> 153.93 | I59: ='Прайс повний'!J60 -> 153.93
B60: 10/07 | C60: OC | D60: Тримач коньковий півкруглий універсальний | E60: 10 070 | F60: Сталь, гальванічно оцинкована, з універсальним тримачем | G60: шт. | H60: ='Прайс повний'!I61 -> 104.63 | I60: ='Прайс повний'!J61 -> 104.63
C61: OC 8017 | D61: Тримач коньковий півкруглий універсальний коричневий | E61: 10 071 | F61: Сталь, гальванічно оцинкована, з універсальним тримачем. Варіанти кольорів: коричневий RAL 8017, червоний RAL 3011, рудий RAL 8004. | G61: шт. | H61: ='Прайс повний'!I62 -> 140.15 | I61: ='Прайс повний'!J62 -> 140.15
C62: OC 3011 | D62: Тримач коньковий півкруглий універсальний червоний | E62: 10 072 | G62: шт. | H62: ='Прайс повний'!I63 -> 140.15 | I62: ='Прайс повний'!J63 -> 140.15
C63: OC 8004 | D63: Тримач коньковий півкруглий універсальний рудий | E63: 10 073 | G63: шт. | H63: ='Прайс повний'!I64 -> 140.15 | I63: ='Прайс повний'!J64 -> 140.15
C64: CU | D64: Тримач коньковий півкруглий універсальний мідний | E64: 10 170 | F64: Мідь, з універсальним мідним тримачем | G64: шт. | H64: ='Прайс повний'!I65 -> 744.59 | I64: ='Прайс повний'!J65 -> 744.59
B65: 10/07s | C65: OC | D65: Тримач коньковий півкруглий універсальний скручений | E65: 10 870 | F65: Сталь, гальванічно оцинкована, з універсальним скрученим тримачем | G65: шт. | H65: ='Прайс повний'!I66 -> 106.99 | I65: ='Прайс повний'!J66 -> 106.99
C66: OC 8017 | D66: Тримач коньковий півкруглий універсальний скручений коричневий | E66: 10 871 | F66: Сталь, гальванічно оцинкована, з універсальним скрученим тримачем. Варіанти кольорів: коричневий RAL 8017, червоний RAL 3011, рудий RAL 8004. | G66: шт. | H66: ='Прайс повний'!I67 -> 148.49 | I66: ='Прайс повний'!J67 -> 148.49
C67: OC 3011 | D67: Тримач коньковий півкруглий універсальний скручений червоний | E67: 10 872 | G67: шт. | H67: ='Прайс повний'!I68 -> 148.49 | I67: ='Прайс повний'!J68 -> 148.49
C68: OC 8004 | D68: Тримач коньковий півкруглий універсальний скручений рудий | E68: 10 873 | G68: шт. | H68: ='Прайс повний'!I69 -> 148.49 | I68: ='Прайс повний'!J69 -> 148.49
B69: 20/OC | C69: OC PL | D69: Тримач коньковий кутовий з пластиком | E69: 20 010 | F69: Сталь, гальванічно оцинкована, з пластиковим тримачем сірого кольору | G69: шт. | H69: ='Прайс повний'!#REF! -> #REF! | I69: ='Прайс повний'!#REF! -> #REF!
C70: OC PL 8017 | D70: Тримач коньковий кутовий з пластиком коричневий | E70: 20 020 | F70: Сталь, гальванічно оцинкована і лакована. Варіанти кольорів: коричневий RAL 8017, червоний RAL 3011, рудий RAL 8004. | G70: шт. | H70: ='Прайс повний'!#REF! -> #REF! | I70: ='Прайс повний'!#REF! -> #REF!
C71: OC PL 3011 | D71: Тримач коньковий кутовий з пластиком червоний | E71: 20 030 | G71: шт. | H71: ='Прайс повний'!#REF! -> #REF! | I71: ='Прайс повний'!#REF! -> #REF!
C72: OC PL 8004 | D72: Тримач коньковий кутовий з пластиком рудий | E72: 20 040 | G72: шт. | H72: ='Прайс повний'!#REF! -> #REF! | I72: ='Прайс повний'!#REF! -> #REF!
B73: 22/ОС | C73: ОС PL | D73: Тримач коньковий профільний з пластиком | E73: 20 010 | F73: Сталь, гальванічно оцинкована , з пластиковим тримачем сірого кольору | G73: шт. | H73: ='Прайс повний'!I70 -> 59.88 | I73: ='Прайс повний'!J70 -> 59.88
C74: OC PL 8017 | D74: Тримач коньковий профільний з пластиком коричневий | E74: 20 020 | F74: Сталь, гальванічно оцинкована і лакована. Варіанти кольорів: коричневий, червоний, рудий | G74: шт. | H74: ='Прайс повний'!I71 -> 84.48 | I74: ='Прайс повний'!J71 -> 84.48
C75: OC PL 3011 | D75: Тримач коньковий профільний з пластиком червоний | E75: 20 030 | G75: шт. | H75: ='Прайс повний'!I72 -> 84.48 | I75: ='Прайс повний'!J72 -> 84.48
C76: OC PL 8004 | D76: Тримач коньковий профільний з пластиком рудий | E76: 20 040 | G76: шт. | H76: ='Прайс повний'!I73 -> 84.48 | I76: ='Прайс повний'!J73 -> 84.48
B77: ='Прайс повний'!B74 -> 22/01 | C77: ='Прайс повний'!C74 -> Cu PL | D77: ='Прайс повний'!E74 -> Тримач коньковий профільний з пластиком (мідний) | E77: 22 050 | F77: ='Прайс повний'!F74 -> Мідь, з пластиковим тримачем кольору мідь | G77: шт. | H77: ='Прайс повний'!I74 -> 262.99 | I77: ='Прайс повний'!J74 -> 262.99
B78: 20/1 Ni OC | C78: Ni OC | D78: Тримач коньковий кутовий з Niro | E78: 20 001 | F78: Сталь гальванічно оцинкована, з тримачем з нержавіючої сталі Niro | G78: шт. | H78: ='Прайс повний'!#REF! -> #REF! | I78: ='Прайс повний'!#REF! -> #REF!
B79: 22/Ni | C79: Ni | D79: Тримач коньковий профільний з Niro | E79: 22 001 | F79: Тримач призначений для фіксації блискавкозахисного дроту по профільному коньку покрівлі. Кріплення виготовлене з гальванічно оцинкованої сталі з нержавіючим тримачем Niro. | G79: шт. | H79: ='Прайс повний'!I75 -> 85.79 | I79: ='Прайс повний'!J75 -> 85.79
B80: 20/07 | C80: OC | D80: Тримач коньковий кутовий універсальний | E80: 20 070 | F80: Сталь, гальванічно оцинкована, з універсальним тримачем | G80: шт. | H80: ='Прайс повний'!I76 -> 73.61 | I80: ='Прайс повний'!J76 -> 73.61
C81: OC 8017 | D81: Тримач коньковий кутовий універсальний коричневий | E81: 20 071 | F81: Сталь, гальванічно оцинкована, з універсальним тримачем. Варіанти кольорів: коричневий RAL 8017, червоний RAL 3011, рудий RAL 8004. | G81: шт. | H81: ='Прайс повний'!I77 -> 85.9 | I81: ='Прайс повний'!J77 -> 85.9
C82: OC 3011 | D82: Тримач коньковий кутовий універсальний червоний | E82: 20 072 | G82: шт. | H82: ='Прайс повний'!I78 -> 85.9 | I82: ='Прайс повний'!J78 -> 85.9
C83: OC 8004 | D83: Тримач коньковий кутовий універсальний рудий | E83: 20 073 | G83: шт. | H83: ='Прайс повний'!I79 -> 85.9 | I83: ='Прайс повний'!J79 -> 85.9
B84: 20/07s | C84: OC | D84: Тримач коньковий кутовий універсальний скручений | E84: 20 870 | F84: Сталь, гальванічно оцинкована, з універсальним скрученим тримачем | G84: шт. | H84: ='Прайс повний'!#REF! -> #REF! | I84: ='Прайс повний'!#REF! -> #REF!
C85: OC 8017 | D85: Тримач коньковий кутовий універсальний скручений коричневий | E85: 20 871 | F85: Сталь, гальванічно оцинкована, з універсальним скрученим тримачем. Варіанти кольорів: коричневий RAL 8017, червоний RAL 3011, рудий RAL 8004. | G85: шт. | H85: ='Прайс повний'!#REF! -> #REF! | I85: ='Прайс повний'!#REF! -> #REF!
C86: OC 3011 | D86: Тримач коньковий кутовий універсальний скручений червоний | E86: 20 872 | G86: шт. | H86: ='Прайс повний'!#REF! -> #REF! | I86: ='Прайс повний'!#REF! -> #REF!
C87: OC 8004 | D87: Тримач коньковий кутовий універсальний скручений рудий | E87: 20 873 | G87: шт. | H87: ='Прайс повний'!#REF! -> #REF! | I87: ='Прайс повний'!#REF! -> #REF!
B88: 03/1s | C88: ='Прайс повний'!C80 -> OC | D88: ='Прайс повний'!E80 -> Тримач для ринви | E88: ='Прайс повний'!A80 -> 03 100 | F88: Сталь, гальванічно оцинкована. Два варіанти кріплення дроту | G88: шт. | H88: ='Прайс повний'!I80 -> 82.69 | I88: ='Прайс повний'!J80 -> 82.69
C89: ОС LA | D89: ='Прайс повний'!E81 -> Тримач для ринви лакований | E89: ='Прайс повний'!A81 -> 03 101 | F89: Сталь, гальванічно оцинкована, лакована в потрібний колір. Два варіанти кріплення дроту | G89: шт. | H89: ='Прайс повний'!I81 -> 117.74 | I89: ='Прайс повний'!J81 -> 117.74
C90: ='Прайс повний'!C82 -> CU | D90: ='Прайс повний'!E82 -> Тримач для ринви мідний | E90: ='Прайс повний'!A82 -> 03 110 | F90: Мідь. Два варіанти кріплення дроту | G90: шт. | H90: ='Прайс повний'!I82 -> 340.8 | I90: ='Прайс повний'!J82 -> 340.8
B91: ='Прайс повний'!B83 -> 09/01 | C91: ='Прайс повний'!C83 -> OC PL | D91: ='Прайс повний'!E83 -> Тримач фальцевий з пластиком | E91: ='Прайс повний'!A83 -> 09 100 | F91: Сталь, гальванічно оцинкована, з пластиковим тримачем | G91: шт. | H91: ='Прайс повний'!I83 -> 71.39 | I91: ='Прайс повний'!J83 -> 71.39
B92: ='Прайс повний'!B84 -> 09/11 | C92: ='Прайс повний'!C84 -> Ni OC | D92: ='Прайс повний'!E84 -> Тримач фальцевий з Niro | E92: ='Прайс повний'!A84 -> 09 110 | F92: Сталь, гальванічно оцинкована, з тримачем Niro | G92: шт. | H92: ='Прайс повний'!I84 -> 136.33 | I92: ='Прайс повний'!J84 -> 136.33
B93: ='Прайс повний'!B85 -> 09/30 | C93: ='Прайс повний'!C85 -> OC | D93: ='Прайс повний'!E85 -> Тримач фальцевий | E93: ='Прайс повний'!A85 -> 09 300 | F93: Сталь, гальванічно оцинкована | G93: шт. | H93: ='Прайс повний'!I85 -> 107.16 | I93: ='Прайс повний'!J85 -> 107.16
B94: ='Прайс повний'!B86 -> 09/02 | C94: ='Прайс повний'!C86 -> ОС | D94: ='Прайс повний'!E86 -> Тримач дроту фальцевий | E94: ='Прайс повний'!A86 -> 09 200 | F94: ='Прайс повний'!F86 -> Сталь, гальванічно оцинкована, з металевим тримачем дроту | G94: шт. | H94: ='Прайс повний'!I86 -> 125.06 | I94: ='Прайс повний'!J86 -> 125.06
B95: ='Прайс повний'!B87 -> 12/12/8 | C95: ='Прайс повний'!C87 -> OC PL | D95: ='Прайс повний'!E87 -> Тримач дроту даховий з гачком | E95: ='Прайс повний'!A87 -> 12 120 | F95: ='Прайс повний'!F87 -> Сталь, гальванічно оцинкована з пластиковим тримачем | G95: шт. | H95: ='Прайс повний'!I87 -> 36.63 | I95: ='Прайс повний'!J87 -> 36.63
B96: ='Прайс повний'!B88 -> 12/12/8 | C96: ='Прайс повний'!C88 -> Ni PL | D96: ='Прайс повний'!E88 -> Тримач дроту даховий з гачком (нерж.) | E96: ='Прайс повний'!A88 -> 12 121 | F96: ='Прайс повний'!F88 -> Сталь нержавіюча, з пластиковим тримачем | G96: шт. | H96: ='Прайс повний'!I88 -> 56.93 | I96: ='Прайс повний'!J88 -> 56.93
B97: ='Прайс повний'!B89 -> 12/12/8 | C97: ='Прайс повний'!C89 -> Cu PL | D97: ='Прайс повний'!E89 -> Тримач дроту даховий з гачком (мідь) | E97: ='Прайс повний'!A89 -> 12 122 | F97: ='Прайс повний'!F89 -> Мідь, з пластиковим тримачем | G97: шт. | H97: ='Прайс повний'!I89 -> 167.65 | I97: ='Прайс повний'!J89 -> 167.65
B98: ='Прайс повний'!B90 -> 12/12/8 | C98: ='Прайс повний'!C90 -> OC LA | D98: ='Прайс повний'!E90 -> Тримач дроту даховий з гачком (лакований) | E98: ='Прайс повний'!A90 -> 12 123 | F98: Сталь, гальванічно оцинкована, лакована з пластиковим тримачем | G98: шт. | H98: ='Прайс повний'!I90 -> 69.66 | I98: ='Прайс повний'!J90 -> 69.66
B99: ='Прайс повний'!B91 -> 12/33 | C99: ='Прайс повний'!C91 -> OC PL | D99: ='Прайс повний'!E91 -> Тримач під черепицю L330 | E99: ='Прайс повний'!A91 -> 12 330 | F99: Сталь, гальванічно оцинкована, з пластиковим тримачем. Довжина 33 см | G99: шт. | H99: ='Прайс повний'!I91 -> 59.62 | I99: ='Прайс повний'!J91 -> 59.62
B100: ='Прайс повний'!B92 -> 12/33 | C100: ='Прайс повний'!C92 -> Ni PL | D100: ='Прайс повний'!E92 -> Тримач під черепицю L330 (нерж.) | E100: ='Прайс повний'!A92 -> 12 331 | F100: Сталь нержавіюча, з пластиковим тримачем. Довжина 33 см | G100: шт. | H100: ='Прайс повний'!I92 -> 87.94 | I100: ='Прайс повний'!J92 -> 87.94
B101: ='Прайс повний'!B93 -> 12/33 | C101: ='Прайс повний'!C93 -> CU PL | D101: ='Прайс повний'!E93 -> Тримач під черепицю L330 (мідь) | E101: ='Прайс повний'!A93 -> 12 332 | F101: Мідь, з пластиковим тримачем. Довжина 33 см | G101: шт. | H101: ='Прайс повний'!I93 -> 336.33 | I101: ='Прайс повний'!J93 -> 336.33
...

Sheet Затискачі для Блискавкозахисту
D1: Блискавкозахист та заземлення | G1: =Заземлення!G1 -> Прайс-лист від 20.05.2026р.
D3: +38(067) 314 07 85, +38(097) 095 63 06 | G3: Введіть Вашу знижку %
A4: Вигляд | B4: Код | C4: Матеріал | D4: Назва | E4: Артикул | F4: Опис | G4: Од. вим. | H4: Ціна грн., з ПДВ | I4: Ціна грн., з ПДВ зі знижкою | J4: Введіть потрібну кількість
A5: ЗАТИСКАЧІ ТА З`ЄДНУВАЧІ
B6: 30/8 | C6: OC | D6: ='Прайс повний'!E118 -> Затискач круглого провідника універсальний | E6: 30010 | F6: ='Прайс повний'!F118 -> Сталь 2 мм, гальванічно оцинкована, болт М8 | G6: шт. | H6: ='Прайс повний'!I118 -> 40.42 | I6: ='Прайс повний'!J118 -> 40.42
C7: Cu | D7: ='Прайс повний'!E119 -> Затискач круглого провідника універсальний | E7: ='Прайс повний'!A119 -> 30 020 | F7: ='Прайс повний'!F119 -> Мідь 2 мм, з болтом М8, гайкою, шайбою з нержавіючої сталі | G7: шт. | H7: ='Прайс повний'!I119 -> 241 | I7: ='Прайс повний'!J119 -> 241
C8: Ni | D8: ='Прайс повний'!E120 -> Затискач круглого провідника універсальний | E8: 30030 | F8: ='Прайс повний'!F120 -> Нержавіюча сталь 2 мм, болт М8 | G8: шт. | H8: ='Прайс повний'!I120 -> 73.77 | I8: ='Прайс повний'!J120 -> 73.77
B9: 30/10 | C9: OC | D9: ='Прайс повний'!E121 -> Затискач круглого провідника універсальний | E9: 30110 | F9: ='Прайс повний'!F121 -> Сталь 2,5 мм, гальванічно оцинкована, болт М10 | G9: шт. | H9: ='Прайс повний'!I121 -> 53.48 | I9: ='Прайс повний'!J121 -> 53.48
B10: 30/10 | C10: OCH | D10: ='Прайс повний'!E122 -> Затискач круглого провідника універсальний | E10: 30120 | F10: ='Прайс повний'!F122 -> Сталь 2,5 мм, гарячооцинкована, болт М10 | G10: шт. | H10: ='Прайс повний'!I122 -> 67.03 | I10: ='Прайс повний'!J122 -> 67.03
B11: 30/8/1 | C11: ОС | D11: ='Прайс повний'!E123 -> Клема з'єднувальна | E11: 30011 | F11: ='Прайс повний'!F123 -> Сталь 2 мм, гальванічно оцинкована, болт М8 | G11: шт. | H11: ='Прайс повний'!I123 -> 27.03 | I11: ='Прайс повний'!J123 -> 27.03
B12: 30/8/1 | C12: Ni | D12: ='Прайс повний'!E124 -> Клема з'єднувальна | E12: 30031 | F12: ='Прайс повний'!F124 -> Нержавіюча сталь 2 мм, болт М8 | G12: шт. | H12: ='Прайс повний'!I124 -> 52.92 | I12: ='Прайс повний'!J124 -> 52.92
B13: 30/10/1 | C13: ОСН | D13: ='Прайс повний'!E125 -> Клема з'єднувальна | E13: 30121 | F13: ='Прайс повний'!F125 -> Сталь 2,5 мм, гарячооцинкована, болт М10 | G13: шт. | H13: ='Прайс повний'!I125 -> 38.81 | I13: ='Прайс повний'!J125 -> 38.81
B14: 31/6 | C14: ОСН | D14: ='Прайс повний'!E126 -> Затискач круглого провідника поздовжній | E14: 31000 | F14: ='Прайс повний'!F126 -> Затискач гарячеоцинкований, 4 болти М6 | G14: шт. | H14: ='Прайс повний'!I126 -> 108.95 | I14: ='Прайс повний'!J126 -> 108.95
B15: ='Прайс повний'!B127 -> ПА 1-1 | C15: ='Прайс повний'!C127 -> AL | D15: ='Прайс повний'!E127 -> Затискач плашковий ПА-1-1 | E15: ='Прайс повний'!D127 -> ПА 1-1 AL | F15: ='Прайс повний'!F451 -> Призначені для з'єднання алюмінієвих і сталеалюмінієвих дротів. Діаметр провідника від 5,1мм до 9,6мм | G15: шт. | H15: ='Прайс повний'!I451 -> 30.42 | I15: ='Прайс повний'!J451 -> 30.42
B16: ='Прайс повний'!B128 -> 04/8.2 | C16: ='Прайс повний'!C128 -> OC | D16: ='Прайс повний'!E128 -> Затискач смуга/дріт d8-10 | E16: 80001 | F16: Затискач з однієї пластини з вигином під 8-10 мм та однієї плоскої, на чотири болти М8. Товщина металу: - гальв. оцинк. - 2 мм - гаряча оцинк. - 3 мм - нерж. - 1,5 мм - мідь - 2 мм | G16: ='Прайс повний'!G128 -> шт. | H16: ='Прайс повний'!I128 -> 90.37 | I16: ='Прайс повний'!J128 -> 90.37
C17: ='Прайс повний'!C129 -> OCH | D17: ='Прайс повний'!E129 -> Затискач смуга/дріт d8-10 (гар.оцинк.) | E17: 80002 | G17: ='Прайс повний'!G129 -> шт. | H17: ='Прайс повний'!I129 -> 110.11 | I17: ='Прайс повний'!J129 -> 110.11
C18: ='Прайс повний'!C130 -> Ni | D18: ='Прайс повний'!E130 -> Затискач смуга/дріт d8-10 (нержавійка) | E18: 80003 | G18: ='Прайс повний'!G130 -> шт. | H18: ='Прайс повний'!I130 -> 113.04 | I18: ='Прайс повний'!J130 -> 113.04
C19: ='Прайс повний'!C131 -> Cu | D19: ='Прайс повний'!E131 -> Затискач смуга/дріт d8-10 (мідь) | E19: 90090 | G19: ='Прайс повний'!G131 -> шт. | H19: ='Прайс повний'!I131 -> 444.44 | I19: ='Прайс повний'!J131 -> 444.44
B20: ='Прайс повний'!B136 -> 04/8.3 | C20: ='Прайс повний'!C132 -> OC | D20: ='Прайс повний'!E132 -> Затискач смуга/дріт d8-10 | E20: 80010 | F20: Затискач з однієї пластини з вигином під 8-10 мм та двох плоских, на чотири болти М8. Товщина металу: - гальв. оцинк. - 2 мм - гаряча оцинк. - 3 мм - нерж. - 1,5 мм - мідь - 2 мм | G20: ='Прайс повний'!G132 -> шт. | H20: ='Прайс повний'!I132 -> 92.97 | I20: ='Прайс повний'!J132 -> 92.97
C21: ='Прайс повний'!C133 -> ОСН | D21: ='Прайс повний'!E133 -> Затискач смуга/дріт d8-10 (гар.оцинк.) | E21: 80030 | G21: ='Прайс повний'!G133 -> шт. | H21: ='Прайс повний'!I133 -> 132.64 | I21: ='Прайс повний'!J133 -> 132.64
C22: ='Прайс повний'!C134 -> Ni | D22: ='Прайс повний'!E134 -> Затискач смуга/дріт d8-10 (нержавійка) | E22: 80085 | G22: ='Прайс повний'!G134 -> шт. | H22: ='Прайс повний'!I134 -> 136.34 | I22: ='Прайс повний'!J134 -> 136.34
C23: ='Прайс повний'!C135 -> Cu | D23: ='Прайс повний'!E135 -> Затискач смуга/дріт d8-10 (мідь) | E23: 90091 | G23: ='Прайс повний'!G135 -> шт. | H23: ='Прайс повний'!I135 -> 564.56 | I23: ='Прайс повний'!J135 -> 564.56
C24: Cu/Ni/OC | D24: ='Прайс повний'!E136 -> Затискач смуга/дріт d8-10 (мідь/нерж./ст.оцинк.) | E24: 90095 | F24: ='Прайс повний'!F136 -> Затискач з однієї мідної пластини з вигином під 8-10 мм, та двох плоских - нержавіючої та гальв.оцинкованої, товщиною 2мм, на чотири болти М8 | G24: шт. | H24: ='Прайс повний'!I136 -> 287 | I24: ='Прайс повний'!J136 -> 287
B25: ='Прайс повний'!B137 -> 04/88.2 | C25: ='Прайс повний'!C137 -> ОС | D25: ='Прайс повний'!E137 -> Затискач дріт d8-10/дріт d8-10 | E25: 80015 | F25: Затискач з двох пластин з вигинами під 8 мм, на чотири болти М8. Товщина металу: - гальв. оцинк. - 2 мм - гаряча оцинк. - 3 мм - нерж. - 1,5 мм - мідь - 2 мм | G25: шт. | H25: ='Прайс повний'!I137 -> 93.58 | I25: ='Прайс повний'!J137 -> 93.58
C26: ='Прайс повний'!C138 -> ОСН | D26: ='Прайс повний'!E138 -> Затискач дріт d8-10/дріт d8-10 (гар.оцинк.) | E26: 80035 | G26: шт. | H26: ='Прайс повний'!I138 -> 115.13 | I26: ='Прайс повний'!J138 -> 115.13
C27: ='Прайс повний'!C139 -> Ni | D27: ='Прайс повний'!E139 -> Затискач дріт d8-10/дріт d8-10 (нержавійка) | E27: 80033 | G27: шт. | H27: ='Прайс повний'!I139 -> 116.91 | I27: ='Прайс повний'!J139 -> 116.91
C28: ='Прайс повний'!C140 -> Cu | D28: ='Прайс повний'!E140 -> Затискач дріт d8-10/дріт d8-10 (мідь) | E28: 90092 | G28: шт. | H28: ='Прайс повний'!I140 -> 459.72 | I28: ='Прайс повний'!J140 -> 459.72
B29: ='Прайс повний'!#REF! -> #REF! | C29: ='Прайс повний'!#REF! -> #REF! | D29: ='Прайс повний'!E141 -> Затискач прут d16/дріт d8-10 | E29: ='Прайс повний'!A141 -> 80 025 | F29: Затискач на три пластини: дві з вигинами під 8-10 мм та однієї плоскої, на чотири болти М8. Товщина металу: - гальв. оцинк. - 2 мм - гаряча оцинк. - 3 мм - нерж. - 1,5 мм | G29: шт. | H29: ='Прайс повний'!#REF! -> #REF! | I29: ='Прайс повний'!#REF! -> #REF!
C30: ='Прайс повний'!#REF! -> #REF! | D30: ='Прайс повний'!E142 -> Затискач прут d16/дріт d8-10 (гар.оцинк.) | E30: ='Прайс повний'!A142 -> 80 045 | G30: шт. | H30: ='Прайс повний'!#REF! -> #REF! | I30: ='Прайс повний'!#REF! -> #REF!
C31: ='Прайс повний'!#REF! -> #REF! | D31: ='Прайс повний'!E143 -> Затискач прут d16/дріт d8-10 (нержавійка) | E31: ='Прайс повний'!A143 -> 80 093 | G31: шт. | H31: ='Прайс повний'!#REF! -> #REF! | I31: ='Прайс повний'!#REF! -> #REF!
B32: ='Прайс повний'!B141 -> 04/168.2 | C32: ='Прайс повний'!C141 -> ОС | D32: ='Прайс повний'!E141 -> Затискач прут d16/дріт d8-10 | E32: 80025 | F32: Затискач з однієї пластини з вигином під 16 мм та однієї під 8 мм, на чотири болти М8. Товщина металу: - гальв. оцинк. - 2 мм - гаряча оцинк. - 3 мм - нерж. - 1,5 мм | G32: шт. | H32: ='Прайс повний'!I141 -> 90.88 | I32: ='Прайс повний'!J141 -> 90.88
C33: ='Прайс повний'!C142 -> ОСН | D33: ='Прайс повний'!E142 -> Затискач прут d16/дріт d8-10 (гар.оцинк.) | E33: 80045 | G33: шт. | H33: ='Прайс повний'!I142 -> 119.74 | I33: ='Прайс повний'!J142 -> 119.74
C34: ='Прайс повний'!C143 -> Ni | D34: ='Прайс повний'!E143 -> Затискач прут d16/дріт d8-10 (нержавійка) | E34: 80093 | G34: шт. | H34: ='Прайс повний'!I143 -> 127.33 | I34: ='Прайс повний'!J143 -> 127.33
B35: ='Прайс повний'!B364 -> 04/168.3 | C35: ='Прайс повний'!C364 -> ОС | D35: ='Прайс повний'!E144 -> Затискач прут d16/дріт d8-10 | E35: 80020 | F35: Затискач з однієї пластини з вигином під 16 мм, однієї під 8 мм та однієї плоскої, на чотири болти М8. Товщина металу: - гальв. оцинк. - 2 мм - гаряча оцинк. - 3 мм - нерж. - 1,5 мм | G35: шт. | H35: ='Прайс повний'!I364 -> 104.38 | I35: ='Прайс повний'!J364 -> 104.38
C36: ='Прайс повний'!C365 -> ОСH | D36: ='Прайс повний'!E145 -> Затискач прут d16/смуга/дріт d8-10 (гар.оцинк.) | E36: 80040 | G36: шт. | H36: ='Прайс повний'!I365 -> 135.26 | I36: ='Прайс повний'!J365 -> 135.26
C37: ='Прайс повний'!C366 -> Ni | D37: ='Прайс повний'!E146 -> Затискач прут d16/смуга/дріт d8-10 (нержавійка) | E37: 80084 | G37: шт. | H37: ='Прайс повний'!I366 -> 166.19 | I37: ='Прайс повний'!J366 -> 166.19
B38: ='Прайс повний'!B147 -> 44/8.2 | C38: ='Прайс повний'!C147 -> OC | D38: ='Прайс повний'!E147 -> Затискач смуга 40/дріт d8-10 | E38: 80007 | F38: Затискач з однієї пластини з вигином під 8-10мм та однієї плоскої, на чотири болти М8. Товщина металу: - гальв. оцинк. - 2мм - гаряча оцинк. - 3мм | G38: ='Прайс повний'!G147 -> шт. | H38: ='Прайс повний'!I147 -> 100.41 | I38: ='Прайс повний'!J147 -> 100.41
C39: ='Прайс повний'!C148 -> OCH | D39: ='Прайс повний'!E148 -> Затискач смуга 40/дріт d8-10 (гар.оцинк.) | E39: 80006 | G39: ='Прайс повний'!G148 -> шт. | H39: ='Прайс повний'!I148 -> 135 | I39: ='Прайс повний'!J148 -> 135
B40: ='Прайс повний'!B149 -> 44/8.3 | C40: ='Прайс повний'!C149 -> OC | D40: ='Прайс повний'!E149 -> Затискач смуга 40/дріт d8-10 | E40: 90096 | F40: Затискач з однієї пластини з вигином під 8-10мм та двох плоских, на чотири болти М8. Товщина металу: - гальв. оцинк. - 2мм - гаряча оцинк. - 3мм | G40: шт. | H40: ='Прайс повний'!I149 -> 134 | I40: ='Прайс повний'!J149 -> 134
C41: ='Прайс повний'!C150 -> OCH | D41: ='Прайс повний'!E150 -> Затискач смуга 40/дріт d8-10 (гар.оцинк.) | E41: 90097 | G41: шт. | H41: ='Прайс повний'!I150 -> 169.2 | I41: ='Прайс повний'!J150 -> 169.2
A42: РІЗНЕ
B43: ='Прайс повний'!B152 -> 70/04 | C43: ='Прайс повний'!C152 -> OC | D43: Натяжний затискач | E43: ='Прайс повний'!A152 -> 70 001 | F43: ='Прайс повний'!F152 -> Призначений для натягування струмовідводу. Рекомендується використовувати разом з трубою натяжною. | G43: шт. | H43: ='Прайс повний'!I152 -> 230.65 | I43: ='Прайс повний'!J152 -> 230.65
B44: ='Прайс повний'!B153 -> 70/30 | C44: ='Прайс повний'!C153 -> OCH | D44: Труба натяжна 30 | E44: ='Прайс повний'!A153 -> 70 030 | F44: ='Прайс повний'!F153 -> Використовується для натягування прута струмовідводу. Довжина 30 см | G44: шт. | H44: ='Прайс повний'!I153 -> 167.21 | I44: ='Прайс повний'!J153 -> 167.21
B45: ='Прайс повний'!B154 -> 70/40 | C45: ='Прайс повний'!C154 -> OCH | D45: Труба натяжна 40 | E45: ='Прайс повний'!A154 -> 70 040 | F45: ='Прайс повний'!F154 -> Використовується для натягування прута струмовідводу. Довжина 40 см | G45: шт. | H45: ='Прайс повний'!I154 -> 199.11 | I45: ='Прайс повний'!J154 -> 199.11
B46: ='Прайс повний'!B155 -> 70/10 | C46: ='Прайс повний'!C155 -> AL | D46: ='Прайс повний'!E155 -> Термокомпенсатор | E46: ='Прайс повний'!A155 -> 70 810 | F46: ='Прайс повний'!F155 -> Алюмінієвий компенсатор температурного розширення катанки. Використовується з двома затискачами універсальними | G46: шт. | H46: ='Прайс повний'!I155 -> 108.63 | I46: ='Прайс повний'!J155 -> 108.63
B47: ='Прайс повний'!B156 -> 70/140 | C47: ='Прайс повний'!C156 -> OC | D47: ='Прайс повний'!E156 -> Екран струмовідвідного дроту | E47: ='Прайс повний'!A156 -> 70 140 | F47: ='Прайс повний'!F156 -> Використовується для захисту прута струмовідводу. Довжина 1,4 м | G47: шт. | H47: ='Прайс повний'!I156 -> 421.05 | I47: ='Прайс повний'!J156 -> 421.05
B48: ='Прайс повний'!B157 -> A07/1 | C48: ='Прайс повний'!C157 -> PL | D48: ='Прайс повний'!E157 -> Труба електромонтажна гладка d16 3м. | E48: ='Прайс повний'!A157 -> 907 019 | F48: ='Прайс повний'!F157 -> Для прокладання струмовідводу по стіні. Довжина 3м. Діаметр 16мм. Висока механічна стійкість, стійкість до ультрафіолету та перепадів теиператур | G48: шт. | H48: ='Прайс повний'!I157 -> 99.5 | I48: ='Прайс повний'!J157 -> 99.5
B49: ='Прайс повний'!B158 -> A07/2 | C49: ='Прайс повний'!C158 -> PL | D49: ='Прайс повний'!E158 -> Кліпса монтажна 16мм | E49: ='Прайс повний'!A158 -> 214 9004 | F49: ='Прайс повний'!F158 -> Кріплення для труби електромонтажної 3м | G49: шт. | H49: ='Прайс повний'!I158 -> 22.22 | I49: ='Прайс повний'!J158 -> 22.22
B50: ='Прайс повний'!B159 -> 68/4 | C50: ='Прайс повний'!C159 -> PL | D50: ='Прайс повний'!E159 -> Коробка монтажна ABS 150x150x70 ІР65 | E50: ='Прайс повний'!A159 -> 150150 | F50: ='Прайс повний'!F159 -> Коробка монтажна ABS 150*150*70, ІР65 | G50: шт. | H50: ='Прайс повний'!I159 -> 299 | I50: ='Прайс повний'!J159 -> 299
B51: ='Прайс повний'!B160 -> 68/1 | C51: ='Прайс повний'!C160 -> PL | D51: ='Прайс повний'!E160 -> Коробка для фасадного ревізійного з'єднання | E51: ='Прайс повний'!A160 -> 68010 | F51: ='Прайс повний'!F160 -> Коробка для фасадного ревізійного з'єднання 140х140х60 | G51: шт. | H51: ='Прайс повний'!I160 -> 359.7 | I51: ='Прайс повний'!J160 -> 359.7 | K51: 3925
B52: ='Прайс повний'!B161 -> 68/2 | C52: ='Прайс повний'!C161 -> PL | D52: ='Прайс повний'!E161 -> Коробка для фасадного ревізійного з'єднання | E52: ='Прайс повний'!A161 -> 68020 | F52: ='Прайс повний'!F161 -> Коробка для фасадного ревізійного з'єднання 140х140х100 | G52: шт. | H52: ='Прайс повний'!I161 -> 525.6 | I52: ='Прайс повний'!J161 -> 525.6 | K52: 3925

Sheet Блискавкоприймачі
D1: Блискавкозахист та заземлення | G1: =Заземлення!G1 -> Прайс-лист від 20.05.2026р.
D3: +38(067) 314 07 85, +38(097) 095 63 06 | G3: Введіть Вашу знижку %
A4: Вигляд | B4: Код | C4: Матеріал | D4: Назва | E4: Артикул | F4: Опис | G4: Од. вим. | H4: Ціна грн., з ПДВ | I4: Ціна грн., з ПДВ зі знижкою | J4: Введіть потрібну кількість
E5: БЛИСКАВКОПРИЙМАЧІ
B6: ='Прайс повний'!B164 -> 53/16/15 | C6: AL | D6: ='Прайс повний'!E164 -> Блискавкоприймач алюмінієвий різьбовий ALR-1500 | E6: ='Прайс повний'!A164 -> 53 015 | F6: Алюмінієва щогла, що складається з прута d16 мм та прута d10 мм | G6: шт. | H6: ='Прайс повний'!I164 -> 586.82 | I6: ='Прайс повний'!J164 -> 586.82
B7: ='Прайс повний'!B165 -> 53/16/20 | C7: AL | D7: ='Прайс повний'!E165 -> Блискавкоприймач алюмінієвий різьбовий ALR-2000 | E7: ='Прайс повний'!A165 -> 53 020 | G7: шт. | H7: ='Прайс повний'!I165 -> 743.83 | I7: ='Прайс повний'!J165 -> 743.83
B8: ='Прайс повний'!B166 -> 53/16/25 | C8: AL | D8: ='Прайс повний'!E166 -> Блискавкоприймач алюмінієвий різьбовий ALR-2500 | E8: ='Прайс повний'!A166 -> 53 025 | G8: шт. | H8: ='Прайс повний'!I166 -> 969.32 | I8: ='Прайс повний'!J166 -> 969.32
B9: ='Прайс повний'!B167 -> 53/16/30 | C9: AL | D9: ='Прайс повний'!E167 -> Блискавкоприймач алюмінієвий різьбовий ALR-3000 | E9: ='Прайс повний'!A167 -> 53 030 | G9: шт. | H9: ='Прайс повний'!I167 -> 1164.45 | I9: ='Прайс повний'!J167 -> 1164.45
B10: ='Прайс повний'!B168 -> 53/16/35 | C10: AL | D10: ='Прайс повний'!E168 -> Блискавкоприймач алюмінієвий різьбовий ALR-3500 | E10: ='Прайс повний'!A168 -> 53 035 | G10: шт. | H10: ='Прайс повний'!I168 -> 1405.32 | I10: ='Прайс повний'!J168 -> 1405.32
B11: ='Прайс повний'!B169 -> 53/16/40 | C11: AL | D11: ='Прайс повний'!E169 -> Блискавкоприймач алюмінієвий різьбовий ALR-4000 | E11: ='Прайс повний'!A169 -> 53 040 | G11: шт. | H11: ='Прайс повний'!I169 -> 1593.67 | I11: ='Прайс повний'!J169 -> 1593.67
B12: 53/12/15 | C12: Cu | D12: Блискавкоприймач мідний різьбовий CUR-1500 | E12: 53115 | F12: Мідна щогла, що складається з прута d12 мм та прута d8 мм | G12: шт. | H12: ='Прайс повний'!I170 -> 1893.74 | I12: ='Прайс повний'!J170 -> 1893.74
B13: 53/12/20 | C13: Cu | D13: Блискавкоприймач мідний різьбовий CUR-2000 | E13: 53120 | G13: шт. | H13: ='Прайс повний'!I171 -> 2546.1 | I13: ='Прайс повний'!J171 -> 2546.1
B14: 53/12/25 | C14: Cu | D14: Блискавкоприймач мідний різьбовий CUR-2500 | E14: 53125 | G14: шт. | H14: ='Прайс повний'!I172 -> 3511.4 | I14: ='Прайс повний'!J172 -> 3511.4
B15: ='Прайс повний'!B173 -> 55/16/14 | D15: ='Прайс повний'!E173 -> Тримач для блискавкоприймача 140 | E15: ='Прайс повний'!A173 -> 55 014 | F15: Двогвинт довжиною 140 мм з дюбелем та хомутом | G15: шт. | H15: ='Прайс повний'!I173 -> 21.05 | I15: ='Прайс повний'!J173 -> 21.05
B16: ='Прайс повний'!B174 -> 55/16/20 | D16: ='Прайс повний'!E174 -> Тримач для блискавкоприймача 200 | E16: ='Прайс повний'!A174 -> 55 020 | F16: Двогвинт довжиною 200 мм з дюбелем та хомутом | G16: шт. | H16: ='Прайс повний'!I174 -> 22.37 | I16: ='Прайс повний'!J174 -> 22.37
B17: ='Прайс повний'!B175 -> M15/1 | C17: OC-Ni | D17: ='Прайс повний'!E175 -> Тримач щогли L250 | E17: ='Прайс повний'!A175 -> 415013 | F17: Для кріплення блискавкоприймачів D16 мм. Відстань від стіни 250мм. | G17: шт. | H17: ='Прайс повний'!I175 -> 449.82 | I17: ='Прайс повний'!J175 -> 449.82
B18: 50/10/101 | C18: AL, OC | D18: Коньковий блискавкоприймач 1м одинарний (півкруглий) | E18: 50101 | F18: Алюмінієва щогла d10 мм для кріплення на півкруглому коньку даху. З'єднувач з дротом в комплекті. | G18: шт. | H18: ='Прайс повний'!I176 -> 607.39 | I18: ='Прайс повний'!J176 -> 607.39
B19: 50/10/105 | C19: AL, OC | D19: Коньковий блискавкоприймач 1,5м одинарний (півкруглий) | E19: 50 105 | G19: шт. | H19: ='Прайс повний'!I177 -> 627.3 | I19: ='Прайс повний'!J177 -> 627.3
B20: ='Прайс повний'!B178 -> 50/10/201 | C20: ='Прайс повний'!C178 -> AL, OC | D20: ='Прайс повний'!E178 -> Коньковий блискавкоприймач 1м одинарний (кутовий) | E20: ='Прайс повний'!A178 -> 50 201 | F20: Алюмінієва щогла d10 мм для кріплення на кутовому коньку даху. З'єднувач з дротом в комплекті. | G20: шт. | H20: ='Прайс повний'!I178 -> 540.48 | I20: ='Прайс повний'!J178 -> 540.48
B21: 50/10/205 | C21: AL, OC | D21: Коньковий блискавкоприймач 1,5м одинарний (кутовий) | E21: 50 205 | G21: шт. | H21: ='Прайс повний'!I179 -> 569.56 | I21: ='Прайс повний'!J179 -> 569.56
B22: 50/10/401 | C22: AL, OCH | D22: Коньковий блискавкоприймач 1м одинарний (профільний) | E22: 50 401 | F22: Алюмінієва щогла d10мм для кріплення на профільному коньку даху, затискач входить в комплект | G22: шт. | H22: ='Прайс повний'!I180 -> 603.32 | I22: ='Прайс повний'!J180 -> 603.32
B23: 50/10/405 | C23: AL, OCH | D23: Коньковий блискавкоприймач 1,5м одинарний (профільний) | E23: 50 405 | G23: шт. | H23: ='Прайс повний'!I181 -> 647.87 | I23: ='Прайс повний'!J181 -> 647.87
B24: 50/10/301 | C24: AL, OC | D24: Блискавкоприймач з основою 1м | E24: 50 301 | F24: Алюмінієвий блискавкоприймач d10 з основою | G24: шт. | H24: ='Прайс повний'!I182 -> 633.45 | I24: ='Прайс повний'!J182 -> 633.45
B25: 50/10/305 | C25: AL, OC | D25: Блискавкоприймач з основою 1.5м | E25: 50 305 | G25: шт. | H25: ='Прайс повний'!I183 -> 654.21 | I25: ='Прайс повний'!J183 -> 654.21
B26: 50/10/110 | C26: AL, OC | D26: Коньковий блискавкоприймач 1м (півкруглий) | E26: 50 110 | F26: Алюмінієва щогла d10 мм для кріплення на півкруглому коньку даху. З'єднувач з дротом в комплекті. | G26: шт. | H26: ='Прайс повний'!I184 -> 797 | I26: ='Прайс повний'!J184 -> 797
B27: 50/10/115 | C27: AL, OC | D27: Коньковий блискавкоприймач 1,5м (півкруглий) | E27: 50 115 | G27: шт. | H27: ='Прайс повний'!I185 -> 978.72 | I27: ='Прайс повний'!J185 -> 978.72
B28: 50/10/120 | C28: AL, OC | D28: Коньковий блискавкоприймач 2м (півкруглий) | E28: 50 120 | G28: шт. | H28: ='Прайс повний'!I186 -> 1061.79 | I28: ='Прайс повний'!J186 -> 1061.79
B29: 50/10/210 | C29: AL, OC | D29: Коньковий блискавкоприймач 1м (кутовий) | E29: 50 210 | F29: Алюмінієва щогла d10 мм для кріплення на кутовому коньку даху. З'єднувач з дротом в комплекті. | G29: шт. | H29: ='Прайс повний'!I187 -> 695.7 | I29: ='Прайс повний'!J187 -> 695.7
B30: 50/10/215 | C30: AL, OC | D30: Коньковий блискавкоприймач 1,5м (кутовий) | E30: 50 215 | G30: шт. | H30: ='Прайс повний'!I188 -> 845.94 | I30: ='Прайс повний'!J188 -> 845.94
B31: 50/10/220 | C31: AL, OC | D31: Коньковий блискавкоприймач 2м (кутовий) | E31: 50 220 | G31: шт. | H31: ='Прайс повний'!I189 -> 899.11 | I31: ='Прайс повний'!J189 -> 899.11
B32: 50/16/300 | C32: АL, OC | D32: Коньковий блискавкоприймач 3м | E32: 50 300 | F32: Алюмінієва щогла d16мм 3м з усиленим кріпленням для коньку даху | G32: шт. | H32: ='Прайс повний'!I190 -> 1518.54 | I32: ='Прайс повний'!J190 -> 1518.54
B33: 50/10/410 | C33: АL, OCН | D33: Коньковий блискавкоприймач 1м (профільний) | E33: 50 410 | F33: Алюмінієва щогла d10 мм для кріплення на профільному коньку даху, затискач входить в комплект | G33: шт. | H33: ='Прайс повний'!I191 -> 797 | I33: ='Прайс повний'!J191 -> 797
B34: 50/10/415 | C34: АL, OCН | D34: Коньковий блискавкоприймач 1,5м (профільний) | E34: 50 415 | G34: шт. | H34: ='Прайс повний'!I192 -> 970.95 | I34: ='Прайс повний'!J192 -> 970.95
B35: 50/10/420 | C35: АL, OCН | D35: Коньковий блискавкоприймач 2м (профільний) | E35: 50 420 | G35: шт. | H35: ='Прайс повний'!I193 -> 1054 | I35: ='Прайс повний'!J193 -> 1054
B36: 50/16/300 | C36: ='Прайс повний'!C194 -> АL, OC | D36: ='Прайс повний'!E194 -> Коньковий блискавкоприймач 3м (профільний) | E36: 50 300 | F36: ='Прайс повний'!F194 -> Алюмінієва щогла d16мм 3м з усиленим кріпленням для коньку даху | G36: шт. | H36: ='Прайс повний'!I194 -> 1722.03 | I36: ='Прайс повний'!J194 -> 1722.03
B37: 51/16/15 | C37: AL | D37: Блискавкоприймач алюмінієвий з бетонною основою 1,5м | E37: 51 015 | F37: Алюмінієва щогла товщиною 16 мм з бетонною основою | G37: шт. | H37: ='Прайс повний'!I195 -> 1552.61 | I37: ='Прайс повний'!J195 -> 1552.61
B38: 51/16/20 | C38: AL | D38: Блискавкоприймач алюмінієвий з бетонною основою 2м | E38: 51 020 | G38: шт. | H38: ='Прайс повний'!I196 -> 1648.7 | I38: ='Прайс повний'!J196 -> 1648.7
B39: 51/16/30 | C39: AL | D39: Блискавкоприймач алюмінієвий з бетонною основою 3м | E39: 51 030 | G39: шт. | H39: ='Прайс повний'!I197 -> 2056.84 | I39: ='Прайс повний'!J197 -> 2056.84
B40: 51/16/40 | C40: AL | D40: Блискавкоприймач алюмінієвий з бетонною основою 4м | E40: 51 040 | G40: шт. | H40: ='Прайс повний'!I198 -> 3476.86 | I40: ='Прайс повний'!J198 -> 3476.86
B41: ='Прайс повний'!B199 -> 55/30 | C41: ='Прайс повний'!C199 -> OCH | D41: ='Прайс повний'!E199 -> Тримач щогли блискавкоприймача 32мм | E41: ='Прайс повний'!A199 -> 55 001 | F41: ='Прайс повний'!F199 -> Тримач щогли діаметром до 32 мм, товщина основи - 5 мм. 6 болтів для фіксації щогли. Сталь, гарачооцинкована | G41: шт. | H41: ='Прайс повний'!I199 -> 1210.08 | I41: ='Прайс повний'!J199 -> 1210.08
B42: 55/34 | C42: ОСН | D42: Тримач щогли блискавкоприймача 32мм L400 | E42: 55 011 | F42: Тримач щогли діаметром до 32 мм, довжина 400 мм, товщина основи - 5 мм. 6 болтів для фіксації щогли. Сталь, гарачооцинкована | G42: шт. | H42: ='Прайс повний'!I200 -> 1366.55 | I42: ='Прайс повний'!J200 -> 1366.55
B43: 55/60 | C43: OCH | D43: Тримач щогли блискавкоприймача 42мм | E43: 55 000 | F43: Тримач щогли діаметром до 42 мм, товщина основи - 5 мм. 6 болтів для фіксації щогли. Сталь, гарачооцинкована | G43: шт. | H43: ='Прайс повний'!I201 -> 1383.52 | I43: ='Прайс повний'!J201 -> 1383.52
B44: 55/64 | C44: ОСН | D44: Тримач щогли блискавкоприймача 42мм L400 | E44: 55 010 | F44: Тримач щогли діаметром до 42 мм, довжина 400 мм, товщина основи - 5 мм. 6 болтів для фіксації щогли. Сталь, гарачооцинкована | G44: шт. | H44: ='Прайс повний'!I202 -> 1069.28 | I44: ='Прайс повний'!J202 -> 1069.28
B45: ='Прайс повний'!B203 -> 55/30/21 | C45: ='Прайс повний'!C203 -> ОСН | D45: ='Прайс повний'!E203 -> Тримач щогли блискавкоприймача 32мм до конструкцій | E45: 55 021 | F45: ='Прайс повний'!F203 -> Призначений для кріплення щогли ø 32мм та 42мм до до таврових чи двотаврових балок, або інших конструктивних елементів будівлі, фіксується 4-ма шпильками М10×400 з гайками. | G45: шт. | H45: ='Прайс повний'!I203 -> 1746 | I45: ='Прайс повний'!J203 -> 1746
B46: ='Прайс повний'!B204 -> 22/00/20 | C46: ='Прайс повний'!C204 -> ОСН | D46: ='Прайс повний'!E204 -> Тримач щогли блискавкоприймача 42мм до конструкцій | E46: 55 020 | G46: шт. | H46: ='Прайс повний'!I204 -> 2038 | I46: ='Прайс повний'!J204 -> 2038
B47: 55/01 | C47: OC | D47: Основа різьбового блискавкоприймача d10 | E47: 55 003 | F47: Тримач різьбового блискавкоприймача діаметром 10 мм | G47: шт. | H47: ='Прайс повний'!I205 -> 93.88 | I47: ='Прайс повний'!J205 -> 93.88
B48: 55/16 | C48: ОС | D48: Основа різьбового блискавкоприймача | E48: 55 002 | F48: Тримач різьбового блискавкоприймача діаметром 16 мм | G48: шт. | H48: ='Прайс повний'!I206 -> 667.65 | I48: ='Прайс повний'!J206 -> 667.65
B49: 55/60/1 | C49: OCH | D49: Тримач щогли блискавкоприймача з основою | E49: 55 100 | F49: Тримач щогли діаметром до 42 мм, товщина основи - 5 мм. 9 болтів для фіксації щогли. Сталь, гарачооцинкована | G49: шт. | H49: ='Прайс повний'!I207 -> 3993.52 | I49: ='Прайс повний'!J207 -> 3993.52
B50: 55/60/3 | C50: OCH | D50: Тринога для щогли з бетонними основами | E50: 55 300 | F50: Тринога з гарячооцинкованої сталі для щогли діаметром 42 мм, три бетонні основи | G50: шт. | H50: ='Прайс повний'!I208 -> 7394.09 | I50: ='Прайс повний'!J208 -> 7394.09
B51: 55/60/6 | C51: OCH | D51: Тринога для щогли з бетонними основами (посилена) | E51: 55 305 | F51: Тринога з гарячооцинкованої сталі, з усиленими опорами та додатковими бетонними основами, для щогли діаметром 42мм. | G51: шт. | H51: ='Прайс повний'!I209 -> 13010.48 | I51: ='Прайс повний'!J209 -> 13010.48
B52: ='Прайс повний'!B210 -> 56/40/8 | C52: ='Прайс повний'!C210 -> Ni | D52: ='Прайс повний'!E210 -> Затискач щогли блискавкоприймача та дроту універсальний | E52: ='Прайс повний'!A210 -> 56 040 | F52: ='Прайс повний'!F210 -> Оцинковане кріплення струмовідводу d8-10 до щогли блискавкоприймача d32-40 мм | G52: шт. | H52: ='Прайс повний'!I210 -> 151.68 | I52: ='Прайс повний'!J210 -> 151.68
B53: ='Прайс повний'!B211 -> 59/1 | C53: ='Прайс повний'!C211 -> OCH | D53: ='Прайс повний'!E211 -> Тримач ізоляційної штанги | E53: ='Прайс повний'!A211 -> 59 001 | F53: ='Прайс повний'!F211 -> Використовується для кріплення ізоляційних штанг до стіни, сталь гарячооцинкована. | G53: шт. | H53: ='Прайс повний'!I211 -> 179.35 | I53: ='Прайс повний'!J211 -> 179.35
B54: ='Прайс повний'!B212 -> 59/8/50 | D54: ='Прайс повний'!E212 -> Ізоляційна штанга 500 | E54: ='Прайс повний'!A212 -> 59 850 | F54: Ізоляційна штанга довжиною 500 мм, 750 мм, 1000 мм, діаметром 28 мм, з внутрішньою різьбою або шпилькою М8 на обох кінцях. | G54: шт. | H54: ='Прайс повний'!I212 -> 678.26 | I54: ='Прайс повний'!J212 -> 678.26
B55: ='Прайс повний'!B213 -> 59/8/75 | D55: ='Прайс повний'!E213 -> Ізоляційна штанга 750 | E55: ='Прайс повний'!A213 -> 59 875 | G55: шт. | H55: ='Прайс повний'!I213 -> 769.92 | I55: ='Прайс повний'!J213 -> 769.92
B56: ='Прайс повний'!B214 -> 59/8/100 | D56: ='Прайс повний'!E214 -> Ізоляційна штанга 1000 | E56: ='Прайс повний'!A214 -> 59 810 | G56: шт. | H56: ='Прайс повний'!I214 -> 913.94 | I56: ='Прайс повний'!J214 -> 913.94
B57: ='Прайс повний'!B215 -> 59/16/75 | D57: ='Прайс повний'!E215 -> Ізоляційна штанга вертикальна 750 | E57: ='Прайс повний'!A215 -> 59 167 | F57: Ізоляційна штанга довжиною 750 мм, діаметром 36 мм, з внутрішньою різьбою М16 на обох кінцях. | G57: шт. | H57: ='Прайс повний'!I215 -> 1045.41 | I57: ='Прайс повний'!J215 -> 1045.41
B58: ='Прайс повний'!B216 -> 59/16/100 | D58: ='Прайс повний'!E216 -> Ізоляційна штанга вертикальна 1000 | E58: ='Прайс повний'!A216 -> 59 160 | F58: Ізоляційна штанга довжиною 1000 мм, діаметром 36 мм, з внутрішньою різьбою М16 на обох кінцях. | G58: шт. | H58: ='Прайс повний'!I216 -> 1218.5 | I58: ='Прайс повний'!J216 -> 1218.5
B59: ='Прайс повний'!B217 -> 54/30/40 | C59: ='Прайс повний'!C217 -> AL | D59: ='Прайс повний'!E217 -> Щогла алюмінієва d30 4м | E59: ='Прайс повний'!A217 -> 54 040 | F59: ='Прайс повний'!F217 -> Щогла блискавкоприймача алюмінієва, діаметром 30 мм при основі. | G59: шт. | H59: ='Прайс повний'!I217 -> 2834.43 | I59: ='Прайс повний'!J217 -> 2834.43
B60: ='Прайс повний'!B218 -> 54/30/50 | C60: ='Прайс повний'!C218 -> AL | D60: ='Прайс повний'!E218 -> Щогла алюмінієва d30 5м | E60: ='Прайс повний'!A218 -> 50 051 | G60: шт. | H60: ='Прайс повний'!I218 -> 3215.41 | I60: ='Прайс повний'!J218 -> 3215.41
B61: ='Прайс повний'!B219 -> 54/40/60 | C61: ='Прайс повний'!C219 -> AL | D61: ='Прайс повний'!E219 -> Щогла алюмінієва d40 6м | E61: ='Прайс повний'!A219 -> 54 060 | F61: ='Прайс повний'!F219 -> Щогла блискавкоприймача алюмінієва, діаметром 40 мм при основі. | G61: шт. | H61: ='Прайс повний'!I219 -> 5140.17 | I61: ='Прайс повний'!J219 -> 5140.17
B62: ='Прайс повний'!B220 -> 54/40/70 | C62: ='Прайс повний'!C220 -> AL | D62: ='Прайс повний'!E220 -> Щогла алюмінієва d40 7м | E62: ='Прайс повний'!A220 -> 54 070 | G62: шт. | H62: ='Прайс повний'!I220 -> 6968.25 | I62: ='Прайс повний'!J220 -> 6968.25
B63: ='Прайс повний'!B221 -> 54/40/80 | C63: ='Прайс повний'!C221 -> AL | D63: ='Прайс повний'!E221 -> Щогла алюмінієва d40 8м | E63: ='Прайс повний'!A221 -> 54 080 | G63: шт. | H63: ='Прайс повний'!I221 -> 7698.09 | I63: ='Прайс повний'!J221 -> 7698.09
B64: ='Прайс повний'!B222 -> 52/30/40 | C64: ='Прайс повний'!C222 -> Ni | D64: ='Прайс повний'!E222 -> Блискавкоприймач з нержавіючої сталі d32 4м. | E64: ='Прайс повний'!A222 -> 52 041 | F64: ='Прайс повний'!F222 -> Щогла блискавкоприймача з нержавіючої сталі діаметром 32мм при основі, та метровий алюмінієвий блискавкоприймач | G64: ='Прайс повний'!G222 -> шт. | H64: ='Прайс повний'!I222 -> 2211.38 | I64: ='Прайс повний'!J222 -> 2211.38
B65: ='Прайс повний'!B223 -> 52/30/50 | C65: ='Прайс повний'!C223 -> Ni | D65: ='Прайс повний'!E223 -> Блискавкоприймач з нержавіючої сталі d32 5м. | E65: ='Прайс повний'!A223 -> 52 051 | F65: ='Прайс повний'!F223 -> Щогла блискавкоприймача з нержавіючої сталі діаметром 32мм при основі, та 2-х метровий алюмінієвий блискавкоприймач | G65: ='Прайс повний'!G223 -> шт. | H65: ='Прайс повний'!I223 -> 2421.23 | I65: ='Прайс повний'!J223 -> 2421.23
B66: ='Прайс повний'!B224 -> 52/30/60 | C66: ='Прайс повний'!C224 -> Ni | D66: ='Прайс повний'!E224 -> Блискавкоприймач з нержавіючої сталі d32 6м. | E66: ='Прайс повний'!A224 -> 52 061 | F66: ='Прайс повний'!F224 -> Щогла блискавкоприймача з нержавіючої сталі діаметром 32мм при основі, та 3-х метровий алюмінієвий блискавкоприймач | G66: ='Прайс повний'!G224 -> шт. | H66: ='Прайс повний'!I224 -> 2753.87 | I66: ='Прайс повний'!J224 -> 2753.87
B67: ='Прайс повний'!B225 -> 52/40/40 | C67: ='Прайс повний'!C225 -> Ni | D67: ='Прайс повний'!E225 -> Блискавкоприймач з нержавіючої сталі d40 4м. | E67: ='Прайс повний'!A225 -> 52 040 | F67: ='Прайс повний'!F225 -> Щогла блискавкоприймача з нержавіючої сталі діаметром 40мм при основі, та закінчення з алюмінієвого блискавкоприймача | G67: ='Прайс повний'!G225 -> шт. | H67: ='Прайс повний'!I225 -> 3133.31 | I67: ='Прайс повний'!J225 -> 3133.31
B68: ='Прайс повний'!B226 -> 52/40/50 | C68: ='Прайс повний'!C226 -> Ni | D68: ='Прайс повний'!E226 -> Блискавкоприймач з нержавіючої сталі d40 5м. | E68: ='Прайс повний'!A226 -> 52 050 | F68: ='Прайс повний'!F226 -> Щогла блискавкоприймача з нержавіючої сталі діаметром 40мм при основі, та закінчення з алюмінієвого блискавкоприймача | G68: ='Прайс повний'!G226 -> шт. | H68: ='Прайс повний'!I226 -> 3835.64 | I68: ='Прайс повний'!J226 -> 3835.64
B69: ='Прайс повний'!B227 -> 52/40/60 | C69: ='Прайс повний'!C227 -> Ni | D69: ='Прайс повний'!E227 -> Блискавкоприймач з нержавіючої сталі d40 6м. | E69: ='Прайс повний'!A227 -> 52 060 | F69: ='Прайс повний'!F227 -> Щогла блискавкоприймача з нержавіючої сталі діаметром 40мм при основі, та закінчення з алюмінієвого блискавкоприймача | G69: ='Прайс повний'!G227 -> шт. | H69: ='Прайс повний'!I227 -> 4315.86 | I69: ='Прайс повний'!J227 -> 4315.86
B70: ='Прайс повний'!B228 -> 52/40/70 | C70: ='Прайс повний'!C228 -> Ni | D70: ='Прайс повний'!E228 -> Блискавкоприймач з нержавіючої сталі d40 7м. | E70: ='Прайс повний'!A228 -> 52 070 | F70: ='Прайс повний'!F228 -> Щогла блискавкоприймача з нержавіючої сталі діаметром 40мм при основі, та закінчення з алюмінієвого блискавкоприймача | G70: ='Прайс повний'!G228 -> шт. | H70: ='Прайс повний'!I228 -> 5633.33 | I70: ='Прайс повний'!J228 -> 5633.33
B71: ='Прайс повний'!B229 -> 52/40/80 | C71: ='Прайс повний'!C229 -> Ni | D71: ='Прайс повний'!E229 -> Блискавкоприймач з нержавіючої сталі d40 8м. | E71: ='Прайс повний'!A229 -> 52 080 | F71: ='Прайс повний'!F229 -> Щогла блискавкоприймача з нержавіючої сталі діаметром 40мм при основі, та закінчення з алюмінієвого блискавкоприймача | G71: ='Прайс повний'!G229 -> шт. | H71: ='Прайс повний'!I229 -> 6570.84 | I71: ='Прайс повний'!J229 -> 6570.84
B72: ='Прайс повний'!B230 -> 52/40/90 | C72: ='Прайс повний'!C230 -> Ni | D72: ='Прайс повний'!E230 -> Блискавкоприймач з нержавіючої сталі d40 9м | E72: ='Прайс повний'!A230 -> 52 090 | F72: ='Прайс повний'!F230 -> Щогла блискавкоприймача з нержавіючої сталі діаметром 40мм при основі, та закінчення з алюмінієвого блискавкоприймача | G72: ='Прайс повний'!G230 -> шт. | H72: ='Прайс повний'!I230 -> 9426.05 | I72: ='Прайс повний'!J230 -> 9426.05
B73: ='Прайс повний'!B231 -> 52/40/100 | C73: ='Прайс повний'!C231 -> Ni | D73: ='Прайс повний'!E231 -> Блискавкоприймач з нержавіючої сталі d40 10м | E73: ='Прайс повний'!A231 -> 52 100 | F73: ='Прайс повний'!F231 -> Щогла блискавкоприймача з нержавіючої сталі діаметром 40мм при основі, та закінчення з алюмінієвого блискавкоприймача | G73: ='Прайс повний'!G231 -> шт. | H73: ='Прайс повний'!I231 -> 10128.16 | I73: ='Прайс повний'!J231 -> 10128.16
A74: БЛИСКАВКОПРИЙМАЧІ ОКРЕМОСТОЯЧІ
B75: ='Прайс повний'!B233 -> 60/08 | C75: ='Прайс повний'!C233 -> OCH | D75: ='Прайс повний'!E233 -> Блискавкоприймач окремостоячий 8 м | E75: ='Прайс повний'!A233 -> 56 080 | F75: Блискавкоприймач окремостоячий, гарячеоцинкований, збірний, з`єднання елементів блискавкоприймача - фланцеве, довжина найдовшої частини 6 м | G75: ='Прайс повний'!G233 -> шт. | H75: ='Прайс повний'!I233 -> 13640.12 | I75: ='Прайс повний'!J233 -> 13640.12
B76: ='Прайс повний'!B234 -> 60/09 | C76: ='Прайс повний'!C234 -> OCH | D76: ='Прайс повний'!E234 -> Блискавкоприймач окремостоячий 9 м | E76: ='Прайс повний'!A234 -> 56 090 | G76: ='Прайс повний'!G234 -> шт. | H76: ='Прайс повний'!I234 -> 18668.67 | I76: ='Прайс повний'!J234 -> 18668.67
B77: ='Прайс повний'!B235 -> 60/10 | C77: ='Прайс повний'!C235 -> OCH | D77: ='Прайс повний'!E235 -> Блискавкоприймач окремостоячий 10 м | E77: 56 100 | G77: ='Прайс повний'!G235 -> шт. | H77: ='Прайс повний'!I235 -> 21057.33 | I77: ='Прайс повний'!J235 -> 21057.33
B78: ='Прайс повний'!B236 -> 60/11 | C78: ='Прайс повний'!C236 -> OCH | D78: ='Прайс повний'!E236 -> Блискавкоприймач окремостоячий 11 м | E78: 56 110 | G78: ='Прайс повний'!G236 -> шт. | H78: ='Прайс повний'!I236 -> 35919.45 | I78: ='Прайс повний'!J236 -> 35919.45
B79: ='Прайс повний'!B237 -> 60/12 | C79: ='Прайс повний'!C237 -> OCH | D79: ='Прайс повний'!E237 -> Блискавкоприймач окремостоячий 12 м | E79: 56 120 | G79: ='Прайс повний'!G237 -> шт. | H79: ='Прайс повний'!I237 -> 38384.77 | I79: ='Прайс повний'!J237 -> 38384.77
B80: ='Прайс повний'!B238 -> 60/13 | C80: ='Прайс повний'!C238 -> OCH | D80: ='Прайс повний'!E238 -> Блискавкоприймач окремостоячий 13 м | E80: 56 130 | G80: ='Прайс повний'!G238 -> шт. | H80: ='Прайс повний'!I238 -> 38384.77 | I80: ='Прайс повний'!J238 -> 38384.77
B81: ='Прайс повний'!B239 -> 60/14 | C81: ='Прайс повний'!C239 -> OCH | D81: ='Прайс повний'!E239 -> Блискавкоприймач окремостоячий 14 м | E81: 56 140 | G81: ='Прайс повний'!G239 -> шт. | H81: ='Прайс повний'!I239 -> 40662.97 | I81: ='Прайс повний'!J239 -> 40662.97
B82: ='Прайс повний'!B240 -> 60/15 | C82: ='Прайс повний'!C240 -> OCH | D82: ='Прайс повний'!E240 -> Блискавкоприймач окремостоячий 15 м | E82: 56 150 | G82: ='Прайс повний'!G240 -> шт. | H82: ='Прайс повний'!I240 -> 42637.27 | I82: ='Прайс повний'!J240 -> 42637.27
B83: ='Прайс повний'!B241 -> 60/16 | C83: ='Прайс повний'!C241 -> OCH | D83: ='Прайс повний'!E241 -> Блискавкоприймач окремостоячий 16 м | E83: 56 160 | G83: ='Прайс повний'!G241 -> шт. | H83: ='Прайс повний'!I241 -> 47040.46 | I83: ='Прайс повний'!J241 -> 47040.46
B84: ='Прайс повний'!B242 -> 60/17 | C84: ='Прайс повний'!C242 -> OCH | D84: ='Прайс повний'!E242 -> Блискавкоприймач окремостоячий 17 м | E84: 56 170 | G84: ='Прайс повний'!G242 -> шт. | H84: ='Прайс повний'!I242 -> 84951.72 | I84: ='Прайс повний'!J242 -> 84951.72
B85: ='Прайс повний'!B243 -> 60/18 | C85: ='Прайс повний'!C243 -> OCH | D85: ='Прайс повний'!E243 -> Блискавкоприймач окремостоячий 18 м | E85: 56 180 | G85: ='Прайс повний'!G243 -> шт. | H85: ='Прайс повний'!I243 -> 87034.82 | I85: ='Прайс повний'!J243 -> 87034.82
B86: ='Прайс повний'!B244 -> 60/19 | C86: ='Прайс повний'!C244 -> OCH | D86: ='Прайс повний'!E244 -> Блискавкоприймач окремостоячий 19 м | E86: 57 190 | G86: ='Прайс повний'!G244 -> шт. | H86: ='Прайс повний'!I244 -> 88065.12 | I86: ='Прайс повний'!J244 -> 88065.12
B87: ='Прайс повний'!B245 -> 60/20 | C87: ='Прайс повний'!C245 -> OCH | D87: ='Прайс повний'!E245 -> Блискавкоприймач окремостоячий 20 м | E87: 56 200 | G87: ='Прайс повний'!G245 -> шт. | H87: ='Прайс повний'!I245 -> 95223.29 | I87: ='Прайс повний'!J245 -> 95223.29
B88: ='Прайс повний'!B246 -> 60/21 | C88: ='Прайс повний'!C246 -> OCH | D88: ='Прайс повний'!E246 -> Блискавкоприймач окремостоячий 21 м | E88: 57 210 | G88: ='Прайс повний'!G246 -> шт. | H88: ='Прайс повний'!I246 -> 102314.8 | I88: ='Прайс повний'!J246 -> 102314.8
... B98: ='Прайс повний'!B256 -> 60/31 | C98: ='Прайс повний'!C256 -> OCH | D98: ='Прайс повний'!E256 -> Блискавкоприймач окремостоячий 31 м | E98: 59 280 | G98: ='Прайс повний'!G256 -> шт. | H98: ='Прайс повний'!I256 -> 244525 | I98: ='Прайс повний'!J256 -> 244525
B99: ='Прайс повний'!B257 -> 60/0 | D99: ='Прайс повний'!E257 -> Анкерна закладна для блискавкоприймача 8-10м | E99: 56 000 | G99: ='Прайс повний'!G257 -> шт. | H99: ='Прайс повний'!I257 -> 3511.52 | I99: ='Прайс повний'!J257 -> 3511.52
B100: ='Прайс повний'!B258 -> 60/1 | D100: ='Прайс повний'!E258 -> Анкерна закладна для блискавкоприймача 11-16м | E100: 56 010 | G100: ='Прайс повний'!G258 -> шт. | H100: ='Прайс повний'!I258 -> 5589.57 | I100: ='Прайс повний'!J258 -> 5589.57
B101: ='Прайс повний'!B259 -> 60/2 | D101: ='Прайс повний'!E259 -> Анкерна закладна для блискавкоприймача 17-22м | E101: 56 020 | G101: ='Прайс повний'!G259 -> шт. | H101: ='Прайс повний'!I259 -> 10652.7 | I101: ='Прайс повний'!J259 -> 10652.7
B102: ='Прайс повний'!B260 -> 60/3 | D102: ='Прайс повний'!E260 -> Анкерна закладна для блискавкоприймача 23-28м | E102: 56 030 | G102: ='Прайс повний'!G260 -> шт. | H102: ='Прайс повний'!I260 -> 18832.52 | I102: ='Прайс повний'!J260 -> 18832.52
B103: ='Прайс повний'!B261 -> 60/4 | D103: ='Прайс повний'!E261 -> Анкерна закладна для блискавкоприймача 29-31м | E103: 57 030 | G103: ='Прайс повний'!G261 -> шт. | H103: ='Прайс повний'!I261 -> 27247.5 | I103: ='Прайс повний'!J261 -> 27247.5

Sheet Активний Блискавкозахист
A1: #VALUE! | B1: #VALUE! | D1: Блискавкозахист та заземлення | G1: =Заземлення!G1 -> Прайс-лист від 20.05.2026р.
D3: +38(067) 314 07 85, +38(097) 095 63 06 | G3: Введіть Вашу знижку %
A4: Вигляд | B4: Код | C4: Матеріал | D4: Назва | E4: Артикул | F4: Опис | G4: Од. вим. | H4: Ціна грн., з ПДВ | I4: Ціна грн., з ПДВ зі знижкою | J4: Введіть потрібну кількість
A5: АКТИВНІ БЛИСКАВКОПРИЙМАЧІ
B6: ='Прайс повний'!B263 -> А-25 | C6: ='Прайс повний'!C263 -> Ni | D6: ='Прайс повний'!E263 -> Gromostar 25 | E6: ='Прайс повний'!A263 -> 59 200 | F6: ='Прайс повний'!F263 -> Активний блискавко приймач Gromostar 25, Польща | G6: ='Прайс повний'!G263 -> шт. | H6: ='Прайс повний'!I263 -> 47190 | I6: ='Прайс повний'!J263 -> 47190 | K6: Ціна залежить від курсу НБУ. Ціну уточнюйте в день замовлення
B7: ='Прайс повний'!B264 -> А-35 | C7: ='Прайс повний'!C264 -> Ni | D7: ='Прайс повний'!E264 -> Gromostar 35 | E7: ='Прайс повний'!A264 -> 59 201 | F7: ='Прайс повний'!F264 -> Активний блискавко приймач Gromostar 35, Польща | G7: ='Прайс повний'!G264 -> шт. | H7: ='Прайс повний'!I264 -> 51090 | I7: ='Прайс повний'!J264 -> 51090
B8: ='Прайс повний'!B265 -> А-45 | C8: ='Прайс повний'!C265 -> Ni | D8: ='Прайс повний'!E265 -> Gromostar 45 | E8: ='Прайс повний'!A265 -> 59 202 | F8: ='Прайс повний'!F265 -> Активний блискавко приймач Gromostar 45, Польща | G8: ='Прайс повний'!G265 -> шт. | H8: ='Прайс повний'!I265 -> 58370 | I8: ='Прайс повний'!J265 -> 58370
B9: ='Прайс повний'!B266 -> А-60 | C9: ='Прайс повний'!C266 -> Ni | D9: ='Прайс повний'!E266 -> Gromostar 60 | E9: ='Прайс повний'!A266 -> 59 203 | F9: ='Прайс повний'!F266 -> Активний блискавко приймач Gromostar 60, Польща | G9: ='Прайс повний'!G266 -> шт. | H9: ='Прайс повний'!I266 -> 60580 | I9: ='Прайс повний'!J266 -> 60580
B10: ='Прайс повний'!B267 -> ALR 02 | C10: ='Прайс повний'!C267 -> Ni | D10: ='Прайс повний'!E267 -> KALRE ESE ALR 02 | F10: ='Прайс повний'!F267 -> Активний блискавко приймач KALRE ESE ALR 02, Туреччина, часове випередження 30ms. | G10: ='Прайс повний'!G267 -> шт. | H10: ='Прайс повний'!I267 -> 22085.11 | I10: ='Прайс повний'!J267 -> 22085.11
B11: ='Прайс повний'!B268 -> ALR 04 | C11: ='Прайс повний'!C268 -> Ni | D11: ='Прайс повний'!E268 -> KALRE ESE ALR 04 | F11: ='Прайс повний'!F268 -> Активний блискавко приймач KALRE ESE ALR 02, Туреччина, часове випередження 45ms. | G11: ='Прайс повний'!G268 -> шт. | H11: ='Прайс повний'!I268 -> 24056.99 | I11: ='Прайс повний'!J268 -> 24056.99
B12: ='Прайс повний'!B269 -> ALR 06 | C12: ='Прайс повний'!C269 -> Ni | D12: ='Прайс повний'!E269 -> KALRE ESE ALR 06 | F12: ='Прайс повний'!F269 -> Активний блискавко приймач KALRE ESE ALR 02, Туреччина, часове випередження 60ms. | G12: ='Прайс повний'!G269 -> шт. | H12: ='Прайс повний'!I269 -> 26423.26 | I12: ='Прайс повний'!J269 -> 26423.26
B13: ='Прайс повний'!B270 -> LAPCX 040 | C13: ='Прайс повний'!C270 -> Ni | D13: ='Прайс повний'!E270 -> Liva Grup LAP-CX040 TYPE ( 22µs) | F13: ='Прайс повний'!F270 -> LAPCX 040 TYPE , 1 рівень-40м, 2й рівень-46м, 3й рівень-54м, 4й рівень-62м. Туреччина | G13: ='Прайс повний'!G270 -> шт. | H13: ='Прайс повний'!I270 -> 22742.72 | I13: ='Прайс повний'!J270 -> 22742.72
B14: ='Прайс повний'!B271 -> LAPCX 070 | C14: ='Прайс повний'!C271 -> Ni | D14: ='Прайс повний'!E271 -> Liva Grup LAP-CX070 TYPE ( 31µs) | F14: ='Прайс повний'!F271 -> LAPCX 070 TYPE , 1 рівень-49м, 2й рівень-56м, 3й рівень-65м, 4й рівень-73м. Туреччина | G14: ='Прайс повний'!G271 -> шт. | H14: ='Прайс повний'!I271 -> 24896.14 | I14: ='Прайс повний'!J271 -> 24896.14
B15: ='Прайс повний'!B272 -> LSC-100E | D15: ='Прайс повний'!E272 -> Реєстратор ударів блискавки електронний | E15: ='Прайс повний'!A272 -> 59 205 | F15: ='Прайс повний'!F272 -> Електронний реєстратор ударів блискавки | G15: ='Прайс повний'!G272 -> шт. | H15: ='Прайс повний'!I272 -> 4680 | I15: ='Прайс повний'!J272 -> 4680
B16: ='Прайс повний'!B273 -> PLW-02.B | D16: ='Прайс повний'!E273 -> PLW-02.B | E16: ='Прайс повний'!A273 -> 59 204 | F16: ='Прайс повний'!F273 -> Реєстратор ударів блискавки PLW-02.B | G16: ='Прайс повний'!G273 -> шт. | H16: ='Прайс повний'!I273 -> 19890 | I16: ='Прайс повний'!J273 -> 19890
A17: ЩОГЛА АКТИВНОГО БЛИСКАВКОПРИЙМАЧА
B18: 52/30/30А | C18: ='Прайс повний'!C275 -> Ni | D18: ='Прайс повний'!E275 -> Щогла активного блискавкоприймача з нержавіючої сталі 3м | E18: 52 032 | F18: ='Прайс повний'!F275 -> Щогла активного блискавкоприймача з нержавіючої сталі діаметром 32 мм в основі | G18: шт. | H18: ='Прайс повний'!I275 -> 2500.32 | I18: ='Прайс повний'!J275 -> 2500.32
B19: 52/40/40А | C19: ='Прайс повний'!C276 -> Ni | D19: ='Прайс повний'!E276 -> Щогла активного блискавкоприймача з нержавіючої сталі 4м. | E19: 52 042 | F19: ='Прайс повний'!F276 -> Щогла активного блискавкоприймача з нержавіючої сталі діаметром 42 мм в основі | G19: шт. | H19: ='Прайс повний'!I276 -> 4425.29 | I19: ='Прайс повний'!J276 -> 4425.29
B20: 52/40/50А | C20: ='Прайс повний'!C277 -> Ni | D20: ='Прайс повний'!E277 -> Щогла активного блискавкоприймача з нержавіючої сталі 5м. | E20: 52 052 | F20: ='Прайс повний'!F277 -> Щогла активного блискавкоприймача з нержавіючої сталі діаметром 42 мм в основі | G20: шт. | H20: ='Прайс повний'!I277 -> 4929.71 | I20: ='Прайс повний'!J277 -> 4929.71
B21: 52/40/60А | C21: ='Прайс повний'!C278 -> Ni | D21: ='Прайс повний'!E278 -> Щогла активного блискавкоприймача з нержавіючої сталі 6м. | E21: 52 062 | F21: ='Прайс повний'!F278 -> Щогла активного блискавкоприймача з нержавіючої сталі діаметром 42 мм в основі | G21: шт. | H21: ='Прайс повний'!I278 -> 5644.08 | I21: ='Прайс повний'!J278 -> 5644.08
B22: 52/40/70А | C22: ='Прайс повний'!C279 -> Ni | D22: ='Прайс повний'!E279 -> Щогла активного блискавкоприймача з нержавіючої сталі 7м. | E22: 52 072 | F22: ='Прайс повний'!F279 -> Щогла активного блискавкоприймача з нержавіючої сталі діаметром 42 мм в основі | G22: шт. | H22: ='Прайс повний'!I279 -> 8766.04 | I22: ='Прайс повний'!J279 -> 8766.04
B23: 52/40/80А | C23: ='Прайс повний'!C280 -> Ni | D23: ='Прайс повний'!E280 -> Щогла активного блискавкоприймача з нержавіючої сталі 8м. | E23: 52 082 | F23: ='Прайс повний'!F280 -> Щогла активного блискавкоприймача з нержавіючої сталі діаметром 42 мм в основі | G23: шт. | H23: ='Прайс повний'!I280 -> 9459.97 | I23: ='Прайс повний'!J280 -> 9459.97

Sheet ПЗІП
A1: #VALUE! | B1: #VALUE! | D1: Блискавкозахист та заземлення | G1: =Заземлення!G1 -> Прайс-лист від 20.05.2026р.
D3: +38(067) 314 07 85, +38(097) 095 63 06 | G3: Фіксована знижка %
A4: Вигляд | B4: Код | C4: Матеріал | D4: Назва | E4: Артикул | F4: Опис | G4: Од. вим. | H4: Ціна грн., з ПДВ | I4: Ціна грн., з ПДВ зі знижкою | J4: Введіть потрібну кількість
F5: ПЗІП CITEL
B6: ='Прайс повний'!B387 -> 99015 | D6: ='Прайс повний'!E387 -> DLU2-06D3 | E6: ='Прайс повний'!A387 -> 99015 | F6: ='Прайс повний'!F387 -> ПЗІП для телефонних ліній | G6: шт. | H6: ='Прайс повний'!I387 -> 2733.59 | I6: ='Прайс повний'!J387 -> 2733.59
B7: ='Прайс повний'!B388 -> 99020 | D7: ='Прайс повний'!E388 -> DLU2-12D3 | E7: ='Прайс повний'!A388 -> 99020 | G7: шт. | H7: ='Прайс повний'!I388 -> 2733.59 | I7: ='Прайс повний'!J388 -> 2733.59
B8: ='Прайс повний'!B389 -> 99021 | D8: ='Прайс повний'!E389 -> DS132VG-230/G | E8: ='Прайс повний'!A389 -> 99021 | F8: ='Прайс повний'!F390 -> ПЗІП для мереж змінного струму | G8: шт. | H8: ='Прайс повний'!I389 -> 7581.34 | I8: ='Прайс повний'!J389 -> 7581.34
B9: ='Прайс повний'!B390 -> 99012 | D9: ='Прайс повний'!E390 -> DS132VGS-230/G | E9: ='Прайс повний'!A390 -> 99012 | G9: шт. | H9: ='Прайс повний'!I390 -> 8283.03 | I9: ='Прайс повний'!J390 -> 8283.03
B10: ='Прайс повний'!B391 -> 99022 | D10: ='Прайс повний'!E391 -> DS132R-230/G | E10: ='Прайс повний'!A391 -> 99022 | G10: шт. | H10: ='Прайс повний'!I391 -> 5414.08 | I10: ='Прайс повний'!J391 -> 5414.08
B11: ='Прайс повний'!B392 -> 99011 | D11: ='Прайс повний'!E392 -> DS133VGS-230 | E11: ='Прайс повний'!A392 -> 99011 | G11: шт. | H11: ='Прайс повний'!I392 -> 12424.88 | I11: ='Прайс повний'!J392 -> 12424.88
B12: ='Прайс повний'!B393 -> 99023 | D12: ='Прайс повний'!E393 -> DS134R-230/G | E12: ='Прайс повний'!A393 -> 99023 | G12: шт. | H12: ='Прайс повний'!I393 -> 10705.14 | I12: ='Прайс повний'!J393 -> 10705.14
B13: ='Прайс повний'!B394 -> 99010 | D13: ='Прайс повний'!E394 -> DS134RS-230/G | E13: ='Прайс повний'!A394 -> 99010 | G13: шт. | H13: ='Прайс повний'!I394 -> 11582.58 | I13: ='Прайс повний'!J394 -> 11582.58
B14: ='Прайс повний'!B395 -> 99009 | D14: ='Прайс повний'!E395 -> DS134VG-230/G | E14: ='Прайс повний'!A395 -> 99009 | G14: шт. | H14: ='Прайс повний'!I395 -> 14846.31 | I14: ='Прайс повний'!J395 -> 14846.31
B15: ='Прайс повний'!B396 -> 99024 | D15: ='Прайс повний'!E396 -> DS134VGS-230/G | E15: ='Прайс повний'!A396 -> 99024 | G15: шт. | H15: ='Прайс повний'!I396 -> 16215.21 | I15: ='Прайс повний'!J396 -> 16215.21
B16: ='Прайс повний'!B397 -> 99007 | D16: ='Прайс повний'!E397 -> DS253VG-300 | E16: ='Прайс повний'!A397 -> 99007 | G16: шт. | H16: ='Прайс повний'!I397 -> 31588.13 | I16: ='Прайс повний'!J397 -> 31588.13
B17: ='Прайс повний'!B398 -> 99006 | D17: ='Прайс повний'!E398 -> DS254VG-300/G | E17: ='Прайс повний'!A398 -> 99006 | G17: шт. | H17: ='Прайс повний'!I398 -> 43737.41 | I17: ='Прайс повний'!J398 -> 43737.41
B18: ='Прайс повний'!B399 -> 99025 | D18: ='Прайс повний'!E399 -> DS42VG-230 | E18: ='Прайс повний'!A399 -> 99025 | G18: шт. | H18: ='Прайс повний'!I399 -> 4938.57 | I18: ='Прайс повний'!J399 -> 4938.57
B19: ='Прайс повний'!B400 -> 99014 | D19: ='Прайс повний'!E400 -> DS42VGS-230/G | E19: ='Прайс повний'!A400 -> 99014 | G19: шт. | H19: ='Прайс повний'!I400 -> 5141.66 | I19: ='Прайс повний'!J400 -> 5141.66
B20: ='Прайс повний'!B401 -> 99026 | D20: ='Прайс повний'!E401 -> DS43VGS-230 | E20: ='Прайс повний'!A401 -> 99026 | G20: шт. | H20: ='Прайс повний'!I401 -> 7546.19 | I20: ='Прайс повний'!J401 -> 7546.19
B21: ='Прайс повний'!B402 -> 99013 | D21: ='Прайс повний'!E402 -> DS44VGS-230/G | E21: ='Прайс повний'!A402 -> 99013 | G21: шт. | H21: ='Прайс повний'!I402 -> 10029.14 | I21: ='Прайс повний'!J402 -> 10029.14
B22: ='Прайс повний'!B403 -> 99005 | D22: ='Прайс повний'!E403 -> MJ8-CAT5E | E22: ='Прайс повний'!A403 -> 99005 | F22: ='Прайс повний'!F404 -> ПЗІП для ліній передачі даних | G22: шт. | H22: ='Прайс повний'!I403 -> 3807.91 | I22: ='Прайс повний'!J403 -> 3807.91
B23: ='Прайс повний'!B404 -> 99003 | D23: ='Прайс повний'!E404 -> MJ8-POE-A | E23: ='Прайс повний'!A404 -> 99003 | G23: шт. | H23: ='Прайс повний'!I404 -> 3807.91 | I23: ='Прайс повний'!J404 -> 3807.91
B24: ='Прайс повний'!B405 -> 99004 | D24: ='Прайс повний'!E405 -> MJ8-POE-B | E24: ='Прайс повний'!A405 -> 99004 | G24: шт. | H24: ='Прайс повний'!I405 -> 3807.91 | I24: ='Прайс повний'!J405 -> 3807.91
B25: ='Прайс повний'!B406 -> 99002 | D25: ='Прайс повний'!E406 -> P8AX09-N/FF | E25: ='Прайс повний'!A406 -> 99002 | F25: ='Прайс повний'!F406 -> ПЗІП для високочастотних коаксіальних ліній | G25: шт. | H25: ='Прайс повний'!I406 -> 3492.22 | I25: ='Прайс повний'!J406 -> 3492.22
B26: ='Прайс повний'!B407 -> 99001 | D26: ='Прайс повний'!E407 -> P8AX09-N/MF | E26: ='Прайс повний'!A407 -> 99001 | G26: шт. | H26: ='Прайс повний'!I407 -> 3492.22 | I26: ='Прайс повний'!J407 -> 3492.22
B27: ='Прайс повний'!B408 -> 99016 | D27: ='Прайс повний'!E408 -> DS220-48DC | E27: ='Прайс повний'!A408 -> 99016 | F27: ='Прайс повний'!F410 -> ПЗІП для фітоелектричних систем та мереж постійного струму | G27: шт. | H27: ='Прайс повний'!I408 -> 2808.1 | I27: ='Прайс повний'!J408 -> 2808.1
B28: ='Прайс повний'!B409 -> 99017 | D28: ='Прайс повний'!E409 -> DS220S-48DC | E28: ='Прайс повний'!A409 -> 99017 | G28: шт. | H28: ='Прайс повний'!I409 -> 3071.07 | I28: ='Прайс повний'!J409 -> 3071.07
B29: ='Прайс повний'!B410 -> 99018 | D29: ='Прайс повний'!E410 -> DS230S-48DC | E29: ='Прайс повний'!A410 -> 99018 | G29: шт. | H29: ='Прайс повний'!I410 -> 3071.07 | I29: ='Прайс повний'!J410 -> 3071.07
B30: ='Прайс повний'!B411 -> 99019 | D30: ='Прайс повний'!E411 -> DS240S-230/G | E30: ='Прайс повний'!A411 -> 99019 | G30: шт. | H30: ='Прайс повний'!I411 -> 4720.51 | I30: ='Прайс повний'!J411 -> 4720.51
F31: ПЗІП SALTEK
B32: ='Прайс повний'!A516 -> A03421 | D32: ='Прайс повний'!E516 -> FLP-12,5 V/1 | E32: ='Прайс повний'!A516 -> A03421 | F32: ='Прайс повний'!F516 -> Для захисту від впливу часткових струмів блискавки, індукованї напруги при ударі блискавки і від комутаційної перенапруги. | G32: шт. | H32: ='Прайс повний'!I516 -> 2176.65 | I32: ='Прайс повний'!J516 -> 2176.65
B33: ='Прайс повний'!A517 -> A03423 | D33: ='Прайс повний'!E517 -> FLP-12,5 V/1+1 | E33: ='Прайс повний'!A517 -> A03423 | G33: шт. | H33: ='Прайс повний'!I517 -> 4940.55 | I33: ='Прайс повний'!J517 -> 4940.55
B34: ='Прайс повний'!A518 -> A03425 | D34: ='Прайс повний'!E518 -> FLP-12,5 V/3 | E34: ='Прайс повний'!A518 -> A03425 | G34: шт. | H34: ='Прайс повний'!I518 -> 6243.3 | I34: ='Прайс повний'!J518 -> 6243.3
B35: ='Прайс повний'!A519 -> A03427 | D35: ='Прайс повний'!E519 -> FLP-12,5 V/3+1 | E35: ='Прайс повний'!A519 -> A03427 | G35: шт. | H35: ='Прайс повний'!I519 -> 9166.5 | I35: ='Прайс повний'!J519 -> 9166.5
B36: ='Прайс повний'!A520 -> A05091 | D36: ='Прайс повний'!E520 -> FLP-B+C MAXI V/1 | E36: ='Прайс повний'!A520 -> A05091 | F36: ='Прайс повний'!F520 -> Для захисту від перенапруги при прямому і непрямому ударі блискавки. Підходить для об'єктів з однофазним електроживленням або для допоміжних розподільних щитових великих об'єктів. | G36: шт. | H36: ='Прайс повний'!I520 -> 6205.95 | I36: ='Прайс повний'!J520 -> 6205.95
B37: ='Прайс повний'!A521 -> A05095 | D37: ='Прайс повний'!E521 -> FLP-B+C MAXI V/1+1 | E37: ='Прайс повний'!A521 -> A05095 | G37: шт. | H37: ='Прайс повний'!I521 -> 10774.8 | I37: ='Прайс повний'!J521 -> 10774.8
B38: ='Прайс повний'!A522 -> A05093 | D38: ='Прайс повний'!E522 -> FLP-B+C MAXI V/3 | E38: ='Прайс повний'!A522 -> A05093 | G38: шт. | H38: ='Прайс повний'!I522 -> 16621.2 | I38: ='Прайс повний'!J522 -> 16621.2
B39: ='Прайс повний'!A523 -> A05096 | D39: ='Прайс повний'!E523 -> FLP-B+C MAXI V/3+1 | E39: ='Прайс повний'!A523 -> A05096 | G39: шт. | H39: ='Прайс повний'!I523 -> 24782.85 | I39: ='Прайс повний'!J523 -> 24782.85
B40: ='Прайс повний'!A524 -> A01617 | D40: ='Прайс повний'!E524 -> SLP-275 V/1 | E40: ='Прайс повний'!A524 -> A01617 | F40: ='Прайс повний'!F524 -> Для захисту ланцюгів і пристроїв від впливу індукованої напруги при ударі блискавки і від комутаційної перенапруги. | G40: шт. | H40: ='Прайс повний'!I524 -> 1428.3 | I40: ='Прайс повний'!J524 -> 1428.3
B41: ='Прайс повний'!A525 -> A01948 | D41: ='Прайс повний'!E525 -> SLP-275 V/1+1 | E41: ='Прайс повний'!A525 -> A01948 | G41: шт. | H41: ='Прайс повний'!I525 -> 3140.55 | I41: ='Прайс повний'!J525 -> 3140.55
B42: ='Прайс повний'!A526 -> A01760 | D42: ='Прайс повний'!E526 -> SLP-275 V/3 | E42: ='Прайс повний'!A526 -> A01760 | G42: шт. | H42: ='Прайс повний'!I526 -> 3584.7 | I42: ='Прайс повний'!J526 -> 3584.7
B43: ='Прайс повний'!A527 -> A01946 | D43: ='Прайс повний'!E527 -> SLP-275 V/3+1 | E43: ='Прайс повний'!A527 -> A01946 | G43: шт. | H43: ='Прайс повний'!I527 -> 5641.2 | I43: ='Прайс повний'!J527 -> 5641.2
B44: ='Прайс повний'!A528 -> A01872 | D44: ='Прайс повний'!E528 -> DA-275 V/1+1 | E44: ='Прайс повний'!A528 -> A01872 | G44: шт. | H44: ='Прайс повний'!I528 -> 3119.85 | I44: ='Прайс повний'!J528 -> 3119.85
B45: ='Прайс повний'!A529 -> A01848 | D45: ='Прайс повний'!E529 -> DA-275 V/3+1 | E45: ='Прайс повний'!A529 -> A01848 | G45: шт. | H45: ='Прайс повний'!I529 -> 5302.35 | I45: ='Прайс повний'!J529 -> 5302.35
B46: ='Прайс повний'!A530 -> DA275A | D46: ='Прайс повний'!E530 -> DA-275 A | E46: ='Прайс повний'!A530 -> DA275A | F46: ='Прайс повний'!F530 -> Однофазний пристрій захисту від перенапруг | G46: шт. | H46: ='Прайс повний'!I530 -> 2006.55 | I46: ='Прайс повний'!J530 -> 2006.55
F47: ПЗІП RST
B48: ='Прайс повний'!A413 -> 901401 | D48: ='Прайс повний'!E413 -> RST Power T1+T2 1+0 275V | E48: ='Прайс повний'!D413 -> 901401 | F48: ='Прайс повний'!F413 -> Захист електроживлення АC; TN, TNC, TNS | G48: шт. | H48: ='Прайс повний'!I413 -> 1287 | I48: ='Прайс повний'!J413 -> 1287
B49: ='Прайс повний'!A414 -> 901404 | D49: ='Прайс повний'!E414 -> RST Power T1+T2 4+0 275V | E49: ='Прайс повний'!D414 -> 901404 | F49: ='Прайс повний'!F414 -> Захист електроживлення АC; 3ф TNS | G49: шт. | H49: ='Прайс повний'!I414 -> 5163 | I49: ='Прайс повний'!J414 -> 5163
B50: ='Прайс повний'!A415 -> 901418 | D50: ='Прайс повний'!E415 -> RST Power T1+T2 3+1 275V FM | E50: ='Прайс повний'!D415 -> 901418 | F50: ='Прайс повний'!F415 -> Захист електроживлення АC; 3ф TNS, TT | G50: шт. | H50: ='Прайс повний'!I415 -> 5856 | I50: ='Прайс повний'!J415 -> 5856
B51: ='Прайс повний'!A416 -> 901416 | D51: ='Прайс повний'!E416 -> RST Power T1+T2 1+1 275V FM | E51: ='Прайс повний'!D416 -> 901416 | F51: ='Прайс повний'!F416 -> Захист електроживлення АC; 1ф TN, TT | G51: шт. | H51: ='Прайс повний'!I416 -> 2970 | I51: ='Прайс повний'!J416 -> 2970
B52: ='Прайс повний'!A417 -> 902201 | D52: ='Прайс повний'!E417 -> RST Power T2 1+0 275V | E52: ='Прайс повний'!D417 -> 902201 | F52: ='Прайс повний'!F417 -> Захист електроживлення АC; TN, TNC, TNS | G52: шт. | H52: ='Прайс повний'!I417 -> 693 | I52: ='Прайс повний'!J417 -> 693
B53: ='Прайс повний'!A418 -> 902204 | D53: ='Прайс повний'!E418 -> RST Power T2 4+0 275V | E53: ='Прайс повний'!D418 -> 902204 | F53: ='Прайс повний'!F418 -> Захист електроживлення АC; 3ф TNS | G53: шт. | H53: ='Прайс повний'!I418 -> 2730 | I53: ='Прайс повний'!J418 -> 2730
B54: ='Прайс повний'!A419 -> 902218 | D54: ='Прайс повний'!E419 -> RST Power T2 3+1 275V FM | E54: ='Прайс повний'!D419 -> 902218 | F54: ='Прайс повний'!F419 -> Захист електроживлення АC; 3ф TNS. TT | G54: шт. | H54: ='Прайс повний'!I419 -> 3438 | I54: ='Прайс повний'!J419 -> 3438
B55: ='Прайс повний'!A420 -> 902216 | D55: ='Прайс повний'!E420 -> RST Power T2 1+1 275V FM | E55: ='Прайс повний'!D420 -> 902216 | F55: ='Прайс повний'!F420 -> Захист електроживлення АC; 1ф TN, TT | G55: шт. | H55: ='Прайс повний'!I420 -> 1515 | I55: ='Прайс повний'!J420 -> 1515
B56: ='Прайс повний'!A421 -> 903302 | D56: ='Прайс повний'!E421 -> RST Power T3 255V/16A | E56: ='Прайс повний'!D421 -> 903302 | F56: ='Прайс повний'!F421 -> Захист електроживлення АC; 1ф TN, TT | G56: шт. | H56: ='Прайс повний'!I421 -> 849 | I56: ='Прайс повний'!J421 -> 849
B57: ='Прайс повний'!A422 -> 941402 | D57: ='Прайс повний'!E422 -> RST Solar PV T1+T2 G 1000V DC | E57: ='Прайс повний'!D422 -> 941402 | F57: ='Прайс повний'!F422 -> Захист фотоелектриних систем DC | G57: шт. | H57: ='Прайс повний'!I422 -> 4881 | I57: ='Прайс повний'!J422 -> 4881
B58: ='Прайс повний'!A423 -> 941502 | D58: ='Прайс повний'!E423 -> RST Solar PV T1+T2 Y 1200V DC | E58: ='Прайс повний'!D423 -> 941502 | F58: ='Прайс повний'!F423 -> Захист фотоелектриних систем DC | G58: шт. | H58: ='Прайс повний'!I423 -> 5262 | I58: ='Прайс повний'!J423 -> 5262
B59: ='Прайс повний'!A424 -> 941506 | D59: ='Прайс повний'!E424 -> RST Solar PV T1+T2 Y 1500V DC FM | E59: ='Прайс повний'!D424 -> 941506 | F59: ='Прайс повний'!F424 -> Захист фотоелектриних систем DC | G59: шт. | H59: ='Прайс повний'!I424 -> 9477 | I59: ='Прайс повний'!J424 -> 9477
B60: ='Прайс повний'!A425 -> 942202 | D60: ='Прайс повний'!E425 -> RST Solar PV T2 G 1000V DC | E60: ='Прайс повний'!D425 -> 942202 | F60: ='Прайс повний'!F425 -> Захист фотоелектриних систем DC | G60: шт. | H60: ='Прайс повний'!I425 -> 3012 | I60: ='Прайс повний'!J425 -> 3012
B61: ='Прайс повний'!B426 -> 942302 | D61: ='Прайс повний'!E426 -> RST Solar PV T2 G 1200V DC | E61: ='Прайс повний'!D426 -> 942302 | F61: ='Прайс повний'!F426 -> Захист фотоелектриних систем DC | G61: шт. | H61: ='Прайс повний'!I426 -> 3297 | I61: ='Прайс повний'!J426 -> 3297
A63: БУДЬТЕ УВАЖНІ!!! ЦІНА НА ДАНІ ТОВАРИ ЗАЛЕЖИТЬ ВІД КУРСУ ЄВРО В ДЕНЬ ПОКУПКИ. ДАНА ЦІНА АКТУАЛЬНА СТАНОМ НА 19.05.2026р. ДІЗНАТИСЯ АКТУАЛЬНУ ЦІНУ НА СЬОГОДНІ - ТЕЛЕФОНУЙТЕ АБО ПИШІТЬ!

Sheet Супутні товари
A1: #VALUE! | B1: #VALUE! | D1: Блискавкозахист та заземлення | G1: =Заземлення!G1 -> Прайс-лист від 20.05.2026р.
D3: +38(067) 314 07 85, +38(097) 095 63 06 | G3: Фіксована знижка %
A4: Вигляд | B4: Код | C4: Матеріал | D4: Назва | E4: Артикул | F4: Опис | G4: Од. вим. | H4: Ціна грн., з ПДВ | I4: Ціна грн., з ПДВ зі знижкою | J4: Введіть потрібну кількість
A5: СУПУТНІ ТОВАРИ
D6: Машинка для вирівнювання дроту | E6: 60 010 | F6: ='Прайс повний'!F379 -> Універсальні пристрій для вирівнювання дроту і полоси, к-сть роликів - 9шт. | G6: шт. | H6: ='Прайс повний'!I379 -> 35000 | I6: ='Прайс повний'!J379 -> 35000
C7: OC | D7: Гвинт 4,8 х 22 | E7: 60 011 | F7: Гвинти самонарізні із загартованої вуглецевої сталі | G7: 100 шт. | H7: ='Прайс повний'!I380 -> 94 | I7: ='Прайс повний'!J380 -> 94
C8: OC | D8: Гвинт 4,8 х 32 | E8: 60 012 | G8: 100 шт. | H8: ='Прайс повний'!I381 -> 128 | I8: ='Прайс повний'!J381 -> 128
C9: OC | D9: Гвинт 4,8 х 38 | E9: 60 013 | G9: 100 шт. | H9: ='Прайс повний'!I382 -> 154 | I9: ='Прайс повний'!J382 -> 154
C10: OC | D10: Гвинт 4,8 х 50 | E10: 60 014 | G10: 100 шт. | H10: ='Прайс повний'!I383 -> 184 | I10: ='Прайс повний'!J383 -> 184
D11: Шайба з гумовою прокладкою | E11: 60 019 | F11: Шайба металева з ущільнювачем | G11: 100 шт. | H11: ='Прайс повний'!I384 -> 70 | I11: ='Прайс повний'!J384 -> 70
D12: Герметик AQUAFIX | E12: 60 050 | F12: Покрівельний герметик на основі дисперсії пластмас з відмінною адгезією до всіх покрівельних поверхонь | G12: шт. | H12: ='Прайс повний'!I385 -> 380 | I12: ='Прайс повний'!J385 -> 380

Sheet Прайс
C1: Блискавкозахист та заземлення | G1: Прайс-лист від 21.05.2025р.
C3: +38(067) 314 07 85, +38(097) 095 63 06 | G3: Введіть Вашу знижку %
A4: Вигляд | B4: Код | C4: Матеріал | D4: Назва | E4: Артикул | F4: Опис | G4: Од. вим. | H4: Ціна грн., з ПДВ | I4: Ціна грн., з ПДВ зі знижкою | J4: Введіть потрібну кількість | K4: Код УКТЗ
E5: ТРИМАЧІ КРУГЛОГО ПРОВІДНИКА
B6: 01/8 | C6: PL | D6: Тримач пластиковий сірий M8 | E6: 01 010 | F6: Поліамід, колір — сірий, висота монтажу 30 мм, внутрішня різьба М8 | G6: шт. | H6: ='Прайс повний'!I6 -> 17.7 | I6: ='Прайс повний'!J6 -> 17.7 | K6: 3925
B7: 01/6 | C7: PL G | D7: Тримач пластиковий сірий M6 | E7: 01 020 | F7: Поліамід, висота монтажу 30 мм, внутрішня різьба М6. Варіанти кольорів: сірий, червоний RAL 3011, коричневий RAL 8017, "під мідь", рудий RAL 8004. | G7: шт. | H7: ='Прайс повний'!I7 -> 17.7 | I7: ='Прайс повний'!J7 -> 17.7 | K7: 3925
C8: PL R | D8: Тримач пластиковий червоний M6 | E8: 01 030 | G8: шт. | H8: ='Прайс повний'!I8 -> 17.7 | I8: ='Прайс повний'!J8 -> 17.7 | K8: 3925
C9: PL B | D9: Тримач пластиковий коричневий M6 | E9: 01 040 | G9: шт. | H9: ='Прайс повний'!I9 -> 17.7 | I9: ='Прайс повний'!J9 -> 17.7 | K9: 3925
C10: PL Cu | D10: Тримач пластиковий колір мідь M6 | E10: 01 050 | G10: шт. | H10: ='Прайс повний'!I10 -> 17.7 | I10: ='Прайс повний'!J10 -> 17.7 | K10: 3925
C11: PL F | D11: ='Прайс повний'!E11 -> Тримач пластиковий рудий M6 | E11: ='Прайс повний'!A11 -> 01 060 | G11: шт. | H11: ='Прайс повний'!I11 -> 17.7 | I11: ='Прайс повний'!J11 -> 17.7 | K11: 3925
B12: 01/1 | C12: Ni | D12: Тримач дроту Niro | E12: 01 001 | F12: Нержаіюча сталь, висота монтажу 20мм, внутрішня різьба M6, висота тримача 40мм | G12: шт. | H12: ='Прайс повний'!I12 -> 36.76 | I12: ='Прайс повний'!J12 -> 36.76 | K12: 8302
B13: 01/8.2 | C13: PL ОС | D13: Тримач пластиковий з підставкою | E13: 01 070 | F13: Поліамід, колір — сірий, висота монтажу 30 мм, внутрішня різьба М8 | G13: шт. | H13: ='Прайс повний'!I13 -> 46.88 | I13: ='Прайс повний'!J13 -> 46.88 | K13: 3925
B14: 01/1.2 | C14: Ni OC | D14: Тримач дроту Niro з підставкою | E14: 01 080 | F14: Нержавіюча сталь, висота монтажу 40мм | G14: шт. | H14: ='Прайс повний'!I14 -> 63.15 | I14: ='Прайс повний'!J14 -> 63.15 | K14: 8302
B15: ='Прайс повний'!B15 -> 02/8.3 | C15: ='Прайс повний'!C15 -> OC | D15: ='Прайс повний'!E15 -> Тримач дроту металевий | E15: ='Прайс повний'!A15 -> 02 001 | F15: ='Прайс повний'!F15 -> Сталь, гальванічно оцинкована, товщина 2.5 мм | G15: ='Прайс повний'!G15 -> шт. | H15: ='Прайс повний'!I15 -> 59.44 | I15: ='Прайс повний'!J15 -> 59.44 | K15: 8302
B16: ='Прайс повний'!B16 -> 02/8.3 | C16: ='Прайс повний'!C16 -> Cu | D16: ='Прайс повний'!E16 -> Тримач дроту металевий (мідь) | E16: ='Прайс повний'!A16 -> 02 011 | F16: ='Прайс повний'!F16 -> Мідь, товщина 2,5мм | G16: ='Прайс повний'!G16 -> шт. | H16: ='Прайс повний'!I16 -> 218.59 | I16: ='Прайс повний'!J16 -> 218.59 | K16: 7419
B17: ='Прайс повний'!B17 -> 02/16.3 | C17: ='Прайс повний'!C17 -> OC | D17: ='Прайс повний'!E17 -> Тримач блискавкоприймача | E17: ='Прайс повний'!A17 -> 02 002 | F17: ='Прайс повний'!F17 -> Сталь, гальванічно оцинкована, товщина 2.5 мм | G17: ='Прайс повний'!G17 -> шт. | H17: ='Прайс повний'!I17 -> 63.24 | I17: ='Прайс повний'!J17 -> 63.24 | K17: 8302
B18: ='Прайс повний'!B18 -> 02/0.2 | C18: ='Прайс повний'!C18 -> OC | D18: ='Прайс повний'!E18 -> Тримач полоси металевий | E18: ='Прайс повний'!A18 -> 02 003 | F18: ='Прайс повний'!F18 -> Сталь, гальванічно оцинкована, товщина 2.5 мм | G18: ='Прайс повний'!G18 -> шт. | H18: ='Прайс повний'!I18 -> 45.98 | I18: ='Прайс повний'!J18 -> 45.98 | K18: 8302
B19: ='Прайс повний'!B19 -> 02/0.3 | C19: ='Прайс повний'!C19 -> Cu | D19: ='Прайс повний'!E19 -> Тримач полоси металевий (мідь) | E19: ='Прайс повний'!A19 -> 02 013 | F19: ='Прайс повний'!F19 -> Мідь, товщина 2,5мм | G19: ='Прайс повний'!G19 -> шт. | H19: ='Прайс повний'!I19 -> 205.99 | I19: ='Прайс повний'!J19 -> 205.99 | K19: 7419
B20: ='Прайс повний'!B20 -> 02/40.2 | C20: ='Прайс повний'!C20 -> OC | D20: ='Прайс повний'!E20 -> Тримач полоси 40мм металевий | E20: ='Прайс повний'!A20 -> 02 004 | F20: ='Прайс повний'!F20 -> Сталь, гальванічно оцинкована, товщина 2.5 мм | G20: ='Прайс повний'!G20 -> шт. | H20: ='Прайс повний'!I20 -> 53.17 | I20: ='Прайс повний'!J20 -> 53.17 | K20: 8302
B21: ='Прайс повний'!B21 -> 02/8.1 | C21: ='Прайс повний'!C21 -> OC | D21: ='Прайс повний'!E21 -> Скоба тримача дроту | E21: ='Прайс повний'!A21 -> 02 008 | F21: ='Прайс повний'!F21 -> Для кріплення дроту до стіни | G21: ='Прайс повний'!G21 -> шт. | H21: ='Прайс повний'!I21 -> 14.92 | I21: ='Прайс повний'!J21 -> 14.92 | K21: 8302
B22: ='Прайс повний'!B22 -> 02/16.1 | C22: ='Прайс повний'!C22 -> OC | D22: ='Прайс повний'!E22 -> Скоба тримача блискавкоприймача | E22: ='Прайс повний'!A22 -> 02 016 | F22: ='Прайс повний'!F22 -> Для кріплення блискавкоприймача до стіни | G22: ='Прайс повний'!G22 -> шт. | H22: ='Прайс повний'!I22 -> 15.64 | I22: ='Прайс повний'!J22 -> 15.64 | K22: 8302
B23: 03/8.3 ОС | C23: ОС | D23: Тримач дроту подовжений | E23: 03 001 | F23: Металевий тримач для дроту довжиною 100мм | G23: ='Прайс повний'!G25 -> шт. | H23: ='Прайс повний'!I23 -> 109.81 | I23: ='Прайс повний'!J23 -> 109.81 | K23: 8302
B24: 03/16.3 ОС | C24: ОС | D24: Тримач блискавкоприймача подовжений | E24: 03 002 | F24: Тримач для блискавкоприймача довжиною 100 мм | G24: ='Прайс повний'!G26 -> шт. | H24: ='Прайс повний'!I24 -> 113.05 | I24: ='Прайс повний'!J24 -> 113.05 | K24: 8302
B25: 07/OC | C25: OC | D25: Тримач універсальний | E25: 07 000 | F25: Сталь, гальванічно оцинкована, товщина 2 мм, висота монтажу - 100мм. | G25: шт. | H25: ='Прайс повний'!I25 -> 31.93 | I25: ='Прайс повний'!J25 -> 31.93 | K25: 8302
C26: OC 8017 | D26: Тримач універсальний коричневий | E26: 07 001 | F26: Сталь, гальванічно оцинкована, товщина 2 мм, висота монтажу - 100мм. Варіанти кольорів: коричневий RAL 8017, червоний RAL 3011, рудий RAL 8004. | G26: шт. | H26: ='Прайс повний'!I26 -> 43.3 | I26: ='Прайс повний'!J26 -> 43.3 | K26: 8302
C27: OC 3011 | D27: Тримач універсальний червоний | E27: 07 002 | G27: шт. | H27: ='Прайс повний'!I27 -> 43.3 | I27: ='Прайс повний'!J27 -> 43.3 | K27: 8302
C28: OC 8004 | D28: Тримач універсальний рудий | E28: 07 003 | G28: шт. | H28: ='Прайс повний'!I28 -> 43.3 | I28: ='Прайс повний'!J28 -> 43.3 | K28: 8302
B29: ='Прайс повний'!B29 -> 07 | C29: ='Прайс повний'!C29 -> CU | D29: ='Прайс повний'!E29 -> Тримач універсальний мідний | E29: ='Прайс повний'!A29 -> 07 100 | F29: Мідь, товщина 1,5 мм, висота монтажу - 100мм | G29: шт. | H29: ='Прайс повний'!I29 -> 199 | I29: ='Прайс повний'!J29 -> 199 | K29: 8302
B30: 07/S | C30: OC | D30: Тримач універсальний скручений | E30: 07 800 | F30: Сталь, гальванічно оцинкована, товщина 2 мм, з замком на два болти М6, висота монтажу - 100мм | G30: шт. | H30: ='Прайс повний'!I30 -> 45.3 | I30: ='Прайс повний'!J30 -> 45.3 | K30: 8302
C31: OC 8017 | D31: Тримач універсальний скручений коричневий | E31: 07 801 | F31: Сталь, гальванічно оцинкована, товщина 2 мм, з замком на два болти М6, висота монтажу - 100мм. Варіанти кольорів: коричневий RAL 8017, червоний RAL 3011, рудий RAL 8004. | G31: шт. | H31: ='Прайс повний'!I31 -> 55.72 | I31: ='Прайс повний'!J31 -> 55.72 | K31: 8302
C32: OC 3011 | D32: Тримач універсальний скручений червоний | E32: 07 802 | G32: шт. | H32: ='Прайс повний'!I32 -> 55.72 | I32: ='Прайс повний'!J32 -> 55.72 | K32: 8302
C33: OC 8004 | D33: Тримач універсальний скручений рудий | E33: 07 803 | G33: шт. | H33: ='Прайс повний'!I33 -> 55.72 | I33: ='Прайс повний'!J33 -> 55.72 | K33: 8302
B34: 01/8.3 | C34: ОС, PL | D34: Тримач дроту пластиковий подовжений | E34: 01 080 | F34: Пластиковий тримач для дроту 8-10мм, довжиною 100мм | G34: шт. | H34: ='Прайс повний'!I34 -> 77.89 | I34: ='Прайс повний'!J34 -> 77.89 | K34: 8302
B35: ='Прайс повний'!B35 -> 01/8/10 | C35: ='Прайс повний'!C35 -> OC, PL | D35: ='Прайс повний'!E35 -> Тримач дроту з дюбелем 100 | E35: ='Прайс повний'!A35 -> 01 100 | F35: Сталь, гальванічно оцинкована, довжина 100 мм, 140 мм, 200 мм з різьбою під дюбель. В комплекті дюбель 12х60 | G35: шт. | H35: ='Прайс повний'!I35 -> 32.12 | I35: ='Прайс повний'!J35 -> 32.12 | K35: 8302
B36: ='Прайс повний'!B36 -> 01/8/14 | C36: ='Прайс повний'!C36 -> OC, PL | D36: ='Прайс повний'!E36 -> Тримач дроту з дюбелем 140 | E36: ='Прайс повний'!A36 -> 01 140 | G36: шт. | H36: ='Прайс повний'!I36 -> 35.45 | I36: ='Прайс повний'!J36 -> 35.45 | K36: 8302
B37: ='Прайс повний'!B37 -> 01/8/20 | C37: ='Прайс повний'!C37 -> OC, PL | D37: ='Прайс повний'!E37 -> Тримач дроту з дюбелем 200 | E37: ='Прайс повний'!A37 -> 01 200 | G37: шт. | H37: ='Прайс повний'!I37 -> 43.16 | I37: ='Прайс повний'!J37 -> 43.16 | K37: 8302
B38: ='Прайс повний'!B40 -> 02/8/10 | C38: ='Прайс повний'!C40 -> OC | D38: ='Прайс повний'!E40 -> Тримач дроту металевий з дюбелем 100 | E38: ='Прайс повний'!A40 -> 02 101 | F38: Сталь, гальванічно оцинкована, довжина 100 мм, 140 мм, 200 мм з різьбою під дюбель. В комплекті дюбель 12х60 | G38: шт. | H38: ='Прайс повний'!I40 -> 66.33 | I38: ='Прайс повний'!J40 -> 66.33 | K38: 8302
B39: ='Прайс повний'!B41 -> 02/8/14 | C39: ='Прайс повний'!C41 -> ОС | D39: ='Прайс повний'!E41 -> Тримач дроту металевий з дюбелем 140 | E39: ='Прайс повний'!A41 -> 02 141 | G39: шт. | H39: ='Прайс повний'!I41 -> 74.14 | I39: ='Прайс повний'!J41 -> 74.14 | K39: 8302
B40: ='Прайс повний'!B42 -> 02/8/20 | C40: ='Прайс повний'!C42 -> ОС | D40: ='Прайс повний'!E42 -> Тримач дроту металевий з дюбелем 200 | E40: ='Прайс повний'!A42 -> 02 201 | G40: шт. | H40: ='Прайс повний'!I42 -> 79.59 | I40: ='Прайс повний'!J42 -> 79.59 | K40: 8302
B41: ='Прайс повний'!#REF! -> #REF! | C41: ='Прайс повний'!#REF! -> #REF! | D41: ='Прайс повний'!#REF! -> #REF! | E41: ='Прайс повний'!#REF! -> #REF! | F41: ='Прайс повний'!#REF! -> #REF! | G41: шт. | H41: ='Прайс повний'!#REF! -> #REF! | I41: ='Прайс повний'!#REF! -> #REF! | K41: 8302
B42: ='Прайс повний'!B45 -> 02/16/10 | C42: ='Прайс повний'!C45 -> ОС | D42: ='Прайс повний'!E45 -> Тримач блискавкоприймача з дюбелем 100 | E42: ='Прайс повний'!A45 -> 02 102 | F42: Сталь, гальванічно оцинкована, довжина 100 мм, 140 мм, 200 мм з різьбою під дюбель. В комплекті дюбель 12х60 | G42: шт. | H42: ='Прайс повний'!I45 -> 74.59 | I42: ='Прайс повний'!J45 -> 74.59 | K42: 8302
B43: ='Прайс повний'!B46 -> 02/16/14 | C43: ='Прайс повний'!C46 -> ОС | D43: ='Прайс повний'!E46 -> Тримач блискавкоприймача з дюбелем 140 | E43: ='Прайс повний'!A46 -> 02 142 | G43: шт. | H43: ='Прайс повний'!I46 -> 79.36 | I43: ='Прайс повний'!J46 -> 79.36 | K43: 8302
B44: ='Прайс повний'!B47 -> 02/16/20 | C44: ='Прайс повний'!C47 -> ОС | D44: ='Прайс повний'!E47 -> Тримач блискавкоприймача з дюбелем 200 | E44: ='Прайс повний'!A47 -> 02 202 | G44: шт. | H44: ='Прайс повний'!I47 -> 83.92 | I44: ='Прайс повний'!J47 -> 83.92 | K44: 8302
B45: ='Прайс повний'!B50 -> 02/0/10 | C45: ='Прайс повний'!C50 -> ОС | D45: ='Прайс повний'!E50 -> Тримач полоси металевий з дюбелем 100 | E45: ='Прайс повний'!A50 -> 02 103 | F45: Сталь, гальванічно оцинкована, довжина 100 мм, 140 мм, 200 мм з різьбою під дюбель. В комплекті дюбель 12х60 | G45: шт. | H45: ='Прайс повний'!I50 -> 61.91 | I45: ='Прайс повний'!J50 -> 61.91 | K45: 8302
B46: ='Прайс повний'!B51 -> 02/0/14 | C46: ='Прайс повний'!C51 -> ОС | D46: ='Прайс повний'!E51 -> Тримач полоси металевий з дюбелем 140 | E46: ='Прайс повний'!A51 -> 02 143 | G46: шт. | H46: ='Прайс повний'!I51 -> 65.97 | I46: ='Прайс повний'!J51 -> 65.97 | K46: 8302
B47: ='Прайс повний'!B52 -> 02/0/20 | C47: ='Прайс повний'!C52 -> ОС | D47: ='Прайс повний'!E52 -> Тримач полоси металевий з дюбелем 200 | E47: ='Прайс повний'!A52 -> 02 203 | G47: шт. | H47: ='Прайс повний'!I52 -> 73.22 | I47: ='Прайс повний'!J52 -> 73.22 | K47: 8302
B48: 10/ОС | C48: ОС PL | D48: Тримач коньковий півкруглий з пластиком | E48: 10 010 | F48: Сталь, гальванічно оцинкована, з пластиковим тримачем сірого кольору | G48: шт. | H48: ='Прайс повний'!I55 -> 97.46 | I48: ='Прайс повний'!J55 -> 97.46 | K48: 8302
C49: ОС PL 8017 | D49: Тримач коньковий півкруглий з пластиком коричневий | E49: 10 020 | F49: Сталь, гальванічно оцинкована і лакована. Варіанти кольорів: коричневий RAL 8017, червоний RAL 3011, рудий RAL 8004. | G49: шт. | H49: ='Прайс повний'!I56 -> 121.08 | I49: ='Прайс повний'!J56 -> 121.08 | K49: 8302
C50: ОС PL 3011 | D50: Тримач коньковий півкруглий з пластиком червоний | E50: 10 030 | G50: шт. | H50: ='Прайс повний'!I57 -> 121.08 | I50: ='Прайс повний'!J57 -> 121.08 | K50: 8302
C51: ОС PL 8004 | D51: Тримач коньковий півкруглий з пластиком рудий | E51: 10 040 | G51: шт. | H51: ='Прайс повний'!I58 -> 121.08 | I51: ='Прайс повний'!J58 -> 121.08 | K51: 8302
B52: 10/Cu PL | C52: Cu PL | D52: Тримач коньковий півкруглий з пластиком | E52: 10 060 | F52: Мідь, з пластиковим тримачем кольору міді | G52: шт. | H52: ='Прайс повний'!I59 -> 509 | I52: ='Прайс повний'!J59 -> 509 | K52: 7419
B53: 10/1 Ni | C53: Ni | D53: Тримач коньковий півкруглий з Niro (нерж.) | E53: 10 001 | F53: Нержавіюча сталь, з тримачем Niro | G53: шт. | H53: ='Прайс повний'!I60 -> 153.93 | I53: ='Прайс повний'!J60 -> 153.93 | K53: 8302
B54: 10/07 | C54: OC | D54: Тримач коньковий півкруглий універсальний | E54: 10 070 | F54: Сталь, гальванічно оцинкована, з універсальним тримачем | G54: шт. | H54: ='Прайс повний'!I61 -> 104.63 | I54: ='Прайс повний'!J61 -> 104.63 | K54: 8302
C55: OC 8017 | D55: Тримач коньковий півкруглий універсальний коричневий | E55: 10 071 | F55: Сталь, гальванічно оцинкована, з універсальним тримачем. Варіанти кольорів: коричневий RAL 8017, червоний RAL 3011, рудий RAL 8004. | G55: шт. | H55: ='Прайс повний'!I62 -> 140.15 | I55: ='Прайс повний'!J62 -> 140.15 | K55: 8302
C56: OC 3011 | D56: Тримач коньковий півкруглий універсальний червоний | E56: 10 072 | G56: шт. | H56: ='Прайс повний'!I63 -> 140.15 | I56: ='Прайс повний'!J63 -> 140.15 | K56: 8302
C57: OC 8004 | D57: Тримач коньковий півкруглий універсальний рудий | E57: 10 073 | G57: шт. | H57: ='Прайс повний'!I64 -> 140.15 | I57: ='Прайс повний'!J64 -> 140.15 | K57: 8302
C58: CU | D58: Тримач коньковий півкруглий універсальний мідний | E58: 10 170 | F58: Мідь, з універсальним мідним тримачем | G58: шт. | H58: ='Прайс повний'!I65 -> 744.59 | I58: ='Прайс повний'!J65 -> 744.59 | K58: 7419
B59: 10/07s | C59: OC | D59: Тримач коньковий півкруглий універсальний скручений | E59: 10 870 | F59: Сталь, гальванічно оцинкована, з універсальним скрученим тримачем | G59: шт. | H59: ='Прайс повний'!I66 -> 106.99 | I59: ='Прайс повний'!J66 -> 106.99 | K59: 8302
C60: OC 8017 | D60: Тримач коньковий півкруглий універсальний скручений коричневий | E60: 10 871 | F60: Сталь, гальванічно оцинкована, з універсальним скрученим тримачем. Варіанти кольорів: коричневий RAL 8017, червоний RAL 3011, рудий RAL 8004. | G60: шт. | H60: ='Прайс повний'!I67 -> 148.49 | I60: ='Прайс повний'!J67 -> 148.49 | K60: 8302
C61: OC 3011 | D61: Тримач коньковий півкруглий універсальний скручений червоний | E61: 10 872 | G61: шт. | H61: ='Прайс повний'!I68 -> 148.49 | I61: ='Прайс повний'!J68 -> 148.49 | K61: 8302
C62: OC 8004 | D62: Тримач коньковий півкруглий універсальний скручений рудий | E62: 10 873 | G62: шт. | H62: ='Прайс повний'!I69 -> 148.49 | I62: ='Прайс повний'!J69 -> 148.49 | K62: 8302
A63: *Конькові тримачі можуть бути виготовлені також в інших кольорах відповідно до RAL
B64: 20/OC | C64: OC PL | D64: Тримач коньковий кутовий з пластиком | E64: 20 010 | F64: Сталь, гальванічно оцинкована, з пластиковим тримачем сірого кольору | G64: шт. | H64: ='Прайс повний'!#REF! -> #REF! | I64: ='Прайс повний'!#REF! -> #REF! | K64: 8302
C65: OC PL 8017 | D65: Тримач коньковий кутовий з пластиком коричневий | E65: 20 020 | F65: Сталь, гальванічно оцинкована і лакована. Варіанти кольорів: коричневий RAL 8017, червоний RAL 3011, рудий RAL 8004. | G65: шт. | H65: ='Прайс повний'!#REF! -> #REF! | I65: ='Прайс повний'!#REF! -> #REF! | K65: 8302
C66: OC PL 3011 | D66: Тримач коньковий кутовий з пластиком червоний | E66: 20 030 | G66: шт. | H66: ='Прайс повний'!#REF! -> #REF! | I66: ='Прайс повний'!#REF! -> #REF! | K66: 8302
C67: OC PL 8004 | D67: Тримач коньковий кутовий з пластиком рудий | E67: 20 040 | G67: шт. | H67: ='Прайс повний'!#REF! -> #REF! | I67: ='Прайс повний'!#REF! -> #REF! | K67: 8302
B68: 22/ОС | C68: ОС PL | D68: Тримач коньковий профільний з пластиком | E68: 20 010 | F68: Сталь, гальванічно оцинкована , з пластиковим тримачем сірого кольору | G68: шт. | H68: ='Прайс повний'!I70 -> 59.88 | I68: ='Прайс повний'!J70 -> 59.88 | K68: 8302
C69: OC PL 8017 | D69: Тримач коньковий профільний з пластиком коричневий | E69: 20 020 | F69: Сталь, гальванічно оцинкована і лакована. Варіанти кольорів: коричневий, червоний, рудий | G69: шт. | H69: ='Прайс повний'!I71 -> 84.48 | I69: ='Прайс повний'!J71 -> 84.48 | K69: 8302
C70: OC PL 3011 | D70: Тримач коньковий профільний з пластиком червоний | E70: 20 030 | G70: шт. | H70: ='Прайс повний'!I72 -> 84.48 | I70: ='Прайс повний'!J72 -> 84.48 | K70: 8302
C71: OC PL 8004 | D71: Тримач коньковий профільний з пластиком рудий | E71: 20 040 | G71: шт. | H71: ='Прайс повний'!I73 -> 84.48 | I71: ='Прайс повний'!J73 -> 84.48 | K71: 8302
B72: ='Прайс повний'!B74 -> 22/01 | C72: ='Прайс повний'!C74 -> Cu PL | D72: ='Прайс повний'!E74 -> Тримач коньковий профільний з пластиком (мідний) | E72: 22 050 | F72: ='Прайс повний'!F74 -> Мідь, з пластиковим тримачем кольору мідь | G72: шт. | H72: ='Прайс повний'!I74 -> 262.99 | I72: ='Прайс повний'!J74 -> 262.99 | K72: 7419
B73: 20/1 Ni OC | C73: Ni OC | D73: Тримач коньковий кутовий з Niro | E73: 20 001 | F73: Сталь гальванічно оцинкована, з тримачем з нержавіючої сталі Niro | G73: шт. | H73: ='Прайс повний'!#REF! -> #REF! | I73: ='Прайс повний'!#REF! -> #REF! | K73: 8302
B74: 22/Ni | C74: Ni | D74: Тримач коньковий профільний з Niro | E74: 22 001 | F74: Тримач призначений для фіксації блискавкозахисного дроту по профільному коньку покрівлі. Кріплення виготовлене з гальванічно оцинкованої сталі з нержавіючим тримачем Niro. | G74: шт. | H74: ='Прайс повний'!I75 -> 85.79 | I74: ='Прайс повний'!J75 -> 85.79 | K74: 8302
B75: 20/07 | C75: OC | D75: Тримач коньковий кутовий універсальний | E75: 20 070 | F75: Сталь, гальванічно оцинкована, з універсальним тримачем | G75: шт. | H75: ='Прайс повний'!I76 -> 73.61 | I75: ='Прайс повний'!J76 -> 73.61 | K75: 8302
C76: OC 8017 | D76: Тримач коньковий кутовий універсальний коричневий | E76: 20 071 | F76: Сталь, гальванічно оцинкована, з універсальним тримачем. Варіанти кольорів: коричневий RAL 8017, червоний RAL 3011, рудий RAL 8004. | G76: шт. | H76: ='Прайс повний'!I77 -> 85.9 | I76: ='Прайс повний'!J77 -> 85.9 | K76: 8302
C77: OC 3011 | D77: Тримач коньковий кутовий універсальний червоний | E77: 20 072 | G77: шт. | H77: ='Прайс повний'!I78 -> 85.9 | I77: ='Прайс повний'!J78 -> 85.9 | K77: 8302
C78: OC 8004 | D78: Тримач коньковий кутовий універсальний рудий | E78: 20 073 | G78: шт. | H78: ='Прайс повний'!I79 -> 85.9 | I78: ='Прайс повний'!J79 -> 85.9 | K78: 8302
B79: 20/07s | C79: OC | D79: Тримач коньковий кутовий універсальний скручений | E79: 20 870 | F79: Сталь, гальванічно оцинкована, з універсальним скрученим тримачем | G79: шт. | H79: ='Прайс повний'!#REF! -> #REF! | I79: ='Прайс повний'!#REF! -> #REF! | K79: 8302
C80: OC 8017 | D80: Тримач коньковий кутовий універсальний скручений коричневий | E80: 20 871 | F80: Сталь, гальванічно оцинкована, з універсальним скрученим тримачем. Варіанти кольорів: коричневий RAL 8017, червоний RAL 3011, рудий RAL 8004. | G80: шт. | H80: ='Прайс повний'!#REF! -> #REF! | I80: ='Прайс повний'!#REF! -> #REF! | K80: 8302
C81: OC 3011 | D81: Тримач коньковий кутовий універсальний скручений червоний | E81: 20 872 | G81: шт. | H81: ='Прайс повний'!#REF! -> #REF! | I81: ='Прайс повний'!#REF! -> #REF! | K81: 8302
C82: OC 8004 | D82: Тримач коньковий кутовий універсальний скручений рудий | E82: 20 873 | G82: шт. | H82: ='Прайс повний'!#REF! -> #REF! | I82: ='Прайс повний'!#REF! -> #REF! | K82: 8302
B83: 03/1s | C83: ='Прайс повний'!C80 -> OC | D83: ='Прайс повний'!E80 -> Тримач для ринви | E83: ='Прайс повний'!A80 -> 03 100 | F83: Сталь, гальванічно оцинкована. Два варіанти кріплення дроту | G83: шт. | H83: ='Прайс повний'!I80 -> 82.69 | I83: ='Прайс повний'!J80 -> 82.69 | K83: 8302
C84: ОС LA | D84: ='Прайс повний'!E81 -> Тримач для ринви лакований | E84: ='Прайс повний'!A81 -> 03 101 | F84: Сталь, гальванічно оцинкована, лакована в потрібний колір. Два варіанти кріплення дроту | G84: шт. | H84: ='Прайс повний'!I81 -> 117.74 | I84: ='Прайс повний'!J81 -> 117.74 | K84: 8302
C85: ='Прайс повний'!C82 -> CU | D85: ='Прайс повний'!E82 -> Тримач для ринви мідний | E85: ='Прайс повний'!A82 -> 03 110 | F85: Мідь. Два варіанти кріплення дроту | G85: шт. | H85: ='Прайс повний'!I82 -> 340.8 | I85: ='Прайс повний'!J82 -> 340.8 | K85: 7419
B86: ='Прайс повний'!B83 -> 09/01 | C86: ='Прайс повний'!C83 -> OC PL | D86: ='Прайс повний'!E83 -> Тримач фальцевий з пластиком | E86: ='Прайс повний'!A83 -> 09 100 | F86: Сталь, гальванічно оцинкована, з пластиковим тримачем | G86: шт. | H86: ='Прайс повний'!I83 -> 71.39 | I86: ='Прайс повний'!J83 -> 71.39 | K86: 8302
B87: ='Прайс повний'!B84 -> 09/11 | C87: ='Прайс повний'!C84 -> Ni OC | D87: ='Прайс повний'!E84 -> Тримач фальцевий з Niro | E87: ='Прайс повний'!A84 -> 09 110 | F87: Сталь, гальванічно оцинкована, з тримачем Niro | G87: шт. | H87: ='Прайс повний'!I84 -> 136.33 | I87: ='Прайс повний'!J84 -> 136.33 | K87: 8302
B88: ='Прайс повний'!B85 -> 09/30 | C88: ='Прайс повний'!C85 -> OC | D88: ='Прайс повний'!E85 -> Тримач фальцевий | E88: ='Прайс повний'!A85 -> 09 300 | F88: Сталь, гальванічно оцинкована | G88: шт. | H88: ='Прайс повний'!I85 -> 107.16 | I88: ='Прайс повний'!J85 -> 107.16 | K88: 8302
B89: ='Прайс повний'!B86 -> 09/02 | C89: ='Прайс повний'!C86 -> ОС | D89: ='Прайс повний'!E86 -> Тримач дроту фальцевий | E89: ='Прайс повний'!A86 -> 09 200 | F89: ='Прайс повний'!F86 -> Сталь, гальванічно оцинкована, з металевим тримачем дроту | G89: шт. | H89: ='Прайс повний'!I86 -> 125.06 | I89: ='Прайс повний'!J86 -> 125.06 | K89: 8302
B90: ='Прайс повний'!B87 -> 12/12/8 | C90: ='Прайс повний'!C87 -> OC PL | D90: ='Прайс повний'!E87 -> Тримач дроту даховий з гачком | E90: ='Прайс повний'!A87 -> 12 120 | F90: ='Прайс повний'!F87 -> Сталь, гальванічно оцинкована з пластиковим тримачем | G90: шт. | H90: ='Прайс повний'!I87 -> 36.63 | I90: ='Прайс повний'!J87 -> 36.63 | K90: 8302
B91: ='Прайс повний'!B88 -> 12/12/8 | C91: ='Прайс повний'!C88 -> Ni PL | D91: ='Прайс повний'!E88 -> Тримач дроту даховий з гачком (нерж.) | E91: ='Прайс повний'!A88 -> 12 121 | F91: ='Прайс повний'!F88 -> Сталь нержавіюча, з пластиковим тримачем | G91: шт. | H91: ='Прайс повний'!I88 -> 56.93 | I91: ='Прайс повний'!J88 -> 56.93 | K91: 8302
B92: ='Прайс повний'!B89 -> 12/12/8 | C92: ='Прайс повний'!C89 -> Cu PL | D92: ='Прайс повний'!E89 -> Тримач дроту даховий з гачком (мідь) | E92: ='Прайс повний'!A89 -> 12 122 | F92: ='Прайс повний'!F89 -> Мідь, з пластиковим тримачем | G92: шт. | H92: ='Прайс повний'!I89 -> 167.65 | I92: ='Прайс повний'!J89 -> 167.65 | K92: 7419
B93: ='Прайс повний'!B90 -> 12/12/8 | C93: ='Прайс повний'!C90 -> OC LA | D93: ='Прайс повний'!E90 -> Тримач дроту даховий з гачком (лакований) | E93: ='Прайс повний'!A90 -> 12 123 | F93: Сталь, гальванічно оцинкована, лакована з пластиковим тримачем | G93: шт. | H93: ='Прайс повний'!I90 -> 69.66 | I93: ='Прайс повний'!J90 -> 69.66
B94: ='Прайс повний'!B91 -> 12/33 | C94: ='Прайс повний'!C91 -> OC PL | D94: ='Прайс повний'!E91 -> Тримач під черепицю L330 | E94: ='Прайс повний'!A91 -> 12 330 | F94: Сталь, гальванічно оцинкована, з пластиковим тримачем. Довжина 33 см | G94: шт. | H94: ='Прайс повний'!I91 -> 59.62 | I94: ='Прайс повний'!J91 -> 59.62 | K94: 8302
B95: ='Прайс повний'!B92 -> 12/33 | C95: ='Прайс повний'!C92 -> Ni PL | D95: ='Прайс повний'!E92 -> Тримач під черепицю L330 (нерж.) | E95: ='Прайс повний'!A92 -> 12 331 | F95: Сталь нержавіюча, з пластиковим тримачем. Довжина 33 см | G95: шт. | H95: ='Прайс повний'!I92 -> 87.94 | I95: ='Прайс повний'!J92 -> 87.94 | K95: 8302
B96: ='Прайс повний'!B93 -> 12/33 | C96: ='Прайс повний'!C93 -> CU PL | D96: ='Прайс повний'!E93 -> Тримач під черепицю L330 (мідь) | E96: ='Прайс повний'!A93 -> 12 332 | F96: Мідь, з пластиковим тримачем. Довжина 33 см | G96: шт. | H96: ='Прайс повний'!I93 -> 336.33 | I96: ='Прайс повний'!J93 -> 336.33 | K96: 7419
B97: ='Прайс повний'!B94 -> 12/33 | C97: ='Прайс повний'!C94 -> OC LA | D97: ='Прайс повний'!E94 -> Тримач під черепицю L330 (лакований) | E97: ='Прайс повний'!A94 -> 12 333 | F97: Сталь, гальванічно оцинкована, фарбована з пластиковим тримачем. Довжина 33 см | G97: шт. | H97: ='Прайс повний'!I94 -> 76.89 | I97: ='Прайс повний'!J94 -> 76.89
B98: ='Прайс повний'!B95 -> 12/40 | C98: ='Прайс повний'!C95 -> OC PL | D98: ='Прайс повний'!E95 -> Тримач під черепицю L400 | E98: ='Прайс повний'!A95 -> 12 400 | F98: Сталь, гальванічно оцинкована, з пластиковим тримачем. Довжина 40 см | G98: шт. | H98: ='Прайс повний'!I95 -> 60.02 | I98: ='Прайс повний'!J95 -> 60.02 | K98: 8302
B99: ='Прайс повний'!B96 -> 12/40 | C99: ='Прайс повний'!C96 -> Ni PL | D99: ='Прайс повний'!E96 -> Тримач під черепицю L400 (нерж.) | E99: ='Прайс повний'!A96 -> 12 401 | F99: Сталь нержавіюча, з пластиковим тримачем. Довжина 40 см | G99: шт. | H99: ='Прайс повний'!I96 -> 86.37 | I99: ='Прайс повний'!J96 -> 86.37 | K99: 8302
B100: ='Прайс повний'!B97 -> 12/40 | C100: ='Прайс повний'!C97 -> CU PL | D100: ='Прайс повний'!E97 -> Тримач під черепицю L400 (мідь) | E100: ='Прайс повний'!A97 -> 12 402 | F100: Мідь, з пластиковим тримачем. Довжина 40 см | G100: шт. | H100: ='Прайс повний'!I97 -> 245.96 | I100: ='Прайс повний'!J97 -> 245.96 | K100: 7419
B101: ='Прайс повний'!B98 -> 12/40 | C101: ='Прайс повний'!C98 -> OC LA | D101: ='Прайс повний'!E98 -> Тримач під черепицю L400 (лаковний) | E101: ='Прайс повний'!A98 -> 12 403 | F101: Сталь, гальванічно оцинкована, фарбована з пластиковим тримачем. Довжина 40 см | G101: шт. | H101: ='Прайс повний'!I98 -> 76.87 | I101: ='Прайс повний'!J98 -> 76.87
...

Sheet Елементи Кріплення СІП
C1: Блискавкозахист та заземлення | G1: =Прайс!G1 -> Прайс-лист від 21.05.2025р.
C3: +38(067) 314 07 85, +38(097) 095 63 06 | G3: Фіксована знижка %
A4: Вигляд | B4: Код | C4: Матеріал | D4: Назва | E4: Артикул | F4: Опис | G4: Од. вим. | H4: Ціна грн., з ПДВ | I4: Ціна грн., з ПДВ зі знижкою | J4: Введіть потрібну кількість | K4: Код УКТЗ
E5: ГАКИ, ЕЛЕМЕНТИ КРІПЛЕННЯ СІП
B6: ='Прайс повний'!D428 -> ГС12 OC | C6: ='Прайс повний'!C428 -> OC | D6: ='Прайс повний'!E428 -> Гак ГС-12 | F6: ='Прайс повний'!F428 -> Сталь, гальванічно оцинкована, основа 32х32х120 3мм, вставка 3мм, гак 12мм | G6: ='Прайс повний'!G428 -> шт. | H6: ='Прайс повний'!I428 -> 64.66 | I6: ='Прайс повний'!J428 -> 64.66
B7: ='Прайс повний'!D429 -> КБО ОС | C7: ='Прайс повний'!C429 -> ОС | D7: ='Прайс повний'!E429 -> Гак КБО (ГС-16) | F7: ='Прайс повний'!F429 -> Сталь, гальванічно оцинкована, основа 30х30х120 2.5мм, вставка 2.5мм, гак 16мм | G7: ='Прайс повний'!G429 -> шт. | H7: ='Прайс повний'!I429 -> 71.6 | I7: ='Прайс повний'!J429 -> 71.6
B8: ='Прайс повний'!D430 -> КБЛ-16 ОС | C8: ='Прайс повний'!C430 -> ОС | D8: ='Прайс повний'!E430 -> Гак КБЛ-16 | F8: ='Прайс повний'!F430 -> Сталь, гальванічно оцинкована, основа 60х120 r=58 3мм, вставка 3мм, гак 16мм | G8: ='Прайс повний'!G430 -> шт. | H8: ='Прайс повний'!I430 -> 78.39 | I8: ='Прайс повний'!J430 -> 78.39
B9: ='Прайс повний'!D431 -> КБУ-16 ОС | C9: ='Прайс повний'!C431 -> ОС | D9: ='Прайс повний'!E431 -> Гак КБУ-16 | F9: ='Прайс повний'!F431 -> Сталь, гальванічно оцинкована, основа 100х120 r=58 2.5мм, вставка 3мм, гак 16мм | G9: ='Прайс повний'!G431 -> шт. | H9: ='Прайс повний'!I431 -> 91.57 | I9: ='Прайс повний'!J431 -> 91.57
B10: ='Прайс повний'!D432 -> ПКц-12 ОС | C10: ='Прайс повний'!C432 -> ОС | D10: ='Прайс повний'!E432 -> Гак ПКц-12 | F10: ='Прайс повний'!F432 -> Сталь, гальванічно оцинкована, основа 96х100 3мм отвори 7.5мм, гак 12мм | G10: ='Прайс повний'!G432 -> шт. | H10: ='Прайс повний'!I432 -> 82.91 | I10: ='Прайс повний'!J432 -> 82.91
B11: ='Прайс повний'!D433 -> КФС-12 ОС | C11: ='Прайс повний'!C433 -> ОС | D11: ='Прайс повний'!E433 -> Гак КФС-12 | F11: ='Прайс повний'!F433 -> Сталь, гальванічно оцинкована, основа Ф120 2мм отвори 8.2мм, гак 12мм | G11: ='Прайс повний'!G433 -> шт. | H11: ='Прайс повний'!I433 -> 66.06 | I11: ='Прайс повний'!J433 -> 66.06
B12: ='Прайс повний'!D434 -> ZCZD-3 ОС | C12: ='Прайс повний'!C434 -> ОС | D12: ='Прайс повний'!E434 -> Фасадне кріплення ZCZD-3 | F12: ='Прайс повний'!F434 -> Для кріплення СІП на стінах і фасадах будівель. Відстань до стіни: 30 мм , діаметр охоплення: 20-50 мм, діаметр монтажного отвору: 6 мм | G12: ='Прайс повний'!G434 -> шт. | H12: ='Прайс повний'!I434 -> 20.28 | I12: ='Прайс повний'!J434 -> 20.28
B13: ='Прайс повний'!D435 -> ZCZD-1 ОС | C13: ='Прайс повний'!C435 -> ОС | D13: ='Прайс повний'!E435 -> Фасадне кріплення ZCZD-1 | F13: ='Прайс повний'!F435 -> Для кріплення СІП на стінах і фасадах будівель. Відстань до стіни: 60 мм , діаметр охоплення: 20-50 мм, діаметр монтажного отвору: 10 мм | G13: ='Прайс повний'!G435 -> шт. | H13: ='Прайс повний'!I435 -> 40.4 | I13: ='Прайс повний'!J435 -> 40.4
B14: ='Прайс повний'!D436 -> КСХ-1 ОС | C14: ='Прайс повний'!C436 -> ОС | D14: ='Прайс повний'!E436 -> Кронштейн КСХ-1 | F14: ='Прайс повний'!F436 -> В комплект з кронштейном входить скоба(хомут) з різьбою М12 і двома гайками, гак 16мм | G14: ='Прайс повний'!G436 -> шт. | H14: ='Прайс повний'!I436 -> 202.8 | I14: ='Прайс повний'!J436 -> 202.8
E15: КРОНШТЕЙН ДЛЯ ВУЛИЧНИХ СВІТИЛЬНИКІВ
B16: ='Прайс повний'!D437 -> КС-40-45 (40-30) ОС | C16: ='Прайс повний'!C437 -> ОС | D16: ='Прайс повний'!E437 -> Кронштейн Ф40мм без гака | F16: ='Прайс повний'!F437 -> Використовується при монтажі освітлення вулиць. Кут нахилу 30° або 45°, діаметр 40 мм, довжина труби від опори 350 мм | G16: ='Прайс повний'!G437 -> шт. | H16: ='Прайс повний'!I437 -> 162.7 | I16: ='Прайс повний'!J437 -> 162.7
B17: ='Прайс повний'!D438 -> КС-40-45-К ОС | C17: ='Прайс повний'!C438 -> ОС | D17: ='Прайс повний'!E438 -> Кронштейн Ф40мм з гаком | F17: ='Прайс повний'!F438 -> Використовується при монтажі освітлення вулиць. Кут нахилу 30° або 45°, діаметр 40 мм, довжина труби від опори 350 мм | G17: ='Прайс повний'!G438 -> шт. | H17: ='Прайс повний'!I438 -> 205.37 | I17: ='Прайс повний'!J438 -> 205.37
B18: ='Прайс повний'!D439 -> КС-50-30 (50-45) ОС | C18: ='Прайс повний'!C439 -> ОС | D18: ='Прайс повний'!E439 -> Кронштейн Ф50мм без гака | F18: ='Прайс повний'!F439 -> Використовується при монтажі освітлення вулиць. Кут нахилу 30° або 45°, діаметр 50 мм, довжина труби від опори 350 мм | G18: ='Прайс повний'!G439 -> шт. | H18: ='Прайс повний'!I439 -> 179.4 | I18: ='Прайс повний'!J439 -> 179.4
B19: ='Прайс повний'!D440 -> КС-50-30-К LA | C19: ='Прайс повний'!C440 -> LA | D19: ='Прайс повний'!E440 -> Кронштейн Ф50мм з гаком | F19: ='Прайс повний'!F440 -> Використовується при монтажі освітлення вулиць. Кут нахилу 30° або 45°, діаметр 50 мм, довжина труби від опори 350 мм | G19: ='Прайс повний'!G440 -> шт. | H19: ='Прайс повний'!I440 -> 222.45 | I19: ='Прайс повний'!J440 -> 222.45
B20: ='Прайс повний'!D441 -> КСУ-40-30 ОС | C20: ='Прайс повний'!C441 -> ОС | D20: ='Прайс повний'!E441 -> Кронштейн універсальний Ф40 без гака | F20: ='Прайс повний'!F441 -> Використовується при монтажі освітлення вулиць. Кут нахилу 30° або 45°, діаметр 40 мм, довжина труби від опори 350 мм | G20: ='Прайс повний'!G441 -> шт. | H20: ='Прайс повний'!I441 -> 191.02 | I20: ='Прайс повний'!J441 -> 191.02
B21: ='Прайс повний'!D442 -> КСУ-40-30-К LA | C21: ='Прайс повний'!C442 -> LA | D21: ='Прайс повний'!E442 -> Кронштейн універсальний Ф40 з гаком | F21: ='Прайс повний'!F442 -> Використовується при монтажі освітлення вулиць. Кут нахилу 30° або 45°, діаметр 40 мм, довжина труби від опори 350 мм | G21: ='Прайс повний'!G442 -> шт. | H21: ='Прайс повний'!I442 -> 227.83 | I21: ='Прайс повний'!J442 -> 227.83
B22: ='Прайс повний'!D443 -> КСУ-50-30 (50-45) ОС | C22: ='Прайс повний'!C443 -> ОС | D22: ='Прайс повний'!E443 -> Кронштейн універсальний Ф50 без гака | F22: ='Прайс повний'!F443 -> Використовується при монтажі освітлення вулиць, для монтажу світильників вагою до 3 кг. Кут нахилу 30° або 45°, діаметр 50 мм, довжина труби від опори 350 мм | G22: ='Прайс повний'!G443 -> шт. | H22: ='Прайс повний'!I443 -> 207.71 | I22: ='Прайс повний'!J443 -> 207.71
B23: ='Прайс повний'!D444 -> КСУ-50-30-К LA | C23: ='Прайс повний'!C444 -> LA | D23: ='Прайс повний'!E444 -> Кронштейн універсальний Ф50 з гаком | F23: ='Прайс повний'!F444 -> Використовується при монтажі освітлення вулиць, для монтажу світильників вагою до 3 кг. Кут нахилу 30° або 45°, діаметр 50 мм, довжина труби від опори 350 мм | G23: ='Прайс повний'!G444 -> шт. | H23: ='Прайс повний'!I444 -> 244.92 | I23: ='Прайс повний'!J444 -> 244.92
B24: ='Прайс повний'!D445 -> КС-КВ-40 ОС | C24: ='Прайс повний'!C445 -> ОС | D24: ='Прайс повний'!E445 -> Кронштейн Ф40мм без гака для квадратних опор + скоба кріплення | F24: ='Прайс повний'!F445 -> Використовується при монтажі освітлення вулиць, для монтажу світильників вагою до 3 кг, на прямокутні опори. Кут нахилу 35°, діаметр труби 40мм, довжина труби від опори 500мм | G24: ='Прайс повний'!G445 -> шт. | H24: ='Прайс повний'!I445 -> 347.25 | I24: ='Прайс повний'!J445 -> 347.25
B25: ='Прайс повний'!D446 -> КС-КВ-50 ОС | C25: ='Прайс повний'!C446 -> ОС | D25: ='Прайс повний'!E446 -> Кронштейн Ф50мм без гака для квадратних опор + скоба кріплення | F25: ='Прайс повний'!F446 -> Використовується при монтажі освітлення вулиць, для монтажу світильників вагою до 3 кг, на прямокутні опори. Кут нахилу 35°, діаметр труби 50мм, довжина труби від опори 500мм | G25: ='Прайс повний'!G446 -> шт. | H25: ='Прайс повний'!I446 -> 367.77 | I25: ='Прайс повний'!J446 -> 367.77
B26: ='Прайс повний'!D447 -> КС-КВ-60 ОС | C26: ='Прайс повний'!C447 -> ОС | D26: ='Прайс повний'!E447 -> Кронштейн Ф60мм без гака для квадратних опор + скоба кріплення | F26: ='Прайс повний'!F447 -> Використовується при монтажі освітлення вулиць, для монтажу світильників вагою до 3 кг, на прямокутні опори. Кут нахилу 35°, діаметр труби 60мм, довжина труби від опори 500мм | G26: ='Прайс повний'!G447 -> шт. | H26: ='Прайс повний'!I447 -> 583.59 | I26: ='Прайс повний'!J447 -> 583.59
B27: ='Прайс повний'!D448 -> КС-КВ-40-К ОС | C27: ='Прайс повний'!C448 -> ОС | D27: ='Прайс повний'!E448 -> Кронштейн Ф40мм з гаком для квадратних опор + скоба кріплення | F27: ='Прайс повний'!F448 -> Використовується при монтажі освітлення вулиць, для монтажу світильників вагою до 3 кг, на прямокутні опори. Кут нахилу 35°, діаметр труби 40мм, довжина труби від опори 500мм | G27: ='Прайс повний'!G448 -> шт. | H27: ='Прайс повний'!I448 -> 366.05 | I27: ='Прайс повний'!J448 -> 366.05
... B29: ='Прайс повний'!D450 -> КС-КВ-60-К ОС | C29: ='Прайс повний'!C450 -> ОС | D29: ='Прайс повний'!E450 -> Кронштейн Ф60мм з гаком для квадратних опор + скоба кріплення | F29: ='Прайс повний'!F450 -> Використовується при монтажі освітлення вулиць, для монтажу світильників вагою до 3 кг, на прямокутні опори. Кут нахилу 35°, діаметр труби 60мм, довжина труби від опори 500мм | G29: ='Прайс повний'!G450 -> шт. | H29: ='Прайс повний'!I450 -> 693.81 | I29: ='Прайс повний'!J450 -> 693.81
E30: ЗАТИСКАЧІ ДЛЯ СІП КАБЕЛЮ
B31: ='Прайс повний'!D451 -> ПА 1-1 AL | C31: ='Прайс повний'!C451 -> AL | D31: ='Прайс повний'!E451 -> Затискач плашковий ПА-1-1 | F31: ='Прайс повний'!F451 -> Призначені для з'єднання алюмінієвих і сталеалюмінієвих дротів. Діаметр провідника від 5,1мм до 9,6мм | G31: ='Прайс повний'!G450 -> шт. | H31: ='Прайс повний'!I451 -> 30.42 | I31: ='Прайс повний'!J451 -> 30.42
B32: ='Прайс повний'!D452 -> ПА 2-1 AL | C32: ='Прайс повний'!C452 -> AL | D32: ='Прайс повний'!E452 -> Затискач плашковий ПА-2-1 | F32: ='Прайс повний'!F452 -> Призначені для з'єднання алюмінієвих і сталеалюмінієвих дротів. Діаметр провідника від 9,6мм до 12,3мм | G32: ='Прайс повний'!G451 -> шт. | H32: ='Прайс повний'!I452 -> 82.16 | I32: ='Прайс повний'!J452 -> 82.16
B33: ='Прайс повний'!D453 -> ПА 2-2 AL | C33: ='Прайс повний'!C453 -> AL | D33: ='Прайс повний'!E453 -> Затискач плашковий ПА-2-2 | F33: ='Прайс повний'!F453 -> Призначені для з'єднання алюмінієвих і сталеалюмінієвих дротів. Діаметр провідника від 9,6мм до 12,3мм | G33: ='Прайс повний'!G452 -> шт. | H33: ='Прайс повний'!I453 -> 121.7 | I33: ='Прайс повний'!J453 -> 121.7
B34: ='Прайс повний'!D454 -> ПА 3-2 AL | C34: ='Прайс повний'!C454 -> AL | D34: ='Прайс повний'!E454 -> Затискач плашковий ПА-3-2 | F34: ='Прайс повний'!F454 -> Призначені для з'єднання алюмінієвих і сталеалюмінієвих дротів. Діаметр провідника від 12,3мм до 14мм | G34: ='Прайс повний'!G453 -> шт. | H34: ='Прайс повний'!I454 -> 184.39 | I34: ='Прайс повний'!J454 -> 184.39
B35: ='Прайс повний'!D455 -> ПА 4-1 AL | C35: ='Прайс повний'!C455 -> AL | D35: ='Прайс повний'!E455 -> Затискач плашковий ПА 4-1 | F35: ='Прайс повний'!F455 -> Призначені для з'єднання алюмінієвих і сталеалюмінієвих дротів. Діаметр провідника від 15,4мм до 20мм | G35: ='Прайс повний'!G454 -> шт. | H35: ='Прайс повний'!I455 -> 752.38 | I35: ='Прайс повний'!J455 -> 752.38
B36: ='Прайс повний'!D456 -> ПС 1-1 ОС | C36: ='Прайс повний'!C456 -> ОС | D36: ='Прайс повний'!E456 -> Затискач плашковий ПС-1-1 | F36: ='Прайс повний'!F456 -> Призначені для з'єднання сталевих дротів і канатів. Діаметр провідника від 5,5мм до 8,6мм | G36: ='Прайс повний'!G455 -> шт. | H36: ='Прайс повний'!I456 -> 32.21 | I36: ='Прайс повний'!J456 -> 32.21
B37: ='Прайс повний'!D457 -> ПС 2-1 ОС | C37: ='Прайс повний'!C457 -> ОС | D37: ='Прайс повний'!E457 -> Затискач плашковий ПС-2-1(заземлення) | F37: ='Прайс повний'!F457 -> Застосовуються при монтажі СІП лінійної арматури та служать важливими елементами при заземленні сталевих конструкцій опор для з'єднання заземлюючих провідників. Діаметр провідника від 9,1мм до 12мм | G37: ='Прайс повний'!G456 -> шт. | H37: ='Прайс повний'!I457 -> 55.77 | I37: ='Прайс повний'!J457 -> 55.77
E38: АНКЕРНІ ЗАТИСКАЧІ (НАТЯЖНІ)
B39: ='Прайс повний'!D458 -> ЗА 1.1 Fe | C39: ='Прайс повний'!C458 -> Fe | D39: ='Прайс повний'!E458 -> Затискач натяжний анкерний ЗА 1.1 | F39: ='Прайс повний'!F458 -> К-сть проводів-2, переріз провідників: 16-25мм2 | G39: ='Прайс повний'!G458 -> шт. | H39: ='Прайс повний'!I458 -> 26.83 | I39: ='Прайс повний'!J458 -> 26.83
B40: ='Прайс повний'!D459 -> ЗА 1.2 Fe | C40: ='Прайс повний'!C459 -> Fe | D40: ='Прайс повний'!E459 -> Затискач анкерний ЗА 4 1.2 | F40: ='Прайс повний'!F459 -> К-сть проводів-4, переріз провідників: 16-25мм2 | G40: ='Прайс повний'!G513 -> шт. | H40: ='Прайс повний'!I459 -> 31.27 | I40: ='Прайс повний'!J459 -> 31.27
B41: ='Прайс повний'!D460 -> ЗА 2.1 Fe | C41: ='Прайс повний'!C460 -> Fe | D41: ='Прайс повний'!E460 -> Затискач натяжний анкерний ЗА 2 2.1 | F41: ='Прайс повний'!F460 -> К-сть проводів-2, переріз провідників: 16-25мм3 | G41: ='Прайс повний'!G514 -> шт. | H41: ='Прайс повний'!I460 -> 44.69 | I41: ='Прайс повний'!J460 -> 44.69
B42: ='Прайс повний'!D461 -> ЗА 2.2 Fe | C42: ='Прайс повний'!C461 -> Fe | D42: ='Прайс повний'!E461 -> Затискач натяжний анкерний ЗА 2.2 4 | F42: ='Прайс повний'!F461 -> Для кріплення проводів СІП на великих прольотах. Кількість проводів - 4, Переріз провідників: 16-25 мм2 | G42: ='Прайс повний'!G461 -> шт. | H42: ='Прайс повний'!I461 -> 53.66 | I42: ='Прайс повний'!J461 -> 53.66
B43: ='Прайс повний'!D462 -> ЗА 3.1 Fe | C43: ='Прайс повний'!C462 -> Fe | D43: ='Прайс повний'!E462 -> Затискач натяжний анкерний ЗА 3.1 | F43: ='Прайс повний'!F462 -> Для натягу або підтримки двожильних кабелів з перетином від 25 до 70 мм2. | G43: ='Прайс повний'!G462 -> шт. | H43: ='Прайс повний'!I462 -> 51.71 | I43: ='Прайс повний'!J462 -> 51.71
B44: ='Прайс повний'!D463 -> ЗА 3.2 Fe | C44: ='Прайс повний'!C463 -> Fe | D44: ='Прайс повний'!E463 -> Затискач натяжний анкерний ЗА 3.2 | F44: ='Прайс повний'!F463 -> Для натягу або підтримки 4-х жильних кабелів з перетином від 25 до 70 мм2. | G44: ='Прайс повний'!G463 -> шт. | H44: ='Прайс повний'!I463 -> 107.25 | I44: ='Прайс повний'!J463 -> 107.25
B45: ='Прайс повний'!D464 -> ЗА 4.2 Fe | C45: ='Прайс повний'!C464 -> Fe | D45: ='Прайс повний'!E464 -> Затискач натяжний анкерний ЗА 4.2 | F45: ='Прайс повний'!F464 -> Кількість проводів - 4, Переріз провідників: 35-120 мм2 | G45: ='Прайс повний'!G464 -> шт. | H45: ='Прайс повний'!I464 -> 196.63 | I45: ='Прайс повний'!J464 -> 196.63
B46: ='Прайс повний'!D465 -> ZAS Fe | C46: ='Прайс повний'!C465 -> Fe | D46: ='Прайс повний'!E465 -> Затискач анкерний силовий ZAS | F46: ='Прайс повний'!F465 -> Кількість проводів - 4, Переріз провідників: 150-240 мм3 | G46: ='Прайс повний'!G465 -> шт. | H46: ='Прайс повний'!I465 -> 2472.6 | I46: ='Прайс повний'!J465 -> 2472.6
E47: ПІДВІСНІ ТА ПРОКОЛЮЮЧІ ЗАТИСКАЧІ
B48: ='Прайс повний'!D466 -> ЗПУЕ Ni | C48: ='Прайс повний'!C466 -> Ni | D48: ='Прайс повний'!E466 -> Затискач підтримуючий ЗПУЕ 2-4 | F48: ='Прайс повний'!F466 -> Перетин проводів: 16-120 мм2, Кількість проводів :2-4 | G48: ='Прайс повний'!G466 -> шт. | H48: ='Прайс повний'!I466 -> 81.9 | I48: ='Прайс повний'!J466 -> 81.9
B49: ='Прайс повний'!D467 -> ZPS Ni | C49: ='Прайс повний'!C467 -> Ni | D49: ='Прайс повний'!E467 -> Затискач підтримуючий силовий ZPS | F49: ='Прайс повний'!F467 -> Перетин проводів: 95-240 мм2, Кількість проводів : 4 | G49: ='Прайс повний'!G512 -> шт. | H49: ='Прайс повний'!I467 -> 2860 | I49: ='Прайс повний'!J467 -> 2860
B50: ='Прайс повний'!D468 -> ZCEP OCH+PL | C50: ='Прайс повний'!C468 -> OCH+PL | D50: ='Прайс повний'!E468 -> Затискач проколюючий ZCEP | F50: ='Прайс повний'!F468 -> Призначений для герметичного з'єднання проводів освітлення і електричних з'єднань між СІП без зняття ізоляції й під напругою | G50: ='Прайс повний'!G513 -> шт. | H50: ='Прайс повний'!I468 -> 34.16 | I50: ='Прайс повний'!J468 -> 34.16
B51: ='Прайс повний'!D469 -> ZC 2-95 OCH+PL | C51: ='Прайс повний'!C469 -> OCH+PL | D51: ='Прайс повний'!E469 -> Затискач проколюючий ZC 2-95 | F51: ='Прайс повний'!F469 -> Підходить для електроз'єднань і відгалужень всіх видів проводу СІП, а так само проводів освітлення. | G51: ='Прайс повний'!G514 -> шт. | H51: ='Прайс повний'!I469 -> 68.25 | I51: ='Прайс повний'!J469 -> 68.25
B52: ='Прайс повний'!D470 -> ЗПЕТ AL+PL | C52: ='Прайс повний'!C470 -> AL+PL | D52: ='Прайс повний'!E470 -> Затискач проколюючий ЗПЕТ | F52: ='Прайс повний'!F470 -> Для створення електричних з'єднань між проводами СІП і кабелями | G52: ='Прайс повний'!G470 -> шт. | H52: ='Прайс повний'!I470 -> 88.25 | I52: ='Прайс повний'!J470 -> 88.25
B53: ='Прайс повний'!D471 -> ЗОІ OCH+PL | C53: ='Прайс повний'!C471 -> OCH+PL | D53: ='Прайс повний'!E471 -> Затискач проколюючий ЗОІ | F53: ='Прайс повний'!F471 -> Для монтажу на лініях СІП які знаходяться під напругою. Перетин жили відгалуження : 35-150 мм2, Перетин магістральної жили: 35-150 мм2 | G53: ='Прайс повний'!G516 -> шт. | H53: ='Прайс повний'!I471 -> 547.3 | I53: ='Прайс повний'!J471 -> 547.3
B54: ='Прайс повний'!D472 -> ZC3-95 PL | C54: ='Прайс повний'!C472 -> PL | D54: ='Прайс повний'!E472 -> Затискач проколюючий ZC3-95 | F54: ='Прайс повний'!F472 -> Для з'єднання і відгалуження фазних і нульових самонесучих ізольованих проводів напругою до 1 кВ | G54: ='Прайс повний'!G517 -> шт. | H54: ='Прайс повний'!I472 -> 97.5 | I54: ='Прайс повний'!J472 -> 97.5
B55: ='Прайс повний'!D473 -> У731 CuZn+PL | C55: ='Прайс повний'!C473 -> CuZn+PL | D55: ='Прайс повний'!E473 -> Зжим У731 | F55: ='Прайс повний'!F473 -> Діаметр магістрального проводу 4-10мм, Розміри 45х45х36 мм, діаметр проводу - 1,5-10мм | G55: ='Прайс повний'!G518 -> шт. | H55: ='Прайс повний'!I473 -> 33.3 | I55: ='Прайс повний'!J473 -> 33.3
B56: ='Прайс повний'!D474 -> У733 CuZn+PL | C56: ='Прайс повний'!C474 -> CuZn+PL | D56: ='Прайс повний'!E474 -> Зжим У733 | F56: ='Прайс повний'!F474 -> Діаметр магістрального проводу 16-35мм, Розміри 45х45х36 мм, діаметр проводу 1,5-10мм | G56: ='Прайс повний'!G519 -> шт. | H56: ='Прайс повний'!I474 -> 33.3 | I56: ='Прайс повний'!J474 -> 33.3
B57: ='Прайс повний'!D475 -> У734 CuZn+PL | C57: ='Прайс повний'!C475 -> CuZn+PL | D57: ='Прайс повний'!E475 -> Зжим У734 | F57: ='Прайс повний'!F475 -> Діаметр магістрального проводу 16-35мм, Розміри 45х45х36 мм, діаметр проводу 16-25мм | G57: ='Прайс повний'!G520 -> шт. | H57: ='Прайс повний'!I475 -> 33.3 | I57: ='Прайс повний'!J475 -> 33.3
E58: ІНСТРУМЕНТИ
B59: ='Прайс повний'!D476 -> ИНХ-01 Fe | C59: ='Прайс повний'!C476 -> Fe | D59: ='Прайс повний'!E476 -> Інструмент для натягування і різання бандажної стрічки | F59: ='Прайс повний'!F476 -> Максимальна ширина бандажної стрічки, якуможна обрізати - 20мм, товщина - 1,5мм | G59: ='Прайс повний'!G521 -> шт. | H59: ='Прайс повний'!I476 -> 4680 | I59: ='Прайс повний'!J476 -> 4680
B60: ='Прайс повний'!D477 -> ИНC-20 Fe | C60: ='Прайс повний'!C477 -> Fe | D60: ='Прайс повний'!E477 -> Інструмент для натягування бандажної стрічки | F60: ='Прайс повний'!F477 -> Sicame PCL, максимальна ширина стрічки - 20мм | G60: ='Прайс повний'!G522 -> шт. | H60: ='Прайс повний'!I477 -> 4550.05 | I60: ='Прайс повний'!J477 -> 4550.05
B61: ='Прайс повний'!D478 -> Х-1 Fe | C61: ='Прайс повний'!C478 -> Fe | D61: ='Прайс повний'!E478 -> Захоплення «жаба» для протяжки канатів/кабелів СІП | F61: ='Прайс повний'!F478 -> Для захоплення і подальшого протягування або натягу канатів і кабелів діаметром 4,0 - 22 мм і вантажопідйомністю 1,0 - 2,0 тонни | G61: ='Прайс повний'!G523 -> шт. | H61: ='Прайс повний'!I478 -> 3163.75 | I61: ='Прайс повний'!J478 -> 3163.75
B62: ='Прайс повний'!D479 -> Х-2 Fe | C62: ='Прайс повний'!C479 -> Fe | D62: ='Прайс повний'!E479 -> Захоплення «жаба» для протяжки канатів/кабелів СІП | F62: ='Прайс повний'!F479 -> Для захоплення і подальшого протягування або натягу канатів і кабелів діаметром 16-32 мм і вантажопідйомністю 3,0- 5,0 тонни | G62: ='Прайс повний'!G524 -> шт. | H62: ='Прайс повний'!I479 -> 3559.14 | I62: ='Прайс повний'!J479 -> 3559.14
B63: ='Прайс повний'!D480 -> HX-50В Fe | C63: ='Прайс повний'!C480 -> Fe | D63: ='Прайс повний'!E480 -> Механічний пресувальник кабельних наконечників | F63: ='Прайс повний'!F480 -> Для наконечників 6.0-50 мм2, тип матриці-шестигнанник, вага 1,8кг | G63: ='Прайс повний'!G525 -> шт. | H63: ='Прайс повний'!I480 -> 0 | I63: ='Прайс повний'!J480 -> 0
B64: ='Прайс повний'!D481 -> YQ-70 Fe | C64: ='Прайс повний'!C481 -> Fe | D64: ='Прайс повний'!E481 -> Гідравлічний пресувальник кабельних наконечників | F64: ='Прайс повний'!F481 -> Набір з 8-ми змінних матриць в комплекті, діапазон перерізів: мідні наконечники 6-70 мм2, алюмінієві наконечники 10-70 мм2 | G64: ='Прайс повний'!G526 -> шт. | H64: ='Прайс повний'!I481 -> 3304 | I64: ='Прайс повний'!J481 -> 3304
B65: ='Прайс повний'!D482 -> YQ-120 Fe | C65: ='Прайс повний'!C482 -> Fe | F65: ='Прайс повний'!F482 -> Набір з 8-ми змінних матриць в комплекті, діапазон перерізів: мідні наконечники 6-120 мм2, алюмінієві наконечники 10-120 мм3 | G65: ='Прайс повний'!G527 -> шт. | H65: ='Прайс повний'!I482 -> 4056 | I65: ='Прайс повний'!J482 -> 4056
B66: ='Прайс повний'!D483 -> YQ-300 Fe | C66: ='Прайс повний'!C483 -> Fe | F66: ='Прайс повний'!F483 -> Діапазон перерізів: мідні наконечники 16-300 мм2, алюмінієві наконечники 25-240 мм4, матриці в комплекті (мм2): 16, 25, 35, 50, 70, 95, 120, 150, 185, 240, 300 | G66: ='Прайс повний'!G528 -> шт. | H66: ='Прайс повний'!I483 -> 4732 | I66: ='Прайс повний'!J483 -> 4732
B67: ='Прайс повний'!D484 -> WL30W AL | C67: ='Прайс повний'!C484 -> AL | D67: ='Прайс повний'!E484 -> Світильник світлодіодний консольний 30W | F67: ='Прайс повний'!F484 -> Для зовнішнього освітлення будівель, для освітлення ландшафтів, парковок, вулиць, парків, рекламних конструкцій . Напруга 220В, потужність 30.0 Вт | G67: ='Прайс повний'!G529 -> шт. | H67: ='Прайс повний'!I484 -> 893.8 | I67: ='Прайс повний'!J484 -> 893.8
B68: ='Прайс повний'!D485 -> PWL50W AL | C68: ='Прайс повний'!C485 -> AL | D68: ='Прайс повний'!E485 -> Світильник світлодіодний консольний 50W | F68: ='Прайс повний'!F485 -> Напруга 220В, потужність 50.0 Вт, світловий потік 4500.0 лм, к-сть світлодіодів-1шт. | G68: ='Прайс повний'!G530 -> шт. | H68: ='Прайс повний'!I485 -> 1191.13 | I68: ='Прайс повний'!J485 -> 1191.13
B69: ='Прайс повний'!D486 -> PWL100W AL | C69: ='Прайс повний'!C486 -> AL | D69: ='Прайс повний'!E486 -> Світильник світлодіодний консольний 100W | F69: ='Прайс повний'!F486 -> Напруга 220В, потужність 100.0 Вт, світловий потік 9000.0 лм, к-сть світлодіодів-1шт. | G69: ='Прайс повний'!#REF! -> #REF! | H69: ='Прайс повний'!I486 -> 2226.27 | I69: ='Прайс повний'!J486 -> 2226.27
E70: НАКОНЕЧНИКИ І ГІЛЬЗИ КАБЕЛЬНІ
B71: ='Прайс повний'!D487 -> А10 AL | C71: ='Прайс повний'!C487 -> AL | D71: ='Прайс повний'!E487 -> Наконечник DL-10 кабельний | F71: ='Прайс повний'!F487 -> Заг. довж.-59 мм, довж. трубчастої частини-28 мм , перетин - 10мм2, отвір - 5мм | G71: ='Прайс повний'!#REF! -> #REF! | H71: ='Прайс повний'!I487 -> 8.73 | I71: ='Прайс повний'!J487 -> 8.73
B72: ='Прайс повний'!D488 -> А16 AL | C72: ='Прайс повний'!C488 -> AL | D72: ='Прайс повний'!E488 -> Наконечник DL-16 кабельний | F72: ='Прайс повний'!F488 -> Заг. довж.- 64 мм, довж. трубчастої частини- 29 мм , перетин- 16мм2, отвір- 8мм | G72: ='Прайс повний'!G488 -> шт. | H72: ='Прайс повний'!I488 -> 9.98 | I72: ='Прайс повний'!J488 -> 9.98
B73: ='Прайс повний'!D489 -> А25 AL | C73: ='Прайс повний'!C489 -> AL | D73: ='Прайс повний'!E489 -> Наконечник DL-25 кабельний | F73: ='Прайс повний'!F489 -> Заг. довж.- 70 мм, довж. трубчастої частини- 29 мм , перетин- 25мм2, отвір- 8мм | G73: ='Прайс повний'!G489 -> шт. | H73: ='Прайс повний'!I489 -> 12.16 | I73: ='Прайс повний'!J489 -> 12.16
B74: ='Прайс повний'!D490 -> А35 AL | C74: ='Прайс повний'!C490 -> AL | D74: ='Прайс повний'!E490 -> Наконечник DL-35 кабельний | F74: ='Прайс повний'!F490 -> Заг. довж.- 75 мм, довж. трубчастої частини- 35 мм , перетин- 35мм2, отвір- 8,5мм | G74: ='Прайс повний'!G490 -> шт. | H74: ='Прайс повний'!I490 -> 15.52 | I74: ='Прайс повний'!J490 -> 15.52
B75: ='Прайс повний'!D491 -> А50 AL | C75: ='Прайс повний'!C491 -> AL | D75: ='Прайс повний'!E491 -> Наконечник DL-50 кабельний | F75: ='Прайс повний'!F491 -> Заг. довж.- 84 мм, довж. трубчастої частини- 39 мм , перетин- 50 мм2, отвір- 10,5 мм | G75: ='Прайс повний'!G491 -> шт. | H75: ='Прайс повний'!I491 -> 22.07 | I75: ='Прайс повний'!J491 -> 22.07
B76: ='Прайс повний'!D492 -> А70 AL | C76: ='Прайс повний'!C492 -> AL | D76: ='Прайс повний'!E492 -> Наконечник DL-70 кабельний | F76: ='Прайс повний'!F492 -> Заг. довж.- 89 мм, довж. трубчастої частини- 44 мм , перетин- 70 мм2, отвір- 12,5 мм | G76: ='Прайс повний'!G492 -> шт. | H76: ='Прайс повний'!I492 -> 26.67 | I76: ='Прайс повний'!J492 -> 26.67
B77: ='Прайс повний'!D493 -> А95 AL | C77: ='Прайс повний'!C493 -> AL | D77: ='Прайс повний'!E493 -> Наконечник DL-95 кабельний | F77: ='Прайс повний'!F493 -> Заг. довж.- 93 мм, довж. трубчастої частини- 45 мм , перетин- 95 мм2, отвір- 12 мм | G77: ='Прайс повний'!G493 -> шт. | H77: ='Прайс повний'!I493 -> 32.13 | I77: ='Прайс повний'!J493 -> 32.13
B78: ='Прайс повний'!D494 -> А120 AL | C78: ='Прайс повний'!C494 -> AL | D78: ='Прайс повний'!E494 -> Наконечник DL-120 кабельний | F78: ='Прайс повний'!F494 -> Заг. довж.- 96 мм, довж. трубчастої частини- 48 мм , перетин- 120 мм2, отвір- 12 мм | G78: ='Прайс повний'!G494 -> шт. | H78: ='Прайс повний'!I494 -> 43.6 | I78: ='Прайс повний'!J494 -> 43.6
B79: ='Прайс повний'!D495 -> А150 AL | C79: ='Прайс повний'!C495 -> AL | D79: ='Прайс повний'!E495 -> Наконечник DL-150 кабельний | F79: ='Прайс повний'!F495 -> Заг. довж.- 113 мм, довж. трубчастої частини- 52 мм , перетин- 150 мм2, отвір- 12 мм | G79: ='Прайс повний'!G495 -> шт. | H79: ='Прайс повний'!I495 -> 47.73 | I79: ='Прайс повний'!J495 -> 47.73
B80: ='Прайс повний'!D496 -> А185 AL | C80: ='Прайс повний'!C496 -> AL | D80: ='Прайс повний'!E496 -> Наконечник DL-185 кабельний | F80: ='Прайс повний'!F496 -> Заг. довж.- 118 мм, довж. трубчастої частини- 54 мм , перетин- 185 мм2, отвір- 16 мм | G80: ='Прайс повний'!G496 -> шт. | H80: ='Прайс повний'!I496 -> 57.17 | I80: ='Прайс повний'!J496 -> 57.17
B81: ='Прайс повний'!D497 -> А240 AL | C81: ='Прайс повний'!C497 -> AL | D81: ='Прайс повний'!E497 -> Наконечник DL-240 кабельний | F81: ='Прайс повний'!F497 -> Заг. довж.- 126 мм, довж. трубчастої частини- 56 мм , перетин- 240 мм2, отвір- 16 мм | G81: ='Прайс повний'!G497 -> шт. | H81: ='Прайс повний'!I497 -> 75.73 | I81: ='Прайс повний'!J497 -> 75.73
B82: ='Прайс повний'!D498 -> Г025 AL | C82: ='Прайс повний'!C498 -> AL | D82: ='Прайс повний'!E498 -> Алюмінієва гільза GL-25 | F82: ='Прайс повний'!F498 -> Заг. довж.- 71 мм, заг. діаметр- 12мм, перетин 25мм2 | G82: ='Прайс повний'!G498 -> шт. | H82: ='Прайс повний'!I498 -> 11.93 | I82: ='Прайс повний'!J498 -> 11.93
B83: ='Прайс повний'!D499 -> Г035 AL | C83: ='Прайс повний'!C499 -> AL | D83: ='Прайс повний'!E499 -> Алюмінієва гільза GL-35 | F83: ='Прайс повний'!F499 -> Заг. довж.- 80 мм, заг. діаметр- 14мм, перетин 35мм3 | G83: ='Прайс повний'!G499 -> шт. | H83: ='Прайс повний'!I499 -> 15.13 | I83: ='Прайс повний'!J499 -> 15.13
E84: АКСЕСУАРИ
B85: ='Прайс повний'!D500 -> NC-20 Ni | C85: ='Прайс повний'!C500 -> Ni | D85: ='Прайс повний'!E500 -> Скріпа бандажна нержавіюча | F85: ='Прайс повний'!F500 -> Застосовується разом із бандажною стрічкою для монтажу гаків і кронштейнів на опорах ЛЕП | G85: ='Прайс повний'!G500 -> шт. | H85: ='Прайс повний'!I500 -> 6.7 | I85: ='Прайс повний'!J500 -> 6.7
B86: ='Прайс повний'!D501 -> СУ-20 Ni | C86: ='Прайс повний'!C501 -> Ni | D86: ='Прайс повний'!E501 -> Скріпа 20мм бандажна нержавіюча | G86: ='Прайс повний'!G501 -> шт. | H86: ='Прайс повний'!I501 -> 9.12 | I86: ='Прайс повний'!J501 -> 9.12
B87: ='Прайс повний'!D502 -> СК-20(о) ОС | C87: ='Прайс повний'!C502 -> ОС | D87: ='Прайс повний'!E502 -> Скріпа 20мм бандажна | G87: ='Прайс повний'!G502 -> шт. | H87: ='Прайс повний'!I502 -> 7.17 | I87: ='Прайс повний'!J502 -> 7.17
B88: ='Прайс повний'!D503 -> СУ-10 Ni | C88: ='Прайс повний'!C503 -> Ni | D88: ='Прайс повний'!E503 -> Скріпа 10мм бандажна нержавіюча | G88: ='Прайс повний'!G503 -> шт. | H88: ='Прайс повний'!I503 -> 5.3 | I88: ='Прайс повний'!J503 -> 5.3
B89: ='Прайс повний'!D504 -> ЛБ-20 Ni | C89: ='Прайс повний'!C504 -> Ni | D89: ='Прайс повний'!E504 -> Стрічка 20х0,7мм нержавіюча бандажна | F89: ='Прайс повний'!F504 -> Нержавіюча сталь марки AISI 201 товщиною 0,7мм.Довжина стрічки в рулоні - 50м | G89: ='Прайс повний'!G504 -> пог.м. | H89: ='Прайс повний'!I504 -> 33.15 | I89: ='Прайс повний'!J504 -> 33.15
B90: ='Прайс повний'!D505 -> ЛБ-10 Ni | C90: ='Прайс повний'!C505 -> Ni | D90: ='Прайс повний'!E505 -> Стрічка 10х0,7мм нержавіюча бандажна | G90: ='Прайс повний'!G505 -> пог.м. | H90: ='Прайс повний'!I505 -> 23.79 | I90: ='Прайс повний'!J505 -> 23.79
B91: ='Прайс повний'!D506 -> ЛПР-20 ОС | C91: ='Прайс повний'!C506 -> ОС | D91: ='Прайс повний'!E506 -> Стрічка 20х0,5мм перфорована | F91: ='Прайс повний'!F506 -> Виготовлена з оцинкованої сталі сталі марки 08КП товщиною 0,5мм, Довжина стрічки в рулоні - 25м | G91: ='Прайс повний'!G506 -> пог.м. | H91: ='Прайс повний'!I506 -> 17.08 | I91: ='Прайс повний'!J506 -> 17.08
B92: ='Прайс повний'!D507 -> ЛБО ОС | C92: ='Прайс повний'!C507 -> ОС | D92: ='Прайс повний'!E507 -> Стрічка 20х0,7мм бандажна | F92: ='Прайс повний'!F507 -> Виготовлена з оцинкованої сталі сталі марки 08КП товщиною 0,7мм, Довжина стрічки в рулоні - 50м | G92: ='Прайс повний'!G507 -> пог.м. | H92: ='Прайс повний'!I507 -> 14.35 | I92: ='Прайс повний'!J507 -> 14.35

Sheet Замовлення
A1: БЛИСКАВКОЗАХИСТ ТА ЗАЗЕМЛЕННЯ | F1: =TODAY() -> 46161
A2: Замовлення | F2: Всього (грн) | G2: =SUM(G5:G36) -> 0 | I2: =IFERROR(INDEX('Прайс повний'!J$1:J$311,SMALL(IF('Прайс повний'!$J$5:$J$312,ROW('Прайс повний'!$J$5:$J$312)),ROW(M1))),"")
F3: в т.ч. ПДВ | G3: =G2/6 -> 0
A4: Тип | B4: Назва | C4: Артикул | D4: Од. | E4: Ціна зі знижкою | F4: Кількість | G4: Вартість зі знижкою
A5: {=IFERROR(INDEX('Прайс повний'!D$1:D$530,SMALL(IF('Прайс повний'!$K$6:$K$530,ROW('Прайс повний'!$K$6:$K$530)),ROW(F1))),"")} | B5: {=IFERROR(INDEX('Прайс повний'!E$1:E$530,SMALL(IF('Прайс повний'!$K$6:$K$530,ROW('Прайс повний'!$K$6:$K$530)),ROW(G1))),"")} | C5: {=IFERROR(INDEX('Прайс повний'!A$1:A$530,SMALL(IF('Прайс повний'!$K$6:$K$530,ROW('Прайс повний'!$K$6:$K$530)),ROW(C1))),"")} | D5: {=IFERROR(INDEX('Прайс повний'!G$1:G$530,SMALL(IF('Прайс повний'!$K$6:$K$530,ROW('Прайс повний'!$K$6:$K$530)),ROW(I1))),"")} | E5: {=IFERROR(INDEX('Прайс повний'!J$1:J$530,SMALL(IF('Прайс повний'!$K$6:$K$530,ROW('Прайс повний'!$K$6:$K$530)),ROW(L1))),"")} | F5: {=IFERROR(INDEX('Прайс повний'!K$1:K$530,SMALL(IF('Прайс повний'!$K$6:$K$530,ROW('Прайс повний'!$K$6:$K$530)),ROW(M1))),"")} | G5: {=IFERROR(INDEX('Прайс повний'!L$1:L$530,SMALL(IF('Прайс повний'!$K$6:$K$530,ROW('Прайс повний'!$K$6:$K$530)),ROW(N1))),"")}
A6: {=IFERROR(INDEX('Прайс повний'!D$1:D$530,SMALL(IF('Прайс повний'!$K$6:$K$530,ROW('Прайс повний'!$K$6:$K$530)),ROW(F2))),"")} | B6: {=IFERROR(INDEX('Прайс повний'!E$1:E$530,SMALL(IF('Прайс повний'!$K$6:$K$530,ROW('Прайс повний'!$K$6:$K$530)),ROW(G2))),"")} | C6: {=IFERROR(INDEX('Прайс повний'!A$1:A$530,SMALL(IF('Прайс повний'!$K$6:$K$530,ROW('Прайс повний'!$K$6:$K$530)),ROW(C2))),"")} | D6: {=IFERROR(INDEX('Прайс повний'!G$1:G$530,SMALL(IF('Прайс повний'!$K$6:$K$530,ROW('Прайс повний'!$K$6:$K$530)),ROW(I2))),"")} | E6: {=IFERROR(INDEX('Прайс повний'!J$1:J$530,SMALL(IF('Прайс повний'!$K$6:$K$530,ROW('Прайс повний'!$K$6:$K$530)),ROW(L2))),"")} | F6: {=IFERROR(INDEX('Прайс повний'!K$1:K$530,SMALL(IF('Прайс повний'!$K$6:$K$530,ROW('Прайс повний'!$K$6:$K$530)),ROW(M2))),"")} | G6: {=IFERROR(INDEX('Прайс повний'!L$1:L$530,SMALL(IF('Прайс повний'!$K$6:$K$530,ROW('Прайс повний'!$K$6:$K$530)),ROW(N2))),"")}
A7: {=IFERROR(INDEX('Прайс повний'!D$1:D$530,SMALL(IF('Прайс повний'!$K$6:$K$530,ROW('Прайс повний'!$K$6:$K$530)),ROW(F3))),"")} | B7: {=IFERROR(INDEX('Прайс повний'!E$1:E$530,SMALL(IF('Прайс повний'!$K$6:$K$530,ROW('Прайс повний'!$K$6:$K$530)),ROW(G3))),"")} | C7: {=IFERROR(INDEX('Прайс повний'!A$1:A$530,SMALL(IF('Прайс повний'!$K$6:$K$530,ROW('Прайс повний'!$K$6:$K$530)),ROW(C3))),"")} | D7: {=IFERROR(INDEX('Прайс повний'!G$1:G$530,SMALL(IF('Прайс повний'!$K$6:$K$530,ROW('Прайс повний'!$K$6:$K$530)),ROW(I3))),"")} | E7: {=IFERROR(INDEX('Прайс повний'!J$1:J$530,SMALL(IF('Прайс повний'!$K$6:$K$530,ROW('Прайс повний'!$K$6:$K$530)),ROW(L3))),"")} | F7: {=IFERROR(INDEX('Прайс повний'!K$1:K$530,SMALL(IF('Прайс повний'!$K$6:$K$530,ROW('Прайс повний'!$K$6:$K$530)),ROW(M3))),"")} | G7: {=IFERROR(INDEX('Прайс повний'!L$1:L$530,SMALL(IF('Прайс повний'!$K$6:$K$530,ROW('Прайс повний'!$K$6:$K$530)),ROW(N3))),"")}
A8: {=IFERROR(INDEX('Прайс повний'!D$1:D$530,SMALL(IF('Прайс повний'!$K$6:$K$530,ROW('Прайс повний'!$K$6:$K$530)),ROW(F4))),"")} | B8: {=IFERROR(INDEX('Прайс повний'!E$1:E$530,SMALL(IF('Прайс повний'!$K$6:$K$530,ROW('Прайс повний'!$K$6:$K$530)),ROW(G4))),"")} | C8: {=IFERROR(INDEX('Прайс повний'!A$1:A$530,SMALL(IF('Прайс повний'!$K$6:$K$530,ROW('Прайс повний'!$K$6:$K$530)),ROW(C4))),"")} | D8: {=IFERROR(INDEX('Прайс повний'!G$1:G$530,SMALL(IF('Прайс повний'!$K$6:$K$530,ROW('Прайс повний'!$K$6:$K$530)),ROW(I4))),"")} | E8: {=IFERROR(INDEX('Прайс повний'!J$1:J$530,SMALL(IF('Прайс повний'!$K$6:$K$530,ROW('Прайс повний'!$K$6:$K$530)),ROW(L4))),"")} | F8: {=IFERROR(INDEX('Прайс повний'!K$1:K$530,SMALL(IF('Прайс повний'!$K$6:$K$530,ROW('Прайс повний'!$K$6:$K$530)),ROW(M4))),"")} | G8: {=IFERROR(INDEX('Прайс повний'!L$1:L$530,SMALL(IF('Прайс повний'!$K$6:$K$530,ROW('Прайс повний'!$K$6:$K$530)),ROW(N4))),"")}
A9: {=IFERROR(INDEX('Прайс повний'!D$1:D$530,SMALL(IF('Прайс повний'!$K$6:$K$530,ROW('Прайс повний'!$K$6:$K$530)),ROW(F5))),"")} | B9: {=IFERROR(INDEX('Прайс повний'!E$1:E$530,SMALL(IF('Прайс повний'!$K$6:$K$530,ROW('Прайс повний'!$K$6:$K$530)),ROW(G5))),"")} | C9: {=IFERROR(INDEX('Прайс повний'!A$1:A$530,SMALL(IF('Прайс повний'!$K$6:$K$530,ROW('Прайс повний'!$K$6:$K$530)),ROW(C5))),"")} | D9: {=IFERROR(INDEX('Прайс повний'!G$1:G$530,SMALL(IF('Прайс повний'!$K$6:$K$530,ROW('Прайс повний'!$K$6:$K$530)),ROW(I5))),"")} | E9: {=IFERROR(INDEX('Прайс повний'!J$1:J$530,SMALL(IF('Прайс повний'!$K$6:$K$530,ROW('Прайс повний'!$K$6:$K$530)),ROW(L5))),"")} | F9: {=IFERROR(INDEX('Прайс повний'!K$1:K$530,SMALL(IF('Прайс повний'!$K$6:$K$530,ROW('Прайс повний'!$K$6:$K$530)),ROW(M5))),"")} | G9: {=IFERROR(INDEX('Прайс повний'!L$1:L$530,SMALL(IF('Прайс повний'!$K$6:$K$530,ROW('Прайс повний'!$K$6:$K$530)),ROW(N5))),"")}
A10: {=IFERROR(INDEX('Прайс повний'!D$1:D$530,SMALL(IF('Прайс повний'!$K$6:$K$530,ROW('Прайс повний'!$K$6:$K$530)),ROW(F6))),"")} | B10: {=IFERROR(INDEX('Прайс повний'!E$1:E$530,SMALL(IF('Прайс повний'!$K$6:$K$530,ROW('Прайс повний'!$K$6:$K$530)),ROW(G6))),"")} | C10: {=IFERROR(INDEX('Прайс повний'!A$1:A$530,SMALL(IF('Прайс повний'!$K$6:$K$530,ROW('Прайс повний'!$K$6:$K$530)),ROW(C6))),"")} | D10: {=IFERROR(INDEX('Прайс повний'!G$1:G$530,SMALL(IF('Прайс повний'!$K$6:$K$530,ROW('Прайс повний'!$K$6:$K$530)),ROW(I6))),"")} | E10: {=IFERROR(INDEX('Прайс повний'!J$1:J$530,SMALL(IF('Прайс повний'!$K$6:$K$530,ROW('Прайс повний'!$K$6:$K$530)),ROW(L6))),"")} | F10: {=IFERROR(INDEX('Прайс повний'!K$1:K$530,SMALL(IF('Прайс повний'!$K$6:$K$530,ROW('Прайс повний'!$K$6:$K$530)),ROW(M6))),"")} | G10: {=IFERROR(INDEX('Прайс повний'!L$1:L$530,SMALL(IF('Прайс повний'!$K$6:$K$530,ROW('Прайс повний'!$K$6:$K$530)),ROW(N6))),"")}
A11: {=IFERROR(INDEX('Прайс повний'!D$1:D$530,SMALL(IF('Прайс повний'!$K$6:$K$530,ROW('Прайс повний'!$K$6:$K$530)),ROW(F7))),"")} | B11: {=IFERROR(INDEX('Прайс повний'!E$1:E$530,SMALL(IF('Прайс повний'!$K$6:$K$530,ROW('Прайс повний'!$K$6:$K$530)),ROW(G7))),"")} | C11: {=IFERROR(INDEX('Прайс повний'!A$1:A$530,SMALL(IF('Прайс повний'!$K$6:$K$530,ROW('Прайс повний'!$K$6:$K$530)),ROW(C7))),"")} | D11: {=IFERROR(INDEX('Прайс повний'!G$1:G$530,SMALL(IF('Прайс повний'!$K$6:$K$530,ROW('Прайс повний'!$K$6:$K$530)),ROW(I7))),"")} | E11: {=IFERROR(INDEX('Прайс повний'!J$1:J$530,SMALL(IF('Прайс повний'!$K$6:$K$530,ROW('Прайс повний'!$K$6:$K$530)),ROW(L7))),"")} | F11: {=IFERROR(INDEX('Прайс повний'!K$1:K$530,SMALL(IF('Прайс повний'!$K$6:$K$530,ROW('Прайс повний'!$K$6:$K$530)),ROW(M7))),"")} | G11: {=IFERROR(INDEX('Прайс повний'!L$1:L$530,SMALL(IF('Прайс повний'!$K$6:$K$530,ROW('Прайс повний'!$K$6:$K$530)),ROW(N7))),"")}
A12: {=IFERROR(INDEX('Прайс повний'!D$1:D$530,SMALL(IF('Прайс повний'!$K$6:$K$530,ROW('Прайс повний'!$K$6:$K$530)),ROW(F8))),"")} | B12: {=IFERROR(INDEX('Прайс повний'!E$1:E$530,SMALL(IF('Прайс повний'!$K$6:$K$530,ROW('Прайс повний'!$K$6:$K$530)),ROW(G8))),"")} | C12: {=IFERROR(INDEX('Прайс повний'!A$1:A$530,SMALL(IF('Прайс повний'!$K$6:$K$530,ROW('Прайс повний'!$K$6:$K$530)),ROW(C8))),"")} | D12: {=IFERROR(INDEX('Прайс повний'!G$1:G$530,SMALL(IF('Прайс повний'!$K$6:$K$530,ROW('Прайс повний'!$K$6:$K$530)),ROW(I8))),"")} | E12: {=IFERROR(INDEX('Прайс повний'!J$1:J$530,SMALL(IF('Прайс повний'!$K$6:$K$530,ROW('Прайс повний'!$K$6:$K$530)),ROW(L8))),"")} | F12: {=IFERROR(INDEX('Прайс повний'!K$1:K$530,SMALL(IF('Прайс повний'!$K$6:$K$530,ROW('Прайс повний'!$K$6:$K$530)),ROW(M8))),"")} | G12: {=IFERROR(INDEX('Прайс повний'!L$1:L$530,SMALL(IF('Прайс повний'!$K$6:$K$530,ROW('Прайс повний'!$K$6:$K$530)),ROW(N8))),"")}
A13: {=IFERROR(INDEX('Прайс повний'!D$1:D$530,SMALL(IF('Прайс повний'!$K$6:$K$530,ROW('Прайс повний'!$K$6:$K$530)),ROW(F9))),"")} | B13: {=IFERROR(INDEX('Прайс повний'!E$1:E$530,SMALL(IF('Прайс повний'!$K$6:$K$530,ROW('Прайс повний'!$K$6:$K$530)),ROW(G9))),"")} | C13: {=IFERROR(INDEX('Прайс повний'!A$1:A$530,SMALL(IF('Прайс повний'!$K$6:$K$530,ROW('Прайс повний'!$K$6:$K$530)),ROW(C9))),"")} | D13: {=IFERROR(INDEX('Прайс повний'!G$1:G$530,SMALL(IF('Прайс повний'!$K$6:$K$530,ROW('Прайс повний'!$K$6:$K$530)),ROW(I9))),"")} | E13: {=IFERROR(INDEX('Прайс повний'!J$1:J$530,SMALL(IF('Прайс повний'!$K$6:$K$530,ROW('Прайс повний'!$K$6:$K$530)),ROW(L9))),"")} | F13: {=IFERROR(INDEX('Прайс повний'!K$1:K$530,SMALL(IF('Прайс повний'!$K$6:$K$530,ROW('Прайс повний'!$K$6:$K$530)),ROW(M9))),"")} | G13: {=IFERROR(INDEX('Прайс повний'!L$1:L$530,SMALL(IF('Прайс повний'!$K$6:$K$530,ROW('Прайс повний'!$K$6:$K$530)),ROW(N9))),"")}
A14: {=IFERROR(INDEX('Прайс повний'!D$1:D$530,SMALL(IF('Прайс повний'!$K$6:$K$530,ROW('Прайс повний'!$K$6:$K$530)),ROW(F10))),"")} | B14: {=IFERROR(INDEX('Прайс повний'!E$1:E$530,SMALL(IF('Прайс повний'!$K$6:$K$530,ROW('Прайс повний'!$K$6:$K$530)),ROW(G10))),"")} | C14: {=IFERROR(INDEX('Прайс повний'!A$1:A$530,SMALL(IF('Прайс повний'!$K$6:$K$530,ROW('Прайс повний'!$K$6:$K$530)),ROW(C10))),"")} | D14: {=IFERROR(INDEX('Прайс повний'!G$1:G$530,SMALL(IF('Прайс повний'!$K$6:$K$530,ROW('Прайс повний'!$K$6:$K$530)),ROW(I10))),"")} | E14: {=IFERROR(INDEX('Прайс повний'!J$1:J$530,SMALL(IF('Прайс повний'!$K$6:$K$530,ROW('Прайс повний'!$K$6:$K$530)),ROW(L10))),"")} | F14: {=IFERROR(INDEX('Прайс повний'!K$1:K$530,SMALL(IF('Прайс повний'!$K$6:$K$530,ROW('Прайс повний'!$K$6:$K$530)),ROW(M10))),"")} | G14: {=IFERROR(INDEX('Прайс повний'!L$1:L$530,SMALL(IF('Прайс повний'!$K$6:$K$530,ROW('Прайс повний'!$K$6:$K$530)),ROW(N10))),"")}
A15: {=IFERROR(INDEX('Прайс повний'!D$1:D$530,SMALL(IF('Прайс повний'!$K$6:$K$530,ROW('Прайс повний'!$K$6:$K$530)),ROW(F11))),"")} | B15: {=IFERROR(INDEX('Прайс повний'!E$1:E$530,SMALL(IF('Прайс повний'!$K$6:$K$530,ROW('Прайс повний'!$K$6:$K$530)),ROW(G11))),"")} | C15: {=IFERROR(INDEX('Прайс повний'!A$1:A$530,SMALL(IF('Прайс повний'!$K$6:$K$530,ROW('Прайс повний'!$K$6:$K$530)),ROW(C11))),"")} | D15: {=IFERROR(INDEX('Прайс повний'!G$1:G$530,SMALL(IF('Прайс повний'!$K$6:$K$530,ROW('Прайс повний'!$K$6:$K$530)),ROW(I11))),"")} | E15: {=IFERROR(INDEX('Прайс повний'!J$1:J$530,SMALL(IF('Прайс повний'!$K$6:$K$530,ROW('Прайс повний'!$K$6:$K$530)),ROW(L11))),"")} | F15: {=IFERROR(INDEX('Прайс повний'!K$1:K$530,SMALL(IF('Прайс повний'!$K$6:$K$530,ROW('Прайс повний'!$K$6:$K$530)),ROW(M11))),"")} | G15: {=IFERROR(INDEX('Прайс повний'!L$1:L$530,SMALL(IF('Прайс повний'!$K$6:$K$530,ROW('Прайс повний'!$K$6:$K$530)),ROW(N11))),"")}
A16: {=IFERROR(INDEX('Прайс повний'!D$1:D$530,SMALL(IF('Прайс повний'!$K$6:$K$530,ROW('Прайс повний'!$K$6:$K$530)),ROW(F12))),"")} | B16: {=IFERROR(INDEX('Прайс повний'!E$1:E$530,SMALL(IF('Прайс повний'!$K$6:$K$530,ROW('Прайс повний'!$K$6:$K$530)),ROW(G12))),"")} | C16: {=IFERROR(INDEX('Прайс повний'!A$1:A$530,SMALL(IF('Прайс повний'!$K$6:$K$530,ROW('Прайс повний'!$K$6:$K$530)),ROW(C12))),"")} | D16: {=IFERROR(INDEX('Прайс повний'!G$1:G$530,SMALL(IF('Прайс повний'!$K$6:$K$530,ROW('Прайс повний'!$K$6:$K$530)),ROW(I12))),"")} | E16: {=IFERROR(INDEX('Прайс повний'!J$1:J$530,SMALL(IF('Прайс повний'!$K$6:$K$530,ROW('Прайс повний'!$K$6:$K$530)),ROW(L12))),"")} | F16: {=IFERROR(INDEX('Прайс повний'!K$1:K$530,SMALL(IF('Прайс повний'!$K$6:$K$530,ROW('Прайс повний'!$K$6:$K$530)),ROW(M12))),"")} | G16: {=IFERROR(INDEX('Прайс повний'!L$1:L$530,SMALL(IF('Прайс повний'!$K$6:$K$530,ROW('Прайс повний'!$K$6:$K$530)),ROW(N12))),"")}
... A37: {=IFERROR(INDEX('Прайс повний'!D$1:D$530,SMALL(IF('Прайс повний'!$K$6:$K$530,ROW('Прайс повний'!$K$6:$K$530)),ROW(F33))),"")} | B37: {=IFERROR(INDEX('Прайс повний'!E$1:E$530,SMALL(IF('Прайс повний'!$K$6:$K$530,ROW('Прайс повний'!$K$6:$K$530)),ROW(G33))),"")} | C37: {=IFERROR(INDEX('Прайс повний'!A$1:A$530,SMALL(IF('Прайс повний'!$K$6:$K$530,ROW('Прайс повний'!$K$6:$K$530)),ROW(C33))),"")} | D37: {=IFERROR(INDEX('Прайс повний'!G$1:G$530,SMALL(IF('Прайс повний'!$K$6:$K$530,ROW('Прайс повний'!$K$6:$K$530)),ROW(I33))),"")} | E37: {=IFERROR(INDEX('Прайс повний'!J$1:J$530,SMALL(IF('Прайс повний'!$K$6:$K$530,ROW('Прайс повний'!$K$6:$K$530)),ROW(L33))),"")} | F37: {=IFERROR(INDEX('Прайс повний'!K$1:K$530,SMALL(IF('Прайс повний'!$K$6:$K$530,ROW('Прайс повний'!$K$6:$K$530)),ROW(M33))),"")} | G37: {=IFERROR(INDEX('Прайс повний'!L$1:L$530,SMALL(IF('Прайс повний'!$K$6:$K$530,ROW('Прайс повний'!$K$6:$K$530)),ROW(N33))),"")}

Sheet Прайс повний
I1: =Заземлення!G1 -> Прайс-лист від 20.05.2026р.
I2: Знижка | J2: =Прайс!I3 -> 0
A4: Артикул | B4: Код | C4: Матеріал | D4: Тип | E4: Назва | F4: Опис | G4: Од. вим. | H4: Упаковка | I4: Ціна грн., з ПДВ | J4: Ціна грн., з ПДВ зі знижкою | K4: Замовлення | L4: Вартість замовлення
B5: Пластикові тримачі круглого провідника
A6: 01 010 | B6: 01/8 G | C6: PL | D6: =B6&" "&C6 -> 01/8 G PL | E6: Тримач пластиковий сірий M8 | F6: Поліамід, колір — сірий, висота монтажу 30 мм, внутрішня різьба М8 | G6: шт. | H6: 100/400/500 | I6: 17.7 | J6: =ROUND(I6*(100-M6)/100, 2) -> 17.7 | K6: ='Тримачі для Блискавкозахисту'!J5 -> 0 | L6: =J6*K6 -> 0 | M6: ='Тримачі для Блискавкозахисту'!I3 -> 0
A7: 01 020 | B7: 01/6 | C7: PL G | D7: =B7&" "&C7 -> 01/6 PL G | E7: Тримач пластиковий сірий M6 | F7: Поліамід, колір — сірий, висота монтажу 30 мм, внутрішня різьба М6 | G7: шт. | H7: 100/400/500 | I7: 17.7 | J7: =ROUND(I7*(100-M6)/100, 2) -> 17.7 | K7: ='Тримачі для Блискавкозахисту'!J6 -> 0 | L7: =J7*K7 -> 0
A8: 01 030 | B8: 01/6 | C8: PL R | D8: =B8&" "&C8 -> 01/6 PL R | E8: Тримач пластиковий червоний M6 | F8: Поліамід, колір — червоний (RAL 3011), висота монтажу 30 мм, внутрішня різьба М6 | G8: шт. | H8: 100/400/500 | I8: 17.7 | J8: =ROUND(I8*(100-M6)/100, 2) -> 17.7 | K8: ='Тримачі для Блискавкозахисту'!J7 -> 0 | L8: =J8*K8 -> 0
A9: 01 040 | B9: 01/6 | C9: PL B | D9: =B9&" "&C9 -> 01/6 PL B | E9: Тримач пластиковий коричневий M6 | F9: Поліамід, колір — коричневий (RAL 8017), висота монтажу 30 мм, внутрішня різьба М6 | G9: шт. | H9: 100/400/500 | I9: 17.7 | J9: =ROUND(I9*(100-M6)/100, 2) -> 17.7 | K9: ='Тримачі для Блискавкозахисту'!J8 -> 0 | L9: =J9*K9 -> 0
A10: 01 050 | B10: 01/6 | C10: PL Cu | D10: =B10&" "&C10 -> 01/6 PL Cu | E10: Тримач пластиковий колір мідь M6 | F10: Поліамід, колір — “мідь”, висота монтажу 30 мм, внутрішня різьба М6 | G10: шт. | H10: 100/400/500 | I10: 17.7 | J10: =ROUND(I10*(100-M6)/100, 2) -> 17.7 | K10: ='Тримачі для Блискавкозахисту'!J9 -> 0 | L10: =J10*K10 -> 0
A11: 01 060 | B11: 01/6 | C11: PL Cu | D11: =B11&" "&C11 -> 01/6 PL Cu | E11: Тримач пластиковий рудий M6 | F11: Поліамід, колір — рудий, висота монтажу 30 мм, внутрішня різьба М6 | G11: шт. | I11: 17.7 | J11: =ROUND(I11*(100-M6)/100, 2) -> 17.7 | K11: ='Тримачі для Блискавкозахисту'!J10 -> 0 | L11: =J11*K11 -> 0
A12: 01 001 | B12: 01/1 | C12: Ni | D12: =B12&" "&C12 -> 01/1 Ni | E12: Тримач дроту Niro | F12: Нержаіюча сталь, висота монтажу 20мм, внутрішня різьба M6, висота тримача 40мм | G12: шт. | I12: 36.76 | J12: =ROUND(I12*(100-M6)/100, 2) -> 36.76 | K12: ='Тримачі для Блискавкозахисту'!J11 -> 0 | L12: =J12*K12 -> 0
A13: 01 070 | B13: 01/8.2 | C13: PL ОС | D13: =B13&" "&C13 -> 01/8.2 PL ОС | E13: Тримач пластиковий з підставкою | F13: Поліамід, колір — сірий, висота монтажу 30 мм, внутрішня різьба М8 | G13: шт. | I13: 46.88 | J13: =ROUND(I13*(100-M6)/100, 2) -> 46.88 | K13: ='Тримачі для Блискавкозахисту'!J12 -> 0 | L13: =J13*K13 -> 0
A14: 01 080 | B14: 01/1.2 | C14: Ni OC | D14: =B14&" "&C14 -> 01/1.2 Ni OC | E14: Тримач дроту Niro з підставкою | F14: Нержавіюча сталь, висота монтажу 40мм | G14: шт. | I14: 63.15 | J14: =ROUND(I14*(100-M6)/100, 2) -> 63.15 | K14: ='Тримачі для Блискавкозахисту'!J13 -> 0 | L14: =J14*K14 -> 0
A15: 02 001 | B15: 02/8.3 | C15: OC | D15: =B15&" "&C15 -> 02/8.3 OC | E15: Тримач дроту металевий | F15: Сталь, гальванічно оцинкована, товщина 2.5 мм | G15: шт. | I15: 59.44 | J15: =ROUND(I15*(100-M6)/100, 2) -> 59.44 | K15: ='Тримачі для Блискавкозахисту'!J14 -> 0 | L15: =J15*K15 -> 0
A16: 02 011 | B16: 02/8.3 | C16: Cu | D16: =B16&" "&C16 -> 02/8.3 Cu | E16: Тримач дроту металевий (мідь) | F16: Мідь, товщина 2,5мм | G16: шт. | I16: 218.59 | J16: =ROUND(I16*(100-M6)/100, 2) -> 218.59 | K16: ='Тримачі для Блискавкозахисту'!J15 -> 0 | L16: =J16*K16 -> 0
A17: 02 002 | B17: 02/16.3 | C17: OC | D17: =B17&" "&C17 -> 02/16.3 OC | E17: Тримач блискавкоприймача | F17: Сталь, гальванічно оцинкована, товщина 2.5 мм | G17: шт. | I17: 63.24 | J17: =ROUND(I17*(100-M6)/100, 2) -> 63.24 | K17: ='Тримачі для Блискавкозахисту'!J16 -> 0 | L17: =J17*K17 -> 0
A18: 02 003 | B18: 02/0.2 | C18: OC | D18: =B18&" "&C18 -> 02/0.2 OC | E18: Тримач полоси металевий | F18: Сталь, гальванічно оцинкована, товщина 2.5 мм | G18: шт. | I18: 45.98 | J18: =ROUND(I18*(100-M6)/100, 2) -> 45.98 | K18: ='Тримачі для Блискавкозахисту'!J17 -> 0 | L18: =J18*K18 -> 0
A19: 02 013 | B19: 02/0.3 | C19: Cu | D19: =B19&" "&C19 -> 02/0.3 Cu | E19: Тримач полоси металевий (мідь) | F19: Мідь, товщина 2,5мм | G19: шт. | I19: 205.99 | J19: =ROUND(I19*(100-M6)/100, 2) -> 205.99 | K19: ='Тримачі для Блискавкозахисту'!J18 -> 0 | L19: =J19*K19 -> 0
A20: 02 004 | B20: 02/40.2 | C20: OC | D20: =B20&" "&C20 -> 02/40.2 OC | E20: Тримач полоси 40мм металевий | F20: Сталь, гальванічно оцинкована, товщина 2.5 мм | G20: шт. | I20: 53.17 | J20: =ROUND(I20*(100-M6)/100, 2) -> 53.17 | K20: ='Тримачі для Блискавкозахисту'!J19 -> 0 | L20: =J20*K20 -> 0
A21: 02 008 | B21: 02/8.1 | C21: OC | D21: =B21&" "&C21 -> 02/8.1 OC | E21: Скоба тримача дроту | F21: Для кріплення дроту до стіни | G21: шт. | I21: 14.92 | J21: =ROUND(I21*(100-M6)/100, 2) -> 14.92 | K21: ='Тримачі для Блискавкозахисту'!J20 -> 0 | L21: =J21*K21 -> 0
A22: 02 016 | B22: 02/16.1 | C22: OC | D22: =B22&" "&C22 -> 02/16.1 OC | E22: Скоба тримача блискавкоприймача | F22: Для кріплення блискавкоприймача до стіни | G22: шт. | I22: 15.64 | J22: =ROUND(I22*(100-M6)/100, 2) -> 15.64 | K22: ='Тримачі для Блискавкозахисту'!J21 -> 0 | L22: =J22*K22 -> 0
A23: 03 001 | B23: 03/8.3 | C23: ОС | D23: =B23&" "&C23 -> 03/8.3 ОС | E23: Тримач дроту подовжений | F23: Металевий тримач для дроту довжиною 100мм | G23: шт. | I23: 109.81 | J23: =ROUND(I23*(100-M6)/100, 2) -> 109.81 | K23: ='Тримачі для Блискавкозахисту'!J22 -> 0 | L23: =J23*K23 -> 0
A24: 03 002 | B24: 03/16.3 | C24: ОС | D24: =B24&" "&C24 -> 03/16.3 ОС | E24: Тримач блискавкоприймача подовжений | F24: Тримач для блискавкоприймача довжиною 100 мм | G24: шт. | I24: 113.05 | J24: =ROUND(I24*(100-M6)/100, 2) -> 113.05 | K24: ='Тримачі для Блискавкозахисту'!J23 -> 0 | L24: =J24*K24 -> 0
A25: 07 000 | B25: 07 | C25: OC | D25: =B25&" "&C25 -> 07 OC | E25: Тримач універсальний | F25: Сталь, гальванічно оцинкована, товщина 2 мм, висота монтажу - 100мм | G25: шт. | I25: 31.93 | J25: =ROUND(I25*(100-M6)/100, 2) -> 31.93 | K25: ='Тримачі для Блискавкозахисту'!J24 -> 0 | L25: =J25*K25 -> 0
A26: 07 001 | B26: 07 | C26: OC 8017 | D26: =B26&" "&C26 -> 07 OC 8017 | E26: Тримач універсальний коричневий | F26: Сталь, гальванічно оцинкована, товщина 2 мм, висота монтажу - 100мм. Лакований у відповідний колір. | G26: шт. | I26: 43.3 | J26: =ROUND(I26*(100-M6)/100, 2) -> 43.3 | K26: ='Тримачі для Блискавкозахисту'!J25 -> 0 | L26: =J26*K26 -> 0
A27: 07 002 | B27: 07 | C27: OC 3011 | D27: =B27&" "&C27 -> 07 OC 3011 | E27: Тримач універсальний червоний | F27: Сталь, гальванічно оцинкована, товщина 2 мм, висота монтажу - 100мм. Лакований у відповідний колір. | G27: шт. | I27: 43.3 | J27: =ROUND(I27*(100-M6)/100, 2) -> 43.3 | K27: ='Тримачі для Блискавкозахисту'!J26 -> 0 | L27: =J27*K27 -> 0
A28: 07 003 | B28: 07 | C28: OC 8004 | D28: =B28&" "&C28 -> 07 OC 8004 | E28: Тримач універсальний рудий | F28: Сталь, гальванічно оцинкована, товщина 2 мм, висота монтажу - 100мм. Лакований у відповідний колір. | G28: шт. | I28: 43.3 | J28: =ROUND(I28*(100-M6)/100, 2) -> 43.3 | K28: ='Тримачі для Блискавкозахисту'!J27 -> 0 | L28: =J28*K28 -> 0
A29: 07 100 | B29: 07 | C29: CU | D29: =B29&" "&C29 -> 07 CU | E29: Тримач універсальний мідний | F29: Мідь, товщина 1,5 мм, висота монтажу - 100мм | G29: шт. | I29: 199 | J29: =ROUND(I29*(100-M6)/100, 2) -> 199 | K29: ='Тримачі для Блискавкозахисту'!J28 -> 0 | L29: =J29*K29 -> 0
A30: 07 800 | B30: 07/S | C30: OC | D30: =B30&" "&C30 -> 07/S OC | E30: Тримач універсальний скручений | F30: Сталь, гальванічно оцинкована, товщина 2 мм, з замком на два болта М6, висота монтажу - 100мм | G30: шт. | I30: 45.3 | J30: =ROUND(I30*(100-M6)/100, 2) -> 45.3 | K30: ='Тримачі для Блискавкозахисту'!J29 -> 0 | L30: =J30*K30 -> 0
A31: 07 801 | B31: 07/S | C31: OC 8017 | D31: =B31&" "&C31 -> 07/S OC 8017 | E31: Тримач універсальний скручений коричневий | F31: Сталь, гальванічно оцинкована, товщина 2 мм, з замком на два болта М6, висота монтажу - 100мм. Лакований у відповідний колір. | G31: шт. | I31: 55.72 | J31: =ROUND(I31*(100-M6)/100, 2) -> 55.72 | K31: ='Тримачі для Блискавкозахисту'!J30 -> 0 | L31: =J31*K31 -> 0
A32: 07 802 | B32: 07/S | C32: OC 3011 | D32: =B32&" "&C32 -> 07/S OC 3011 | E32: Тримач універсальний скручений червоний | F32: Сталь, гальванічно оцинкована, товщина 2 мм, з замком на два болта М6, висота монтажу - 100мм. Лакований у відповідний колір. | G32: шт. | I32: 55.72 | J32: =ROUND(I32*(100-M6)/100, 2) -> 55.72 | K32: ='Тримачі для Блискавкозахисту'!J31 -> 0 | L32: =J32*K32 -> 0
A33: 07 803 | B33: 07/S | C33: OC 8004 | D33: =B33&" "&C33 -> 07/S OC 8004 | E33: Тримач універсальний скручений рудий | F33: Сталь, гальванічно оцинкована, товщина 2 мм, з замком на два болта М6, висота монтажу - 100мм. Лакований у відповідний колір. | G33: шт. | I33: 55.72 | J33: =ROUND(I33*(100-M6)/100, 2) -> 55.72 | K33: ='Тримачі для Блискавкозахисту'!J32 -> 0 | L33: =J33*K33 -> 0
A34: 01 080 | B34: 01/8.3 | C34: ОС, PL | D34: =B34&" "&C34 -> 01/8.3 ОС, PL | E34: Тримач дроту пластиковий подовжений | F34: Пластиковий тримач для дроту 8-10мм, довжиною 100мм | G34: шт. | I34: 77.89 | J34: =ROUND(I34*(100-M6)/100, 2) -> 77.89 | K34: ='Тримачі для Блискавкозахисту'!J33 -> 0 | L34: =J34*K34 -> 0
A35: 01 100 | B35: 01/8/10 | C35: OC, PL | D35: =B35&" "&C35 -> 01/8/10 OC, PL | E35: Тримач дроту з дюбелем 100 | F35: Сталь, гальванічно оцинкована, довжина 100 мм з різьбою під дюбель. В комплекті дюбель 12х60 | G35: шт. | I35: 32.12 | J35: =ROUND(I35*(100-M6)/100, 2) -> 32.12 | K35: ='Тримачі для Блискавкозахисту'!J34 -> 0 | L35: =J35*K35 -> 0
A36: 01 140 | B36: 01/8/14 | C36: OC, PL | D36: =B36&" "&C36 -> 01/8/14 OC, PL | E36: Тримач дроту з дюбелем 140 | F36: Сталь, гальванічно оцинкована, довжина 140 мм, з різьбою під дюбель. В комплекті дюбель 12х61 | G36: шт. | I36: 35.45 | J36: =ROUND(I36*(100-M6)/100, 2) -> 35.45 | K36: ='Тримачі для Блискавкозахисту'!J35 -> 0 | L36: =J36*K36 -> 0
A37: 01 200 | B37: 01/8/20 | C37: OC, PL | D37: =B37&" "&C37 -> 01/8/20 OC, PL | E37: Тримач дроту з дюбелем 200 | F37: Сталь, гальванічно оцинкована, довжина 200 мм з різьбою під дюбель. В комплекті дюбель 12х62 | G37: шт. | I37: 43.16 | J37: =ROUND(I37*(100-M6)/100, 2) -> 43.16 | K37: ='Тримачі для Блискавкозахисту'!J36 -> 0 | L37: =J37*K37 -> 0
A38: 01 250 | B38: 01/8/25 | C38: OC, PL | D38: =B38&" "&C38 -> 01/8/25 OC, PL | E38: Тримач дроту з дюбелем 250 | G38: шт. | H38: 0.15 | I38: 49.63 | J38: =ROUND(I38*(100-M7)/100, 2) -> 49.63 | K38: ='Тримачі для Блискавкозахисту'!J37 -> 0 | L38: =J38*K38 -> 0
