Workbook

Sheet Заземлення
D1: Блискавкозахист та заземлення | G1: Прайс-лист від 20.05.2026р.
D3: +38(067) 314 07 85, +38(097) 095 63 06 | G3: Введіть Вашу знижку %
A4: Вигляд | B4: Код | C4: Матеріал | D4: Назва | E4: Артикул | F4: Опис | G4: Од. вим. | H4: Ціна грн., з ПДВ | I4: Ціна грн., з ПДВ зі знижкою | J4: Введіть потрібну кількість
A5: КОМПЛЕКТИ ЗАЗЕМЛЕННЯ ОЦИНКОВАНІ (діаметр 16мм)
C6: ОС | D6: Комплект заземлення R3m | E6: ='Прайс повний'!A282 -> 40 030 | F6: ='Прайс повний'!F282 -> Склад комплекту: стержень заземлення d16мм -2 шт, наконечник-1 шт, муфта заземлення-2 шт, болт для забивання стержнів-1 шт, затискач прут d16/дріт d8-10-1 шт, стрічка гідроізоляціна-1 шт., антикорозійна паста-1шт. | G6: компл. | H6: ='Прайс повний'!I282 -> 1600 | I6: ='Прайс повний'!J282 -> 1600
C7: ОС | D7: Комплект заземлення R4,5m | E7: ='Прайс повний'!A283 -> 40 045 | F7: ='Прайс повний'!F283 -> Склад комплекту: стержень заземлення d16мм -3 шт, наконечник-1 шт, муфта заземлення-3 шт, болт для забивання стержнів-1 шт, затискач прут d16/дріт d8-10-1 шт, стрічка гідроізоляціна-1 шт., антикорозійна паста-1шт. | G7: компл. | H7: ='Прайс повний'!I283 -> 2200 | I7: ='Прайс повний'!J283 -> 2200
C8: ОС | D8: Комплект заземлення R6m | E8: ='Прайс повний'!A284 -> 40 060 | F8: ='Прайс повний'!F284 -> Склад комплекту: стержень заземлення d16мм -4 шт, наконечник-1 шт, муфта заземлення-4 шт, болт для забивання стержнів-1 шт, затискач прут d16/дріт d8-10-1 шт, стрічка гідроізоляціна-1 шт, антикорозійна паста-1шт. | G8: компл. | H8: ='Прайс повний'!I284 -> 2800 | I8: ='Прайс повний'!J284 -> 2800
C9: ОС | D9: Комплект заземлення R7,5m | E9: ='Прайс повний'!A285 -> 40 075 | F9: ='Прайс повний'!F285 -> Склад комплекту: стержень заземлення d16мм -5 шт, наконечник-1 шт, муфта заземлення-5 шт, болт для забивання стержнів-1 шт, затискач прут d16/дріт d8-10-1 шт, стрічка гідроізоляціна-1 шт, антикорозійна паста-1шт. | G9: компл. | H9: ='Прайс повний'!I285 -> 3400 | I9: ='Прайс повний'!J285 -> 3400
C10: ОС | D10: Комплект заземлення R9m | E10: ='Прайс повний'!A286 -> 40 090 | F10: ='Прайс повний'!F286 -> Склад комплекту: стержень заземлення-6 шт, наконечник-1 шт, муфта заземлення-6 шт, болт для забивання стержнів-1 шт, затискач прут d16/дріт d8-10-1 шт, стрічка гідроізоляціна-1 шт, антикорозійна паста-1шт. | G10: компл. | H10: ='Прайс повний'!I286 -> 4000 | I10: ='Прайс повний'!J286 -> 4000
C11: ОС | D11: ='Прайс повний'!E287 -> Комплект заземлення R10,5m | E11: ='Прайс повний'!A287 -> 40 105 | F11: ='Прайс повний'!F287 -> Склад комплекту: стержень заземлення-7 шт, наконечник-1 шт, муфта заземлення-7 шт, болт для забивання стержнів-1 шт, затискач прут d16/дріт d8-10-1 шт, стрічка гідроізоляціна-1 шт, антикорозійна паста-1шт. | G11: компл. | H11: ='Прайс повний'!I287 -> 4550 | I11: ='Прайс повний'!J287 -> 4550
C12: ОС | D12: ='Прайс повний'!E288 -> Комплект заземлення R12m | E12: ='Прайс повний'!A288 -> 40 120 | F12: ='Прайс повний'!F288 -> Склад комплекту: стержень заземлення-8 шт, наконечник-1 шт, муфта заземлення-8 шт, болт для забивання стержнів-1 шт, затискач прут d16/дріт d8-10-1 шт, стрічка гідроізоляціна-1шт, антикорозійна паста-1шт. | G12: компл. | H12: ='Прайс повний'!I288 -> 5150 | I12: ='Прайс повний'!J288 -> 5150
C13: ОС | D13: ='Прайс повний'!E289 -> Комплект заземлення R13,5m | E13: ='Прайс повний'!A289 -> 40 135 | F13: ='Прайс повний'!F289 -> Склад комплекту: стержень заземлення-9 шт, наконечник-1 шт, муфта заземлення-9 шт, болт для забивання стержнів-1 шт, затискач прут d16/дріт d8-10-1 шт, стрічка гідроізоляціна-1шт, антикорозійна паста-1шт. | G13: компл. | H13: ='Прайс повний'!I289 -> 5750 | I13: ='Прайс повний'!J289 -> 5750
C14: ОС | D14: ='Прайс повний'!E290 -> Комплект заземлення R15m | E14: ='Прайс повний'!A290 -> 40 150 | F14: ='Прайс повний'!F290 -> Склад комплекту: стержень заземлення d16mm-10 шт, наконечник-2 шт, муфта заземлення-10 шт, болт для забивання стержнів-2 шт, затискач прут d16/дріт d8-10-2 шт, стрічка гідроізоляціна-1 шт, антикорозійна паста-1шт. | G14: компл. | H14: ='Прайс повний'!I290 -> 6650 | I14: ='Прайс повний'!J290 -> 6650
A15: КОМПЛЕКТИ ЗАЗЕМЛЕННЯ ОЦИНКОВАНІ (діаметр 20мм)
C16: OC | D16: ='Прайс повний'!E291 -> Комплект заземлення R3m d20mm | E16: ='Прайс повний'!A291 -> 42030 | F16: ='Прайс повний'!F291 -> Склад комплекту: стержень заземлення d20мм -2 шт, муфта заземлення-2 шт, наконечник-1шт, болт для забивання стержнів-1 шт, затискач прут d16-20/смуга 40/дріт d8-10 (гар.оцинк.) - 1шт, стрічка гідроізоляціна-1 шт, антикорозійна паста-1шт. | G16: ='Прайс повний'!G291 -> компл. | H16: ='Прайс повний'!I291 -> 1950 | I16: ='Прайс повний'!J291 -> 1950
C17: OC | D17: ='Прайс повний'!E292 -> Комплект заземлення R4,5m d20mm | E17: ='Прайс повний'!A292 -> 42045 | F17: ='Прайс повний'!F292 -> Склад комплекту: стержень заземлення d20мм -3 шт, муфта заземлення-3 шт, наконечник-1шт, болт для забивання стержнів-1 шт, затискач прут d16-20/смуга 40/дріт d8-10 (гар.оцинк.) - 1шт, стрічка гідроізоляціна-1 шт, антикорозійна паста-1шт. | G17: ='Прайс повний'!G292 -> компл. | H17: ='Прайс повний'!I292 -> 2650 | I17: ='Прайс повний'!J292 -> 2650
C18: OC | D18: ='Прайс повний'!E293 -> Комплект заземлення R6m d20mm | E18: ='Прайс повний'!A293 -> 42060 | F18: ='Прайс повний'!F293 -> Склад комплекту: стержень заземлення d20мм -4 шт, муфта заземлення-4 шт, наконечник-1шт, болт для забивання стержнів-1 шт, затискач прут d16-20/смуга 40/дріт d8-10 (гар.оцинк.) - 1шт, стрічка гідроізоляціна-1 шт, антикорозійна паста-1шт. | G18: ='Прайс повний'!G293 -> компл. | H18: ='Прайс повний'!I293 -> 3350 | I18: ='Прайс повний'!J293 -> 3350
C19: OC | D19: ='Прайс повний'!E294 -> Комплект заземлення R7,5m d20mm | E19: ='Прайс повний'!A294 -> 42075 | F19: ='Прайс повний'!F294 -> Склад комплекту: стержень заземлення d20мм -5 шт, муфта заземлення-5 шт, наконечник-1шт, болт для забивання стержнів-1 шт, затискач прут d16-20/смуга 40/дріт d8-10 (гар.оцинк.) - 1шт, стрічка гідроізоляціна-1 шт, антикорозійна паста-1шт. | G19: ='Прайс повний'!G294 -> компл. | H19: ='Прайс повний'!I294 -> 4050 | I19: ='Прайс повний'!J294 -> 4050
C20: OC | D20: ='Прайс повний'!E295 -> Комплект заземлення R9m d20mm | E20: ='Прайс повний'!A295 -> 42090 | F20: ='Прайс повний'!F295 -> Склад комплекту: стержень заземлення d20мм -6 шт, муфта заземлення-6 шт, наконечник-1шт, болт для забивання стержнів-1 шт, затискач прут d16-20/смуга 40/дріт d8-10 (гар.оцинк.) - 1шт, стрічка гідроізоляціна-1 шт, антикорозійна паста-1шт. | G20: ='Прайс повний'!G295 -> компл. | H20: ='Прайс повний'!I295 -> 4750 | I20: ='Прайс повний'!J295 -> 4750
C21: OC | D21: ='Прайс повний'!E296 -> Комплект заземлення R10,5m d20mm | E21: ='Прайс повний'!A296 -> 42105 | F21: ='Прайс повний'!F296 -> Склад комплекту: стержень заземлення d20мм -7 шт, муфта заземлення-7 шт, наконечник-1шт, болт для забивання стержнів-1 шт, затискач прут d16-20/смуга 40/дріт d8-10 (гар.оцинк.) - 1шт, стрічка гідроізоляціна-1 шт, антикорозійна паста-1шт. | G21: ='Прайс повний'!G296 -> компл. | H21: ='Прайс повний'!I296 -> 5450 | I21: ='Прайс повний'!J296 -> 5450
C22: OC | D22: ='Прайс повний'!E297 -> Комплект заземлення R12m d20mm | E22: ='Прайс повний'!A297 -> 42120 | F22: ='Прайс повний'!F297 -> Склад комплекту: стержень заземлення d20мм -8 шт, муфта заземлення-8 шт, наконечник-1шт, болт для забивання стержнів-1 шт, затискач прут d16-20/смуга 40/дріт d8-10 (гар.оцинк.) - 1шт, стрічка гідроізоляціна-1 шт, антикорозійна паста-1шт. | G22: ='Прайс повний'!G297 -> компл. | H22: ='Прайс повний'!I297 -> 6200 | I22: ='Прайс повний'!J297 -> 6200
C23: OC | D23: ='Прайс повний'!E298 -> Комплект заземлення R13,5m d20mm | E23: ='Прайс повний'!A298 -> 42135 | F23: ='Прайс повний'!F298 -> Склад комплекту: стержень заземлення d20мм -9 шт, муфта заземлення-9 шт, наконечник-1шт, болт для забивання стержнів-1 шт, затискач прут d16-20/смуга 40/дріт d8-10 (гар.оцинк.) - 1шт, стрічка гідроізоляціна-1 шт, антикорозійна паста-1шт. | G23: ='Прайс повний'!G298 -> компл. | H23: ='Прайс повний'!I298 -> 6900 | I23: ='Прайс повний'!J298 -> 6900
C24: OC | D24: ='Прайс повний'!E299 -> Комплект заземлення R15m d20mm | E24: ='Прайс повний'!A299 -> 42150 | F24: ='Прайс повний'!F299 -> Склад комплекту: стержень заземлення d20mm-10 шт, муфта заземлення-10 шт, наконечник-2шт, болт для забивання стержнів-2 шт, затискач прут d16-20/смуга 40/дріт d8-10 (гар.оцинк.) - 2шт, стрічка гідроізоляціна-1 шт, антикорозійна паста-1шт. | G24: ='Прайс повний'!G299 -> компл. | H24: ='Прайс повний'!I299 -> 8000 | I24: ='Прайс повний'!J299 -> 8000
A25: КОМПЛЕКТИ ЗАЗЕМЛЕННЯ З НЕРЖАВІЮЧОЇ СТАЛІ
B26: ='Прайс повний'!B300 -> 43/3 | C26: ='Прайс повний'!C300 -> Ni | D26: ='Прайс повний'!E300 -> Комплект заземлення R3m-Ni | E26: ='Прайс повний'!A300 -> 43030 | F26: ='Прайс повний'!F300 -> Склад комплекту: стержень заземлення d16мм -2 шт, наконечник-1 шт, муфта заземлення-2 шт, болт для забивання стержнів-1 шт, затискач прут d16/дріт d8-10-1 шт, стрічка гідроізоляціна-1 шт, антикорозійна паста-1шт. | G26: ='Прайс повний'!G300 -> компл. | H26: ='Прайс повний'!I300 -> 2350 | I26: ='Прайс повний'!J300 -> 2350
B27: ='Прайс повний'!B301 -> 43/4,5 | C27: ='Прайс повний'!C301 -> Ni | D27: ='Прайс повний'!E301 -> Комплект заземлення R4,5m-Ni | E27: ='Прайс повний'!A301 -> 43045 | F27: ='Прайс повний'!F301 -> Склад комплекту: стержень заземлення d16мм -3 шт, наконечник-1 шт, муфта заземлення-3 шт, болт для забивання стержнів-1 шт, затискач прут d16/дріт d8-10-1 шт, стрічка гідроізоляціна-1 шт., антикорозійна паста-1шт. | G27: ='Прайс повний'!G301 -> компл. | H27: ='Прайс повний'!I301 -> 3300 | I27: ='Прайс повний'!J301 -> 3300
B28: ='Прайс повний'!B302 -> 43/6 | C28: ='Прайс повний'!C302 -> Ni | D28: ='Прайс повний'!E302 -> Комплект заземлення R6m-Ni | E28: ='Прайс повний'!A302 -> 43060 | F28: ='Прайс повний'!F302 -> Склад комплекту: стержень заземлення d16мм -4 шт, наконечник-1 шт, муфта заземлення-4 шт, болт для забивання стержнів-1 шт, затискач прут d16/дріт d8-10-1 шт, стрічка гідроізоляціна-1 шт, антикорозійна паста-1шт. | G28: ='Прайс повний'!G302 -> компл. | H28: ='Прайс повний'!I302 -> 4250 | I28: ='Прайс повний'!J302 -> 4250
B29: ='Прайс повний'!B303 -> 43/7,5 | C29: ='Прайс повний'!C303 -> Ni | D29: ='Прайс повний'!E303 -> Комплект заземлення R7,5m-Ni | E29: ='Прайс повний'!A303 -> 43075 | F29: ='Прайс повний'!F303 -> Склад комплекту: стержень заземлення d16мм -5 шт, наконечник-1 шт, муфта заземлення-5 шт, болт для забивання стержнів-1 шт, затискач прут d16/дріт d8-10-1 шт, стрічка гідроізоляціна-1 шт, тантикорозійна паста-1шт. | G29: ='Прайс повний'!G303 -> компл. | H29: ='Прайс повний'!I303 -> 5200 | I29: ='Прайс повний'!J303 -> 5200
B30: ='Прайс повний'!B304 -> 43/9 | C30: ='Прайс повний'!C304 -> Ni | D30: ='Прайс повний'!E304 -> Комплект заземлення R9m-Ni | E30: ='Прайс повний'!A304 -> 43090 | F30: ='Прайс повний'!F304 -> Склад комплекту: стержень заземлення-6 шт, наконечник-1 шт, муфта заземлення-6 шт, болт для забивання стержнів-1 шт, затискач прут d16/дріт d8-10-1 шт, стрічка гідроізоляціна-1 шт, антикорозійна паста-1шт. | G30: ='Прайс повний'!G304 -> компл. | H30: ='Прайс повний'!I304 -> 6100 | I30: ='Прайс повний'!J304 -> 6100
B31: ='Прайс повний'!B305 -> 43/10,5 | C31: ='Прайс повний'!C305 -> Ni | D31: ='Прайс повний'!E305 -> Комплект заземлення R10,5m-Ni | E31: ='Прайс повний'!A305 -> 43105 | F31: ='Прайс повний'!F305 -> Склад комплекту: стержень заземлення-7 шт, наконечник-1 шт, муфта заземлення-7 шт, болт для забивання стержнів-1 шт, затискач прут d16/дріт d8-10-1 шт, стрічка гідроізоляціна-1 шт, антикорозійна паста-1шт. | G31: ='Прайс повний'!G305 -> компл. | H31: ='Прайс повний'!I305 -> 7050 | I31: ='Прайс повний'!J305 -> 7050
B32: ='Прайс повний'!B306 -> 43/12 | C32: ='Прайс повний'!C306 -> Ni | D32: ='Прайс повний'!E306 -> Комплект заземлення R12m-Ni | E32: ='Прайс повний'!A306 -> 43120 | F32: ='Прайс повний'!F306 -> Склад комплекту: стержень заземлення-8 шт, наконечник-1 шт, муфта заземлення-8 шт, болт для забивання стержнів-1 шт, затискач прут d16/дріт d8-10-1 шт, стрічка гідроізоляціна-1 шт, антикорозійна паста-1шт. | G32: ='Прайс повний'!G306 -> компл. | H32: ='Прайс повний'!I306 -> 8000 | I32: ='Прайс повний'!J306 -> 8000
B33: ='Прайс повний'!B307 -> 43/13,5 | C33: ='Прайс повний'!C307 -> Ni | D33: ='Прайс повний'!E307 -> Комплект заземлення R13,5m-Ni | E33: ='Прайс повний'!A307 -> 43135 | F33: ='Прайс повний'!F307 -> Склад комплекту: стержень заземлення-9 шт, наконечник-1 шт, муфта заземлення-9 шт, болт для забивання стержнів-1 шт, затискач прут d16/дріт d8-10-1 шт, стрічка гідроізоляціна-1 шт, антикорозійна паста-1шт. | G33: ='Прайс повний'!G307 -> компл. | H33: ='Прайс повний'!I307 -> 8900 | I33: ='Прайс повний'!J307 -> 8900
B34: ='Прайс повний'!B308 -> 43/15 | C34: ='Прайс повний'!C308 -> Ni | D34: ='Прайс повний'!E308 -> Комплект заземлення R15m-Ni | E34: ='Прайс повний'!A308 -> 13150 | F34: ='Прайс повний'!F308 -> Склад комплекту: стержень заземлення-10 шт, наконечник-2 шт, муфта заземлення-10 шт, болт для забивання стержнів-2 шт, затискач прут d16/дріт d8-10-2 шт, стрічка гідроізоляціна-1 шт, антикорозійна паста-1шт. | G34: ='Прайс повний'!G308 -> компл. | H34: ='Прайс повний'!I308 -> 10200 | I34: ='Прайс повний'!J308 -> 10200
A35: КОМПЛЕКТИ ЗАЗЕМЛЕННЯ ОБМІДНЕНІ (Виробник CBM Польща)
C36: Cu | D36: ='Прайс повний'!E309 -> Комплект заземлення R3m-Cu | E36: 44030 | F36: Склад комплекту: стержень заземлення d14,2 мм обміднений-2 шт, наконечник-1 шт, муфта заземлення-2 шт, болт для забивання стержнів-1 шт, Затискач прут d16/смуга/дріт d8-10 (нержавійка) - 1 шт, стрічка гідроізоляційна-3м, токопровідна паста -1шт. | G36: компл. | H36: ='Прайс повний'!I309 -> 3000 | I36: ='Прайс повний'!J309 -> 3000
A37: #VALUE! | C37: Cu | D37: ='Прайс повний'!E310 -> Комплект заземлення R4,5m-Cu | E37: 44045 | F37: Склад комплекту: стержень заземлення d14,2 мм обміднений-3 шт, наконечник-1 шт, муфта заземлення-3 шт, болт для забивання стержнів-1 шт, Затискач прут d16/смуга/дріт d8-10 (нержавійка) - 1 шт, стрічка гідроізоляційна-3м, токопровідна паста -1шт. | G37: компл. | H37: ='Прайс повний'!I310 -> 4200 | I37: ='Прайс повний'!J310 -> 4200
A38: #VALUE! | C38: Cu | D38: ='Прайс повний'!E311 -> Комплект заземлення R6m-Cu | E38: 44060 | F38: Склад комплекту: стержень заземлення d14,2 мм обміднений-4 шт, наконечник-1 шт, муфта заземлення-4 шт, болт для забивання стержнів-1 шт, затискач прут d16/смуга/дріт d8-10 (нержавійка)-1 шт, стрічка гідроізоляційна-3м, токопровідна паста -1шт. | G38: компл. | H38: ='Прайс повний'!I311 -> 5350 | I38: ='Прайс повний'!J311 -> 5350
A39: #VALUE! | C39: Cu | D39: ='Прайс повний'!E312 -> Комплект заземлення R7,5m-Cu | E39: 44075 | F39: Склад комплекту: стержень заземлення d14,2 мм обміднений-5 шт, наконечник-1 шт, муфта заземлення-5 шт, болт для забивання стержнів-1 шт, затискач прут d16/смуга/дріт d8-10 (нержавійка)-1 шт, стрічка гідроізоляційна-3м, токопровідна паста -1шт. | G39: компл. | H39: ='Прайс повний'!I312 -> 6500 | I39: ='Прайс повний'!J312 -> 6500
A40: #VALUE! | C40: Cu | D40: ='Прайс повний'!E313 -> Комплект заземлення R9m-Cu | E40: 44090 | F40: Склад комплекту: стержень заземлення d14,2 мм обміднений-6 шт, наконечник-1 шт, муфта заземлення-6 шт, болт для забивання стержнів-1 шт, затискач прут d16/смуга/дріт d8-10 (нержавійка)-1 шт, стрічка гідроізоляційна-3м, токопровідна паста -1шт. | G40: компл. | H40: ='Прайс повний'!I313 -> 7650 | I40: ='Прайс повний'!J313 -> 7650
C41: Cu | D41: ='Прайс повний'!E314 -> Комплект заземлення R10,5m-Cu | E41: 44105 | F41: Склад комплекту: стержень заземлення d14,2 мм обміднений-7 шт, наконечник-1 шт, муфта заземлення-7 шт, болт для забивання стержнів-1 шт, затискач прут d16/смуга/дріт d8-10 (нержавійка)-1 шт, стрічка гідроізоляційна-3м, токопровідна паста -1шт. | G41: компл. | H41: ='Прайс повний'!I314 -> 8800 | I41: ='Прайс повний'!J314 -> 8800
...

Sheet Тримачі для Блискавкозахисту
D1: Блискавкозахист та заземлення | G1: =Заземлення!G1 -> Прайс-лист від 20.05.2026р.
D3: +38(067) 314 07 85, +38(097) 095 63 06 | G3: Введіть Вашу знижку %
A4: Вигляд | B4: Код | C4: Матеріал | D4: Назва | E4: Артикул | F4: Опис | G4: Од. вим. | H4: Ціна грн., з ПДВ | I4: Ціна грн., з ПДВ зі знижкою | J4: Введіть потрібну кількість
B5: 01/8 | C5: PL | D5: Тримач пластиковий сірий M8 | E5: 01 010 | F5: Поліамід, колір — сірий, висота монтажу 30 мм, внутрішня різьба М8 | G5: шт. | H5: ='Прайс повний'!I6 -> 17.7 | I5: ='Прайс повний'!J6 -> 17.7
B6: 01/6 | C6: PL G | D6: Тримач пластиковий сірий M6 | E6: 01 020 | F6: Поліамід, висота монтажу 30 мм, внутрішня різьба М6. Варіанти кольорів: сірий, червоний RAL 3011, коричневий RAL 8017, "під мідь", рудий RAL 8004. | G6: шт. | H6: ='Прайс повний'!I7 -> 17.7 | I6: ='Прайс повний'!J7 -> 17.7
C7: PL R | D7: Тримач пластиковий червоний M6 | E7: 01 030 | G7: шт. | H7: ='Прайс повний'!I8 -> 17.7 | I7: ='Прайс повний'!J8 -> 17.7
C8: PL B | D8: Тримач пластиковий коричневий M6 | E8: 01 040 | G8: шт. | H8: ='Прайс повний'!I9 -> 17.7 | I8: ='Прайс повний'!J9 -> 17.7
C9: PL Cu | D9: Тримач пластиковий колір мідь M6 | E9: 01 050 | G9: шт. | H9: ='Прайс повний'!I10 -> 17.7 | I9: ='Прайс повний'!J10 -> 17.7
C10: PL F | D10: ='Прайс повний'!E11 -> Тримач пластиковий рудий M6 | E10: ='Прайс повний'!A11 -> 01 060 | G10: шт. | H10: ='Прайс повний'!I11 -> 17.7 | I10: ='Прайс повний'!J11 -> 17.7
B11: 01/1 | C11: Ni | D11: Тримач дроту Niro | E11: 01 001 | F11: Нержаіюча сталь, висота монтажу 20мм, внутрішня різьба M6, висота тримача 40мм | G11: шт. | H11: ='Прайс повний'!I12 -> 36.76 | I11: ='Прайс повний'!J12 -> 36.76
B12: 01/8.2 | C12: PL ОС | D12: Тримач пластиковий з підставкою | E12: 01 070 | F12: Поліамід, колір — сірий, висота монтажу 30 мм, внутрішня різьба М8 | G12: шт. | H12: ='Прайс повний'!I13 -> 46.88 | I12: ='Прайс повний'!J13 -> 46.88
B13: 01/1.2 | C13: Ni OC | D13: Тримач дроту Niro з підставкою | E13: 01 080 | F13: Нержавіюча сталь, висота монтажу 40мм | G13: шт. | H13: ='Прайс повний'!I14 -> 63.15 | I13: ='Прайс повний'!J14 -> 63.15
B14: ='Прайс повний'!B15 -> 02/8.3 | C14: ='Прайс повний'!C15 -> OC | D14: ='Прайс повний'!E15 -> Тримач дроту металевий | E14: ='Прайс повний'!A15 -> 02 001 | F14: ='Прайс повний'!F15 -> Сталь, гальванічно оцинкована, товщина 2.5 мм | G14: ='Прайс повний'!G15 -> шт. | H14: ='Прайс повний'!I15 -> 59.44 | I14: ='Прайс повний'!J15 -> 59.44
B15: ='Прайс повний'!B16 -> 02/8.3 | C15: ='Прайс повний'!C16 -> Cu | D15: ='Прайс повний'!E16 -> Тримач дроту металевий (мідь) | E15: ='Прайс повний'!A16 -> 02 011 | F15: ='Прайс повний'!F16 -> Мідь, товщина 2,5мм | G15: ='Прайс повний'!G16 -> шт. | H15: ='Прайс повний'!I16 -> 218.59 | I15: ='Прайс повний'!J16 -> 218.59
B16: ='Прайс повний'!B17 -> 02/16.3 | C16: ='Прайс повний'!C17 -> OC | D16: ='Прайс повний'!E17 -> Тримач блискавкоприймача | E16: ='Прайс повний'!A17 -> 02 002 | F16: ='Прайс повний'!F17 -> Сталь, гальванічно оцинкована, товщина 2.5 мм | G16: ='Прайс повний'!G17 -> шт. | H16: ='Прайс повний'!I17 -> 63.24 | I16: ='Прайс повний'!J17 -> 63.24
B17: ='Прайс повний'!B18 -> 02/0.2 | C17: ='Прайс повний'!C18 -> OC | D17: ='Прайс повний'!E18 -> Тримач полоси металевий | E17: ='Прайс повний'!A18 -> 02 003 | F17: ='Прайс повний'!F18 -> Сталь, гальванічно оцинкована, товщина 2.5 мм | G17: ='Прайс повний'!G18 -> шт. | H17: ='Прайс повний'!I18 -> 45.98 | I17: ='Прайс повний'!J18 -> 45.98
B18: ='Прайс повний'!B19 -> 02/0.3 | C18: ='Прайс повний'!C19 -> Cu | D18: ='Прайс повний'!E19 -> Тримач полоси металевий (мідь) | E18: ='Прайс повний'!A19 -> 02 013 | F18: ='Прайс повний'!F19 -> Мідь, товщина 2,5мм | G18: ='Прайс повний'!G19 -> шт. | H18: ='Прайс повний'!I19 -> 205.99 | I18: ='Прайс повний'!J19 -> 205.99
B19: ='Прайс повний'!B20 -> 02/40.2 | C19: ='Прайс повний'!C20 -> OC | D19: ='Прайс повний'!E20 -> Тримач полоси 40мм металевий | E19: ='Прайс повний'!A20 -> 02 004 | F19: ='Прайс повний'!F20 -> Сталь, гальванічно оцинкована, товщина 2.5 мм | G19: ='Прайс повний'!G20 -> шт. | H19: ='Прайс повний'!I20 -> 53.17 | I19: ='Прайс повний'!J20 -> 53.17
B20: ='Прайс повний'!B21 -> 02/8.1 | C20: ='Прайс повний'!C21 -> OC | D20: ='Прайс повний'!E21 -> Скоба тримача дроту | E20: ='Прайс повний'!A21 -> 02 008 | F20: ='Прайс повний'!F21 -> Для кріплення дроту до стіни | G20: ='Прайс повний'!G21 -> шт. | H20: ='Прайс повний'!I21 -> 14.92 | I20: ='Прайс повний'!J21 -> 14.92
B21: ='Прайс повний'!B22 -> 02/16.1 | C21: ='Прайс повний'!C22 -> OC | D21: ='Прайс повний'!E22 -> Скоба тримача блискавкоприймача | E21: ='Прайс повний'!A22 -> 02 016 | F21: ='Прайс повний'!F22 -> Для кріплення блискавкоприймача до стіни | G21: ='Прайс повний'!G22 -> шт. | H21: ='Прайс повний'!I22 -> 15.64 | I21: ='Прайс повний'!J22 -> 15.64
B22: 03/8.3 ОС | C22: ОС | D22: Тримач дроту подовжений | E22: 03 001 | F22: Металевий тримач для дроту довжиною 100мм | G22: ='Прайс повний'!G25 -> шт. | H22: ='Прайс повний'!I23 -> 109.81 | I22: ='Прайс повний'!J23 -> 109.81
B23: 03/16.3 ОС | C23: ОС | D23: Тримач блискавкоприймача подовжений | E23: 03 002 | F23: Тримач для блискавкоприймача довжиною 100 мм | G23: ='Прайс повний'!G26 -> шт. | H23: ='Прайс повний'!I24 -> 113.05 | I23: ='Прайс повний'!J24 -> 113.05
B24: 07/OC | C24: OC | D24: Тримач універсальний | E24: 07 000 | F24: Сталь, гальванічно оцинкована, товщина 2 мм, висота монтажу - 100мм. | G24: шт. | H24: ='Прайс повний'!I25 -> 31.93 | I24: ='Прайс повний'!J25 -> 31.93
C25: OC 8017 | D25: Тримач універсальний коричневий | E25: 07 001 | F25: Сталь, гальванічно оцинкована, товщина 2 мм, висота монтажу - 100мм. Варіанти кольорів: коричневий RAL 8017, червоний RAL 3011, рудий RAL 8004. | G25: шт. | H25: ='Прайс повний'!I26 -> 43.3 | I25: ='Прайс повний'!J26 -> 43.3
C26: OC 3011 | D26: Тримач універсальний червоний | E26: 07 002 | G26: шт. | H26: ='Прайс повний'!I27 -> 43.3 | I26: ='Прайс повний'!J27 -> 43.3
C27: OC 8004 | D27: Тримач універсальний рудий | E27: 07 003 | G27: шт. | H27: ='Прайс повний'!I28 -> 43.3 | I27: ='Прайс повний'!J28 -> 43.3
B28: ='Прайс повний'!B29 -> 07 | C28: ='Прайс повний'!C29 -> CU | D28: ='Прайс повний'!E29 -> Тримач універсальний мідний | E28: ='Прайс повний'!A29 -> 07 100 | F28: Мідь, товщина 1,5 мм, висота монтажу - 100мм | G28: шт. | H28: ='Прайс повний'!I29 -> 199 | I28: ='Прайс повний'!J29 -> 199
B29: 07/S | C29: OC | D29: Тримач універсальний скручений | E29: 07 800 | F29: Сталь, гальванічно оцинкована, товщина 2 мм, з замком на два болти М6, висота монтажу - 100мм | G29: шт. | H29: ='Прайс повний'!I30 -> 45.3 | I29: ='Прайс повний'!J30 -> 45.3
C30: OC 8017 | D30: Тримач універсальний скручений коричневий | E30: 07 801 | F30: Сталь, гальванічно оцинкована, товщина 2 мм, з замком на два болти М6, висота монтажу - 100мм. Варіанти кольорів: коричневий RAL 8017, червоний RAL 3011, рудий RAL 8004. | G30: шт. | H30: ='Прайс повний'!I31 -> 55.72 | I30: ='Прайс повний'!J31 -> 55.72
C31: OC 3011 | D31: Тримач універсальний скручений червоний | E31: 07 802 | G31: шт. | H31: ='Прайс повний'!I32 -> 55.72 | I31: ='Прайс повний'!J32 -> 55.72
C32: OC 8004 | D32: Тримач універсальний скручений рудий | E32: 07 803 | G32: шт. | H32: ='Прайс повний'!I33 -> 55.72 | I32: ='Прайс повний'!J33 -> 55.72
B33: 01/8.3 | C33: ОС, PL | D33: Тримач дроту пластиковий подовжений | E33: 01 080 | F33: Пластиковий тримач для дроту 8-10мм, довжиною 100мм | G33: шт. | H33: ='Прайс повний'!I34 -> 77.89 | I33: ='Прайс повний'!J34 -> 77.89
B34: ='Прайс повний'!B35 -> 01/8/10 | C34: ='Прайс повний'!C35 -> OC, PL | D34: ='Прайс повний'!E35 -> Тримач дроту з дюбелем 100 | E34: ='Прайс повний'!A35 -> 01 100 | F34: Сталь, гальванічно оцинкована, довжина 100 мм, 140 мм, 200 мм, 250 мм, 300мм, з різьбою під дюбель. В комплекті дюбель 12х60 | G34: шт. | H34: ='Прайс повний'!I35 -> 32.12 | I34: ='Прайс повний'!J35 -> 32.12
B35: ='Прайс повний'!B36 -> 01/8/14 | C35: ='Прайс повний'!C36 -> OC, PL | D35: ='Прайс повний'!E36 -> Тримач дроту з дюбелем 140 | E35: ='Прайс повний'!A36 -> 01 140 | G35: шт. | H35: ='Прайс повний'!I36 -> 35.45 | I35: ='Прайс повний'!J36 -> 35.45
B36: ='Прайс повний'!B37 -> 01/8/20 | C36: ='Прайс повний'!C37 -> OC, PL | D36: ='Прайс повний'!E37 -> Тримач дроту з дюбелем 200 | E36: ='Прайс повний'!A37 -> 01 200 | G36: шт. | H36: ='Прайс повний'!I37 -> 43.16 | I36: ='Прайс повний'!J37 -> 43.16
B37: ='Прайс повний'!B38 -> 01/8/25 | C37: ='Прайс повний'!C38 -> OC, PL | D37: ='Прайс повний'!E38 -> Тримач дроту з дюбелем 250 | E37: ='Прайс повний'!A38 -> 01 250 | G37: шт. | H37: ='Прайс повний'!I38 -> 49.63 | I37: ='Прайс повний'!J38 -> 49.63
B38: ='Прайс повний'!B39 -> 01/8/30 | C38: ='Прайс повний'!C39 -> OC, PL | D38: ='Прайс повний'!E39 -> Тримач дроту з дюбелем 300 | E38: ='Прайс повний'!A39 -> 01 300 | G38: шт. | H38: ='Прайс повний'!I39 -> 57.07 | I38: ='Прайс повний'!J39 -> 57.07
B39: ='Прайс повний'!B40 -> 02/8/10 | C39: ='Прайс повний'!C40 -> OC | D39: ='Прайс повний'!E40 -> Тримач дроту металевий з дюбелем 100 | E39: ='Прайс повний'!A40 -> 02 101 | F39: Сталь, гальванічно оцинкована, довжина 100 мм, 140 мм, 200 мм, 250мм, 300мм, з різьбою під дюбель. В комплекті дюбель 12х60 | G39: шт. | H39: ='Прайс повний'!I40 -> 66.33 | I39: ='Прайс повний'!J40 -> 66.33
B40: ='Прайс повний'!B41 -> 02/8/14 | C40: ='Прайс повний'!C41 -> ОС | D40: ='Прайс повний'!E41 -> Тримач дроту металевий з дюбелем 140 | E40: ='Прайс повний'!A41 -> 02 141 | G40: шт. | H40: ='Прайс повний'!I41 -> 74.14 | I40: ='Прайс повний'!J41 -> 74.14
B41: ='Прайс повний'!B42 -> 02/8/20 | C41: ='Прайс повний'!C42 -> ОС | D41: ='Прайс повний'!E42 -> Тримач дроту металевий з дюбелем 200 | E41: ='Прайс повний'!A42 -> 02 201 | G41: шт. | H41: ='Прайс повний'!I42 -> 79.59 | I41: ='Прайс повний'!J42 -> 79.59
...

Sheet Затискачі для Блискавкозахисту
D1: Блискавкозахист та заземлення | G1: =Заземлення!G1 -> Прайс-лист від 20.05.2026р.
D3: +38(067) 314 07 85, +38(097) 095 63 06 | G3: Введіть Вашу знижку %
A4: Вигляд | B4: Код | C4: Матеріал | D4: Назва | E4: Артикул | F4: Опис | G4: Од. вим. | H4: Ціна грн., з ПДВ | I4: Ціна грн., з ПДВ зі знижкою | J4: Введіть потрібну кількість
A5: ЗАТИСКАЧІ ТА З`ЄДНУВАЧІ
B6: 30/8 | C6: OC | D6: ='Прайс повний'!E118 -> Затискач круглого провідника універсальний | E6: 30010 | F6: ='Прайс повний'!F118 -> Сталь 2 мм, гальванічно оцинкована, болт М8 | G6: шт. | H6: ='Прайс повний'!I118 -> 40.42 | I6: ='Прайс повний'!J118 -> 40.42
C7: Cu | D7: ='Прайс повний'!E119 -> Затискач круглого провідника універсальний | E7: ='Прайс повний'!A119 -> 30 020 | F7: ='Прайс повний'!F119 -> Мідь 2 мм, з болтом М8, гайкою, шайбою з нержавіючої сталі | G7: шт. | H7: ='Прайс повний'!I119 -> 241 | I7: ='Прайс повний'!J119 -> 241
C8: Ni | D8: ='Прайс повний'!E120 -> Затискач круглого провідника універсальний | E8: 30030 | F8: ='Прайс повний'!F120 -> Нержавіюча сталь 2 мм, болт М8 | G8: шт. | H8: ='Прайс повний'!I120 -> 73.77 | I8: ='Прайс повний'!J120 -> 73.77
B9: 30/10 | C9: OC | D9: ='Прайс повний'!E121 -> Затискач круглого провідника універсальний | E9: 30110 | F9: ='Прайс повний'!F121 -> Сталь 2,5 мм, гальванічно оцинкована, болт М10 | G9: шт. | H9: ='Прайс повний'!I121 -> 53.48 | I9: ='Прайс повний'!J121 -> 53.48
B10: 30/10 | C10: OCH | D10: ='Прайс повний'!E122 -> Затискач круглого провідника універсальний | E10: 30120 | F10: ='Прайс повний'!F122 -> Сталь 2,5 мм, гарячооцинкована, болт М10 | G10: шт. | H10: ='Прайс повний'!I122 -> 67.03 | I10: ='Прайс повний'!J122 -> 67.03
B11: 30/8/1 | C11: ОС | D11: ='Прайс повний'!E123 -> Клема з'єднувальна | E11: 30011 | F11: ='Прайс повний'!F123 -> Сталь 2 мм, гальванічно оцинкована, болт М8 | G11: шт. | H11: ='Прайс повний'!I123 -> 27.03 | I11: ='Прайс повний'!J123 -> 27.03
B12: 30/8/1 | C12: Ni | D12: ='Прайс повний'!E124 -> Клема з'єднувальна | E12: 30031 | F12: ='Прайс повний'!F124 -> Нержавіюча сталь 2 мм, болт М8 | G12: шт. | H12: ='Прайс повний'!I124 -> 52.92 | I12: ='Прайс повний'!J124 -> 52.92
B13: 30/10/1 | C13: ОСН | D13: ='Прайс повний'!E125 -> Клема з'єднувальна | E13: 30121 | F13: ='Прайс повний'!F125 -> Сталь 2,5 мм, гарячооцинкована, болт М10 | G13: шт. | H13: ='Прайс повний'!I125 -> 38.81 | I13: ='Прайс повний'!J125 -> 38.81
B14: 31/6 | C14: ОСН | D14: ='Прайс повний'!E126 -> Затискач круглого провідника поздовжній | E14: 31000 | F14: ='Прайс повний'!F126 -> Затискач гарячеоцинкований, 4 болти М6 | G14: шт. | H14: ='Прайс повний'!I126 -> 108.95 | I14: ='Прайс повний'!J126 -> 108.95
B15: ='Прайс повний'!B127 -> ПА 1-1 | C15: ='Прайс повний'!C127 -> AL | D15: ='Прайс повний'!E127 -> Затискач плашковий ПА-1-1 | E15: ='Прайс повний'!D127 -> ПА 1-1 AL | F15: ='Прайс повний'!F451 -> Призначені для з'єднання алюмінієвих і сталеалюмінієвих дротів. Діаметр провідника від 5,1мм до 9,6мм | G15: шт. | H15: ='Прайс повний'!I451 -> 30.42 | I15: ='Прайс повний'!J451 -> 30.42
B16: ='Прайс повний'!B128 -> 04/8.2 | C16: ='Прайс повний'!C128 -> OC | D16: ='Прайс повний'!E128 -> Затискач смуга/дріт d8-10 | E16: 80001 | F16: Затискач з однієї пластини з вигином під 8-10 мм та однієї плоскої, на чотири болти М8. Товщина металу: - гальв. оцинк. - 2 мм - гаряча оцинк. - 3 мм - нерж. - 1,5 мм - мідь - 2 мм | G16: ='Прайс повний'!G128 -> шт. | H16: ='Прайс повний'!I128 -> 90.37 | I16: ='Прайс повний'!J128 -> 90.37
C17: ='Прайс повний'!C129 -> OCH | D17: ='Прайс повний'!E129 -> Затискач смуга/дріт d8-10 (гар.оцинк.) | E17: 80002 | G17: ='Прайс повний'!G129 -> шт. | H17: ='Прайс повний'!I129 -> 110.11 | I17: ='Прайс повний'!J129 -> 110.11
C18: ='Прайс повний'!C130 -> Ni | D18: ='Прайс повний'!E130 -> Затискач смуга/дріт d8-10 (нержавійка) | E18: 80003 | G18: ='Прайс повний'!G130 -> шт. | H18: ='Прайс повний'!I130 -> 113.04 | I18: ='Прайс повний'!J130 -> 113.04
C19: ='Прайс повний'!C131 -> Cu | D19: ='Прайс повний'!E131 -> Затискач смуга/дріт d8-10 (мідь) | E19: 90090 | G19: ='Прайс повний'!G131 -> шт. | H19: ='Прайс повний'!I131 -> 444.44 | I19: ='Прайс повний'!J131 -> 444.44
B20: ='Прайс повний'!B136 -> 04/8.3 | C20: ='Прайс повний'!C132 -> OC | D20: ='Прайс повний'!E132 -> Затискач смуга/дріт d8-10 | E20: 80010 | F20: Затискач з однієї пластини з вигином під 8-10 мм та двох плоских, на чотири болти М8. Товщина металу: - гальв. оцинк. - 2 мм - гаряча оцинк. - 3 мм - нерж. - 1,5 мм - мідь - 2 мм | G20: ='Прайс повний'!G132 -> шт. | H20: ='Прайс повний'!I132 -> 92.97 | I20: ='Прайс повний'!J132 -> 92.97
C21: ='Прайс повний'!C133 -> ОСН | D21: ='Прайс повний'!E133 -> Затискач смуга/дріт d8-10 (гар.оцинк.) | E21: 80030 | G21: ='Прайс повний'!G133 -> шт. | H21: ='Прайс повний'!I133 -> 132.64 | I21: ='Прайс повний'!J133 -> 132.64
C22: ='Прайс повний'!C134 -> Ni | D22: ='Прайс повний'!E134 -> Затискач смуга/дріт d8-10 (нержавійка) | E22: 80085 | G22: ='Прайс повний'!G134 -> шт. | H22: ='Прайс повний'!I134 -> 136.34 | I22: ='Прайс повний'!J134 -> 136.34
C23: ='Прайс повний'!C135 -> Cu | D23: ='Прайс повний'!E135 -> Затискач смуга/дріт d8-10 (мідь) | E23: 90091 | G23: ='Прайс повний'!G135 -> шт. | H23: ='Прайс повний'!I135 -> 564.56 | I23: ='Прайс повний'!J135 -> 564.56
C24: Cu/Ni/OC | D24: ='Прайс повний'!E136 -> Затискач смуга/дріт d8-10 (мідь/нерж./ст.оцинк.) | E24: 90095 | F24: ='Прайс повний'!F136 -> Затискач з однієї мідної пластини з вигином під 8-10 мм, та двох плоских - нержавіючої та гальв.оцинкованої, товщиною 2мм, на чотири болти М8 | G24: шт. | H24: ='Прайс повний'!I136 -> 287 | I24: ='Прайс повний'!J136 -> 287
B25: ='Прайс повний'!B137 -> 04/88.2 | C25: ='Прайс повний'!C137 -> ОС | D25: ='Прайс повний'!E137 -> Затискач дріт d8-10/дріт d8-10 | E25: 80015 | F25: Затискач з двох пластин з вигинами під 8 мм, на чотири болти М8. Товщина металу: - гальв. оцинк. - 2 мм - гаряча оцинк. - 3 мм - нерж. - 1,5 мм - мідь - 2 мм | G25: шт. | H25: ='Прайс повний'!I137 -> 93.58 | I25: ='Прайс повний'!J137 -> 93.58
C26: ='Прайс повний'!C138 -> ОСН | D26: ='Прайс повний'!E138 -> Затискач дріт d8-10/дріт d8-10 (гар.оцинк.) | E26: 80035 | G26: шт. | H26: ='Прайс повний'!I138 -> 115.13 | I26: ='Прайс повний'!J138 -> 115.13
C27: ='Прайс повний'!C139 -> Ni | D27: ='Прайс повний'!E139 -> Затискач дріт d8-10/дріт d8-10 (нержавійка) | E27: 80033 | G27: шт. | H27: ='Прайс повний'!I139 -> 116.91 | I27: ='Прайс повний'!J139 -> 116.91
C28: ='Прайс повний'!C140 -> Cu | D28: ='Прайс повний'!E140 -> Затискач дріт d8-10/дріт d8-10 (мідь) | E28: 90092 | G28: шт. | H28: ='Прайс повний'!I140 -> 459.72 | I28: ='Прайс повний'!J140 -> 459.72
B29: ='Прайс повний'!#REF! -> #REF! | C29: ='Прайс повний'!#REF! -> #REF! | D29: ='Прайс повний'!E141 -> Затискач прут d16/дріт d8-10 | E29: ='Прайс повний'!A141 -> 80 025 | F29: Затискач на три пластини: дві з вигинами під 8-10 мм та однієї плоскої, на чотири болти М8. Товщина металу: - гальв. оцинк. - 2 мм - гаряча оцинк. - 3 мм - нерж. - 1,5 мм | G29: шт. | H29: ='Прайс повний'!#REF! -> #REF! | I29: ='Прайс повний'!#REF! -> #REF!
C30: ='Прайс повний'!#REF! -> #REF! | D30: ='Прайс повний'!E142 -> Затискач прут d16/дріт d8-10 (гар.оцинк.) | E30: ='Прайс повний'!A142 -> 80 045 | G30: шт. | H30: ='Прайс повний'!#REF! -> #REF! | I30: ='Прайс повний'!#REF! -> #REF!
C31: ='Прайс повний'!#REF! -> #REF! | D31: ='Прайс повний'!E143 -> Затискач прут d16/дріт d8-10 (нержавійка) | E31: ='Прайс повний'!A143 -> 80 093 | G31: шт. | H31: ='Прайс повний'!#REF! -> #REF! | I31: ='Прайс повний'!#REF! -> #REF!
B32: ='Прайс повний'!B141 -> 04/168.2 | C32: ='Прайс повний'!C141 -> ОС | D32: ='Прайс повний'!E141 -> Затискач прут d16/дріт d8-10 | E32: 80025 | F32: Затискач з однієї пластини з вигином під 16 мм та однієї під 8 мм, на чотири болти М8. Товщина металу: - гальв. оцинк. - 2 мм - гаряча оцинк. - 3 мм - нерж. - 1,5 мм | G32: шт. | H32: ='Прайс повний'!I141 -> 90.88 | I32: ='Прайс повний'!J141 -> 90.88
C33: ='Прайс повний'!C142 -> ОСН | D33: ='Прайс повний'!E142 -> Затискач прут d16/дріт d8-10 (гар.оцинк.) | E33: 80045 | G33: шт. | H33: ='Прайс повний'!I142 -> 119.74 | I33: ='Прайс повний'!J142 -> 119.74
C34: ='Прайс повний'!C143 -> Ni | D34: ='Прайс повний'!E143 -> Затискач прут d16/дріт d8-10 (нержавійка) | E34: 80093 | G34: шт. | H34: ='Прайс повний'!I143 -> 127.33 | I34: ='Прайс повний'!J143 -> 127.33
B35: ='Прайс повний'!B364 -> 04/168.3 | C35: ='Прайс повний'!C364 -> ОС | D35: ='Прайс повний'!E144 -> Затискач прут d16/дріт d8-10 | E35: 80020 | F35: Затискач з однієї пластини з вигином під 16 мм, однієї під 8 мм та однієї плоскої, на чотири болти М8. Товщина металу: - гальв. оцинк. - 2 мм - гаряча оцинк. - 3 мм - нерж. - 1,5 мм | G35: шт. | H35: ='Прайс повний'!I364 -> 104.38 | I35: ='Прайс повний'!J364 -> 104.38
C36: ='Прайс повний'!C365 -> ОСH | D36: ='Прайс повний'!E145 -> Затискач прут d16/смуга/дріт d8-10 (гар.оцинк.) | E36: 80040 | G36: шт. | H36: ='Прайс повний'!I365 -> 135.26 | I36: ='Прайс повний'!J365 -> 135.26
C37: ='Прайс повний'!C366 -> Ni | D37: ='Прайс повний'!E146 -> Затискач прут d16/смуга/дріт d8-10 (нержавійка) | E37: 80084 | G37: шт. | H37: ='Прайс повний'!I366 -> 166.19 | I37: ='Прайс повний'!J366 -> 166.19
B38: ='Прайс повний'!B147 -> 44/8.2 | C38: ='Прайс повний'!C147 -> OC | D38: ='Прайс повний'!E147 -> Затискач смуга 40/дріт d8-10 | E38: 80007 | F38: Затискач з однієї пластини з вигином під 8-10мм та однієї плоскої, на чотири болти М8. Товщина металу: - гальв. оцинк. - 2мм - гаряча оцинк. - 3мм | G38: ='Прайс повний'!G147 -> шт. | H38: ='Прайс повний'!I147 -> 100.41 | I38: ='Прайс повний'!J147 -> 100.41
C39: ='Прайс повний'!C148 -> OCH | D39: ='Прайс повний'!E148 -> Затискач смуга 40/дріт d8-10 (гар.оцинк.) | E39: 80006 | G39: ='Прайс повний'!G148 -> шт. | H39: ='Прайс повний'!I148 -> 135 | I39: ='Прайс повний'!J148 -> 135
B40: ='Прайс повний'!B149 -> 44/8.3 | C40: ='Прайс повний'!C149 -> OC | D40: ='Прайс повний'!E149 -> Затискач смуга 40/дріт d8-10 | E40: 90096 | F40: Затискач з однієї пластини з вигином під 8-10мм та двох плоских, на чотири болти М8. Товщина металу: - гальв. оцинк. - 2мм - гаряча оцинк. - 3мм | G40: шт. | H40: ='Прайс повний'!I149 -> 134 | I40: ='Прайс повний'!J149 -> 134
C41: ='Прайс повний'!C150 -> OCH | D41: ='Прайс повний'!E150 -> Затискач смуга 40/дріт d8-10 (гар.оцинк.) | E41: 90097 | G41: шт. | H41: ='Прайс повний'!I150 -> 169.2 | I41: ='Прайс повний'!J150 -> 169.2
...

Sheet Блискавкоприймачі
D1: Блискавкозахист та заземлення | G1: =Заземлення!G1 -> Прайс-лист від 20.05.2026р.
D3: +38(067) 314 07 85, +38(097) 095 63 06 | G3: Введіть Вашу знижку %
A4: Вигляд | B4: Код | C4: Матеріал | D4: Назва | E4: Артикул | F4: Опис | G4: Од. вим. | H4: Ціна грн., з ПДВ | I4: Ціна грн., з ПДВ зі знижкою | J4: Введіть потрібну кількість
E5: БЛИСКАВКОПРИЙМАЧІ
B6: ='Прайс повний'!B164 -> 53/16/15 | C6: AL | D6: ='Прайс повний'!E164 -> Блискавкоприймач алюмінієвий різьбовий ALR-1500 | E6: ='Прайс повний'!A164 -> 53 015 | F6: Алюмінієва щогла, що складається з прута d16 мм та прута d10 мм | G6: шт. | H6: ='Прайс повний'!I164 -> 586.82 | I6: ='Прайс повний'!J164 -> 586.82
B7: ='Прайс повний'!B165 -> 53/16/20 | C7: AL | D7: ='Прайс повний'!E165 -> Блискавкоприймач алюмінієвий різьбовий ALR-2000 | E7: ='Прайс повний'!A165 -> 53 020 | G7: шт. | H7: ='Прайс повний'!I165 -> 743.83 | I7: ='Прайс повний'!J165 -> 743.83
B8: ='Прайс повний'!B166 -> 53/16/25 | C8: AL | D8: ='Прайс повний'!E166 -> Блискавкоприймач алюмінієвий різьбовий ALR-2500 | E8: ='Прайс повний'!A166 -> 53 025 | G8: шт. | H8: ='Прайс повний'!I166 -> 969.32 | I8: ='Прайс повний'!J166 -> 969.32
B9: ='Прайс повний'!B167 -> 53/16/30 | C9: AL | D9: ='Прайс повний'!E167 -> Блискавкоприймач алюмінієвий різьбовий ALR-3000 | E9: ='Прайс повний'!A167 -> 53 030 | G9: шт. | H9: ='Прайс повний'!I167 -> 1164.45 | I9: ='Прайс повний'!J167 -> 1164.45
B10: ='Прайс повний'!B168 -> 53/16/35 | C10: AL | D10: ='Прайс повний'!E168 -> Блискавкоприймач алюмінієвий різьбовий ALR-3500 | E10: ='Прайс повний'!A168 -> 53 035 | G10: шт. | H10: ='Прайс повний'!I168 -> 1405.32 | I10: ='Прайс повний'!J168 -> 1405.32
B11: ='Прайс повний'!B169 -> 53/16/40 | C11: AL | D11: ='Прайс повний'!E169 -> Блискавкоприймач алюмінієвий різьбовий ALR-4000 | E11: ='Прайс повний'!A169 -> 53 040 | G11: шт. | H11: ='Прайс повний'!I169 -> 1593.67 | I11: ='Прайс повний'!J169 -> 1593.67
B12: 53/12/15 | C12: Cu | D12: Блискавкоприймач мідний різьбовий CUR-1500 | E12: 53115 | F12: Мідна щогла, що складається з прута d12 мм та прута d8 мм | G12: шт. | H12: ='Прайс повний'!I170 -> 1893.74 | I12: ='Прайс повний'!J170 -> 1893.74
B13: 53/12/20 | C13: Cu | D13: Блискавкоприймач мідний різьбовий CUR-2000 | E13: 53120 | G13: шт. | H13: ='Прайс повний'!I171 -> 2546.1 | I13: ='Прайс повний'!J171 -> 2546.1
B14: 53/12/25 | C14: Cu | D14: Блискавкоприймач мідний різьбовий CUR-2500 | E14: 53125 | G14: шт. | H14: ='Прайс повний'!I172 -> 3511.4 | I14: ='Прайс повний'!J172 -> 3511.4
B15: ='Прайс повний'!B173 -> 55/16/14 | D15: ='Прайс повний'!E173 -> Тримач для блискавкоприймача 140 | E15: ='Прайс повний'!A173 -> 55 014 | F15: Двогвинт довжиною 140 мм з дюбелем та хомутом | G15: шт. | H15: ='Прайс повний'!I173 -> 21.05 | I15: ='Прайс повний'!J173 -> 21.05
B16: ='Прайс повний'!B174 -> 55/16/20 | D16: ='Прайс повний'!E174 -> Тримач для блискавкоприймача 200 | E16: ='Прайс повний'!A174 -> 55 020 | F16: Двогвинт довжиною 200 мм з дюбелем та хомутом | G16: шт. | H16: ='Прайс повний'!I174 -> 22.37 | I16: ='Прайс повний'!J174 -> 22.37
B17: ='Прайс повний'!B175 -> M15/1 | C17: OC-Ni | D17: ='Прайс повний'!E175 -> Тримач щогли L250 | E17: ='Прайс повний'!A175 -> 415013 | F17: Для кріплення блискавкоприймачів D16 мм. Відстань від стіни 250мм. | G17: шт. | H17: ='Прайс повний'!I175 -> 449.82 | I17: ='Прайс повний'!J175 -> 449.82
B18: 50/10/101 | C18: AL, OC | D18: Коньковий блискавкоприймач 1м одинарний (півкруглий) | E18: 50101 | F18: Алюмінієва щогла d10 мм для кріплення на півкруглому коньку даху. З'єднувач з дротом в комплекті. | G18: шт. | H18: ='Прайс повний'!I176 -> 607.39 | I18: ='Прайс повний'!J176 -> 607.39
B19: 50/10/105 | C19: AL, OC | D19: Коньковий блискавкоприймач 1,5м одинарний (півкруглий) | E19: 50 105 | G19: шт. | H19: ='Прайс повний'!I177 -> 627.3 | I19: ='Прайс повний'!J177 -> 627.3
B20: ='Прайс повний'!B178 -> 50/10/201 | C20: ='Прайс повний'!C178 -> AL, OC | D20: ='Прайс повний'!E178 -> Коньковий блискавкоприймач 1м одинарний (кутовий) | E20: ='Прайс повний'!A178 -> 50 201 | F20: Алюмінієва щогла d10 мм для кріплення на кутовому коньку даху. З'єднувач з дротом в комплекті. | G20: шт. | H20: ='Прайс повний'!I178 -> 540.48 | I20: ='Прайс повний'!J178 -> 540.48
B21: 50/10/205 | C21: AL, OC | D21: Коньковий блискавкоприймач 1,5м одинарний (кутовий) | E21: 50 205 | G21: шт. | H21: ='Прайс повний'!I179 -> 569.56 | I21: ='Прайс повний'!J179 -> 569.56
B22: 50/10/401 | C22: AL, OCH | D22: Коньковий блискавкоприймач 1м одинарний (профільний) | E22: 50 401 | F22: Алюмінієва щогла d10мм для кріплення на профільному коньку даху, затискач входить в комплект | G22: шт. | H22: ='Прайс повний'!I180 -> 603.32 | I22: ='Прайс повний'!J180 -> 603.32
B23: 50/10/405 | C23: AL, OCH | D23: Коньковий блискавкоприймач 1,5м одинарний (профільний) | E23: 50 405 | G23: шт. | H23: ='Прайс повний'!I181 -> 647.87 | I23: ='Прайс повний'!J181 -> 647.87
B24: 50/10/301 | C24: AL, OC | D24: Блискавкоприймач з основою 1м | E24: 50 301 | F24: Алюмінієвий блискавкоприймач d10 з основою | G24: шт. | H24: ='Прайс повний'!I182 -> 633.45 | I24: ='Прайс повний'!J182 -> 633.45
B25: 50/10/305 | C25: AL, OC | D25: Блискавкоприймач з основою 1.5м | E25: 50 305 | G25: шт. | H25: ='Прайс повний'!I183 -> 654.21 | I25: ='Прайс повний'!J183 -> 654.21
B26: 50/10/110 | C26: AL, OC | D26: Коньковий блискавкоприймач 1м (півкруглий) | E26: 50 110 | F26: Алюмінієва щогла d10 мм для кріплення на півкруглому коньку даху. З'єднувач з дротом в комплекті. | G26: шт. | H26: ='Прайс повний'!I184 -> 797 | I26: ='Прайс повний'!J184 -> 797
B27: 50/10/115 | C27: AL, OC | D27: Коньковий блискавкоприймач 1,5м (півкруглий) | E27: 50 115 | G27: шт. | H27: ='Прайс повний'!I185 -> 978.72 | I27: ='Прайс повний'!J185 -> 978.72
B28: 50/10/120 | C28: AL, OC | D28: Коньковий блискавкоприймач 2м (півкруглий) | E28: 50 120 | G28: шт. | H28: ='Прайс повний'!I186 -> 1061.79 | I28: ='Прайс повний'!J186 -> 1061.79
B29: 50/10/210 | C29: AL, OC | D29: Коньковий блискавкоприймач 1м (кутовий) | E29: 50 210 | F29: Алюмінієва щогла d10 мм для кріплення на кутовому коньку даху. З'єднувач з дротом в комплекті. | G29: шт. | H29: ='Прайс повний'!I187 -> 695.7 | I29: ='Прайс повний'!J187 -> 695.7
B30: 50/10/215 | C30: AL, OC | D30: Коньковий блискавкоприймач 1,5м (кутовий) | E30: 50 215 | G30: шт. | H30: ='Прайс повний'!I188 -> 845.94 | I30: ='Прайс повний'!J188 -> 845.94
B31: 50/10/220 | C31: AL, OC | D31: Коньковий блискавкоприймач 2м (кутовий) | E31: 50 220 | G31: шт. | H31: ='Прайс повний'!I189 -> 899.11 | I31: ='Прайс повний'!J189 -> 899.11
B32: 50/16/300 | C32: АL, OC | D32: Коньковий блискавкоприймач 3м | E32: 50 300 | F32: Алюмінієва щогла d16мм 3м з усиленим кріпленням для коньку даху | G32: шт. | H32: ='Прайс повний'!I190 -> 1518.54 | I32: ='Прайс повний'!J190 -> 1518.54
B33: 50/10/410 | C33: АL, OCН | D33: Коньковий блискавкоприймач 1м (профільний) | E33: 50 410 | F33: Алюмінієва щогла d10 мм для кріплення на профільному коньку даху, затискач входить в комплект | G33: шт. | H33: ='Прайс повний'!I191 -> 797 | I33: ='Прайс повний'!J191 -> 797
B34: 50/10/415 | C34: АL, OCН | D34: Коньковий блискавкоприймач 1,5м (профільний) | E34: 50 415 | G34: шт. | H34: ='Прайс повний'!I192 -> 970.95 | I34: ='Прайс повний'!J192 -> 970.95
B35: 50/10/420 | C35: АL, OCН | D35: Коньковий блискавкоприймач 2м (профільний) | E35: 50 420 | G35: шт. | H35: ='Прайс повний'!I193 -> 1054 | I35: ='Прайс повний'!J193 -> 1054
B36: 50/16/300 | C36: ='Прайс повний'!C194 -> АL, OC | D36: ='Прайс повний'!E194 -> Коньковий блискавкоприймач 3м (профільний) | E36: 50 300 | F36: ='Прайс повний'!F194 -> Алюмінієва щогла d16мм 3м з усиленим кріпленням для коньку даху | G36: шт. | H36: ='Прайс повний'!I194 -> 1722.03 | I36: ='Прайс повний'!J194 -> 1722.03
B37: 51/16/15 | C37: AL | D37: Блискавкоприймач алюмінієвий з бетонною основою 1,5м | E37: 51 015 | F37: Алюмінієва щогла товщиною 16 мм з бетонною основою | G37: шт. | H37: ='Прайс повний'!I195 -> 1552.61 | I37: ='Прайс повний'!J195 -> 1552.61
B38: 51/16/20 | C38: AL | D38: Блискавкоприймач алюмінієвий з бетонною основою 2м | E38: 51 020 | G38: шт. | H38: ='Прайс повний'!I196 -> 1648.7 | I38: ='Прайс повний'!J196 -> 1648.7
B39: 51/16/30 | C39: AL | D39: Блискавкоприймач алюмінієвий з бетонною основою 3м | E39: 51 030 | G39: шт. | H39: ='Прайс повний'!I197 -> 2056.84 | I39: ='Прайс повний'!J197 -> 2056.84
B40: 51/16/40 | C40: AL | D40: Блискавкоприймач алюмінієвий з бетонною основою 4м | E40: 51 040 | G40: шт. | H40: ='Прайс повний'!I198 -> 3476.86 | I40: ='Прайс повний'!J198 -> 3476.86
B41: ='Прайс повний'!B199 -> 55/30 | C41: ='Прайс повний'!C199 -> OCH | D41: ='Прайс повний'!E199 -> Тримач щогли блискавкоприймача 32мм | E41: ='Прайс повний'!A199 -> 55 001 | F41: ='Прайс повний'!F199 -> Тримач щогли діаметром до 32 мм, товщина основи - 5 мм. 6 болтів для фіксації щогли. Сталь, гарачооцинкована | G41: шт. | H41: ='Прайс повний'!I199 -> 1210.08 | I41: ='Прайс повний'!J199 -> 1210.08
...

Sheet Активний Блискавкозахист
A1: #VALUE! | B1: #VALUE! | D1: Блискавкозахист та заземлення | G1: =Заземлення!G1 -> Прайс-лист від 20.05.2026р.
D3: +38(067) 314 07 85, +38(097) 095 63 06 | G3: Введіть Вашу знижку %
A4: Вигляд | B4: Код | C4: Матеріал | D4: Назва | E4: Артикул | F4: Опис | G4: Од. вим. | H4: Ціна грн., з ПДВ | I4: Ціна грн., з ПДВ зі знижкою | J4: Введіть потрібну кількість
A5: АКТИВНІ БЛИСКАВКОПРИЙМАЧІ
B6: ='Прайс повний'!B263 -> А-25 | C6: ='Прайс повний'!C263 -> Ni | D6: ='Прайс повний'!E263 -> Gromostar 25 | E6: ='Прайс повний'!A263 -> 59 200 | F6: ='Прайс повний'!F263 -> Активний блискавко приймач Gromostar 25, Польща | G6: ='Прайс повний'!G263 -> шт. | H6: ='Прайс повний'!I263 -> 47190 | I6: ='Прайс повний'!J263 -> 47190 | K6: Ціна залежить від курсу НБУ. Ціну уточнюйте в день замовлення
B7: ='Прайс повний'!B264 -> А-35 | C7: ='Прайс повний'!C264 -> Ni | D7: ='Прайс повний'!E264 -> Gromostar 35 | E7: ='Прайс повний'!A264 -> 59 201 | F7: ='Прайс повний'!F264 -> Активний блискавко приймач Gromostar 35, Польща | G7: ='Прайс повний'!G264 -> шт. | H7: ='Прайс повний'!I264 -> 51090 | I7: ='Прайс повний'!J264 -> 51090
B8: ='Прайс повний'!B265 -> А-45 | C8: ='Прайс повний'!C265 -> Ni | D8: ='Прайс повний'!E265 -> Gromostar 45 | E8: ='Прайс повний'!A265 -> 59 202 | F8: ='Прайс повний'!F265 -> Активний блискавко приймач Gromostar 45, Польща | G8: ='Прайс повний'!G265 -> шт. | H8: ='Прайс повний'!I265 -> 58370 | I8: ='Прайс повний'!J265 -> 58370
B9: ='Прайс повний'!B266 -> А-60 | C9: ='Прайс повний'!C266 -> Ni | D9: ='Прайс повний'!E266 -> Gromostar 60 | E9: ='Прайс повний'!A266 -> 59 203 | F9: ='Прайс повний'!F266 -> Активний блискавко приймач Gromostar 60, Польща | G9: ='Прайс повний'!G266 -> шт. | H9: ='Прайс повний'!I266 -> 60580 | I9: ='Прайс повний'!J266 -> 60580
B10: ='Прайс повний'!B267 -> ALR 02 | C10: ='Прайс повний'!C267 -> Ni | D10: ='Прайс повний'!E267 -> KALRE ESE ALR 02 | F10: ='Прайс повний'!F267 -> Активний блискавко приймач KALRE ESE ALR 02, Туреччина, часове випередження 30ms. | G10: ='Прайс повний'!G267 -> шт. | H10: ='Прайс повний'!I267 -> 22085.11 | I10: ='Прайс повний'!J267 -> 22085.11
B11: ='Прайс повний'!B268 -> ALR 04 | C11: ='Прайс повний'!C268 -> Ni | D11: ='Прайс повний'!E268 -> KALRE ESE ALR 04 | F11: ='Прайс повний'!F268 -> Активний блискавко приймач KALRE ESE ALR 02, Туреччина, часове випередження 45ms. | G11: ='Прайс повний'!G268 -> шт. | H11: ='Прайс повний'!I268 -> 24056.99 | I11: ='Прайс повний'!J268 -> 24056.99
B12: ='Прайс повний'!B269 -> ALR 06 | C12: ='Прайс повний'!C269 -> Ni | D12: ='Прайс повний'!E269 -> KALRE ESE ALR 06 | F12: ='Прайс повний'!F269 -> Активний блискавко приймач KALRE ESE ALR 02, Туреччина, часове випередження 60ms. | G12: ='Прайс повний'!G269 -> шт. | H12: ='Прайс повний'!I269 -> 26423.26 | I12: ='Прайс повний'!J269 -> 26423.26
B13: ='Прайс повний'!B270 -> LAPCX 040 | C13: ='Прайс повний'!C270 -> Ni | D13: ='Прайс повний'!E270 -> Liva Grup LAP-CX040 TYPE ( 22µs) | F13: ='Прайс повний'!F270 -> LAPCX 040 TYPE , 1 рівень-40м, 2й рівень-46м, 3й рівень-54м, 4й рівень-62м. Туреччина | G13: ='Прайс повний'!G270 -> шт. | H13: ='Прайс повний'!I270 -> 22742.72 | I13: ='Прайс повний'!J270 -> 22742.72
B14: ='Прайс повний'!B271 -> LAPCX 070 | C14: ='Прайс повний'!C271 -> Ni | D14: ='Прайс повний'!E271 -> Liva Grup LAP-CX070 TYPE ( 31µs) | F14: ='Прайс повний'!F271 -> LAPCX 070 TYPE , 1 рівень-49м, 2й рівень-56м, 3й рівень-65м, 4й рівень-73м. Туреччина | G14: ='Прайс повний'!G271 -> шт. | H14: ='Прайс повний'!I271 -> 24896.14 | I14: ='Прайс повний'!J271 -> 24896.14
B15: ='Прайс повний'!B272 -> LSC-100E | D15: ='Прайс повний'!E272 -> Реєстратор ударів блискавки електронний | E15: ='Прайс повний'!A272 -> 59 205 | F15: ='Прайс повний'!F272 -> Електронний реєстратор ударів блискавки | G15: ='Прайс повний'!G272 -> шт. | H15: ='Прайс повний'!I272 -> 4680 | I15: ='Прайс повний'!J272 -> 4680
B16: ='Прайс повний'!B273 -> PLW-02.B | D16: ='Прайс повний'!E273 -> PLW-02.B | E16: ='Прайс повний'!A273 -> 59 204 | F16: ='Прайс повний'!F273 -> Реєстратор ударів блискавки PLW-02.B | G16: ='Прайс повний'!G273 -> шт. | H16: ='Прайс повний'!I273 -> 19890 | I16: ='Прайс повний'!J273 -> 19890
A17: ЩОГЛА АКТИВНОГО БЛИСКАВКОПРИЙМАЧА
B18: 52/30/30А | C18: ='Прайс повний'!C275 -> Ni | D18: ='Прайс повний'!E275 -> Щогла активного блискавкоприймача з нержавіючої сталі 3м | E18: 52 032 | F18: ='Прайс повний'!F275 -> Щогла активного блискавкоприймача з нержавіючої сталі діаметром 32 мм в основі | G18: шт. | H18: ='Прайс повний'!I275 -> 2500.32 | I18: ='Прайс повний'!J275 -> 2500.32
B19: 52/40/40А | C19: ='Прайс повний'!C276 -> Ni | D19: ='Прайс повний'!E276 -> Щогла активного блискавкоприймача з нержавіючої сталі 4м. | E19: 52 042 | F19: ='Прайс повний'!F276 -> Щогла активного блискавкоприймача з нержавіючої сталі діаметром 42 мм в основі | G19: шт. | H19: ='Прайс повний'!I276 -> 4425.29 | I19: ='Прайс повний'!J276 -> 4425.29
B20: 52/40/50А | C20: ='Прайс повний'!C277 -> Ni | D20: ='Прайс повний'!E277 -> Щогла активного блискавкоприймача з нержавіючої сталі 5м. | E20: 52 052 | F20: ='Прайс повний'!F277 -> Щогла активного блискавкоприймача з нержавіючої сталі діаметром 42 мм в основі | G20: шт. | H20: ='Прайс повний'!I277 -> 4929.71 | I20: ='Прайс повний'!J277 -> 4929.71
B21: 52/40/60А | C21: ='Прайс повний'!C278 -> Ni | D21: ='Прайс повний'!E278 -> Щогла активного блискавкоприймача з нержавіючої сталі 6м. | E21: 52 062 | F21: ='Прайс повний'!F278 -> Щогла активного блискавкоприймача з нержавіючої сталі діаметром 42 мм в основі | G21: шт. | H21: ='Прайс повний'!I278 -> 5644.08 | I21: ='Прайс повний'!J278 -> 5644.08
B22: 52/40/70А | C22: ='Прайс повний'!C279 -> Ni | D22: ='Прайс повний'!E279 -> Щогла активного блискавкоприймача з нержавіючої сталі 7м. | E22: 52 072 | F22: ='Прайс повний'!F279 -> Щогла активного блискавкоприймача з нержавіючої сталі діаметром 42 мм в основі | G22: шт. | H22: ='Прайс повний'!I279 -> 8766.04 | I22: ='Прайс повний'!J279 -> 8766.04
B23: 52/40/80А | C23: ='Прайс повний'!C280 -> Ni | D23: ='Прайс повний'!E280 -> Щогла активного блискавкоприймача з нержавіючої сталі 8м. | E23: 52 082 | F23: ='Прайс повний'!F280 -> Щогла активного блискавкоприймача з нержавіючої сталі діаметром 42 мм в основі | G23: шт. | H23: ='Прайс повний'!I280 -> 9459.97 | I23: ='Прайс повний'!J280 -> 9459.97

Sheet ПЗІП
A1: #VALUE! | B1: #VALUE! | D1: Блискавкозахист та заземлення | G1: =Заземлення!G1 -> Прайс-лист від 20.05.2026р.
D3: +38(067) 314 07 85, +38(097) 095 63 06 | G3: Фіксована знижка %
A4: Вигляд | B4: Код | C4: Матеріал | D4: Назва | E4: Артикул | F4: Опис | G4: Од. вим. | H4: Ціна грн., з ПДВ | I4: Ціна грн., з ПДВ зі знижкою | J4: Введіть потрібну кількість
F5: ПЗІП CITEL
B6: ='Прайс повний'!B387 -> 99015 | D6: ='Прайс повний'!E387 -> DLU2-06D3 | E6: ='Прайс повний'!A387 -> 99015 | F6: ='Прайс повний'!F387 -> ПЗІП для телефонних ліній | G6: шт. | H6: ='Прайс повний'!I387 -> 2733.59 | I6: ='Прайс повний'!J387 -> 2733.59
B7: ='Прайс повний'!B388 -> 99020 | D7: ='Прайс повний'!E388 -> DLU2-12D3 | E7: ='Прайс повний'!A388 -> 99020 | G7: шт. | H7: ='Прайс повний'!I388 -> 2733.59 | I7: ='Прайс повний'!J388 -> 2733.59
B8: ='Прайс повний'!B389 -> 99021 | D8: ='Прайс повний'!E389 -> DS132VG-230/G | E8: ='Прайс повний'!A389 -> 99021 | F8: ='Прайс повний'!F390 -> ПЗІП для мереж змінного струму | G8: шт. | H8: ='Прайс повний'!I389 -> 7581.34 | I8: ='Прайс повний'!J389 -> 7581.34
B9: ='Прайс повний'!B390 -> 99012 | D9: ='Прайс повний'!E390 -> DS132VGS-230/G | E9: ='Прайс повний'!A390 -> 99012 | G9: шт. | H9: ='Прайс повний'!I390 -> 8283.03 | I9: ='Прайс повний'!J390 -> 8283.03
B10: ='Прайс повний'!B391 -> 99022 | D10: ='Прайс повний'!E391 -> DS132R-230/G | E10: ='Прайс повний'!A391 -> 99022 | G10: шт. | H10: ='Прайс повний'!I391 -> 5414.08 | I10: ='Прайс повний'!J391 -> 5414.08
B11: ='Прайс повний'!B392 -> 99011 | D11: ='Прайс повний'!E392 -> DS133VGS-230 | E11: ='Прайс повний'!A392 -> 99011 | G11: шт. | H11: ='Прайс повний'!I392 -> 12424.88 | I11: ='Прайс повний'!J392 -> 12424.88
B12: ='Прайс повний'!B393 -> 99023 | D12: ='Прайс повний'!E393 -> DS134R-230/G | E12: ='Прайс повний'!A393 -> 99023 | G12: шт. | H12: ='Прайс повний'!I393 -> 10705.14 | I12: ='Прайс повний'!J393 -> 10705.14
B13: ='Прайс повний'!B394 -> 99010 | D13: ='Прайс повний'!E394 -> DS134RS-230/G | E13: ='Прайс повний'!A394 -> 99010 | G13: шт. | H13: ='Прайс повний'!I394 -> 11582.58 | I13: ='Прайс повний'!J394 -> 11582.58
B14: ='Прайс повний'!B395 -> 99009 | D14: ='Прайс повний'!E395 -> DS134VG-230/G | E14: ='Прайс повний'!A395 -> 99009 | G14: шт. | H14: ='Прайс повний'!I395 -> 14846.31 | I14: ='Прайс повний'!J395 -> 14846.31
B15: ='Прайс повний'!B396 -> 99024 | D15: ='Прайс повний'!E396 -> DS134VGS-230/G | E15: ='Прайс повний'!A396 -> 99024 | G15: шт. | H15: ='Прайс повний'!I396 -> 16215.21 | I15: ='Прайс повний'!J396 -> 16215.21
B16: ='Прайс повний'!B397 -> 99007 | D16: ='Прайс повний'!E397 -> DS253VG-300 | E16: ='Прайс повний'!A397 -> 99007 | G16: шт. | H16: ='Прайс повний'!I397 -> 31588.13 | I16: ='Прайс повний'!J397 -> 31588.13
B17: ='Прайс повний'!B398 -> 99006 | D17: ='Прайс повний'!E398 -> DS254VG-300/G | E17: ='Прайс повний'!A398 -> 99006 | G17: шт. | H17: ='Прайс повний'!I398 -> 43737.41 | I17: ='Прайс повний'!J398 -> 43737.41
B18: ='Прайс повний'!B399 -> 99025 | D18: ='Прайс повний'!E399 -> DS42VG-230 | E18: ='Прайс повний'!A399 -> 99025 | G18: шт. | H18: ='Прайс повний'!I399 -> 4938.57 | I18: ='Прайс повний'!J399 -> 4938.57
B19: ='Прайс повний'!B400 -> 99014 | D19: ='Прайс повний'!E400 -> DS42VGS-230/G | E19: ='Прайс повний'!A400 -> 99014 | G19: шт. | H19: ='Прайс повний'!I400 -> 5141.66 | I19: ='Прайс повний'!J400 -> 5141.66
B20: ='Прайс повний'!B401 -> 99026 | D20: ='Прайс повний'!E401 -> DS43VGS-230 | E20: ='Прайс повний'!A401 -> 99026 | G20: шт. | H20: ='Прайс повний'!I401 -> 7546.19 | I20: ='Прайс повний'!J401 -> 7546.19
B21: ='Прайс повний'!B402 -> 99013 | D21: ='Прайс повний'!E402 -> DS44VGS-230/G | E21: ='Прайс повний'!A402 -> 99013 | G21: шт. | H21: ='Прайс повний'!I402 -> 10029.14 | I21: ='Прайс повний'!J402 -> 10029.14
B22: ='Прайс повний'!B403 -> 99005 | D22: ='Прайс повний'!E403 -> MJ8-CAT5E | E22: ='Прайс повний'!A403 -> 99005 | F22: ='Прайс повний'!F404 -> ПЗІП для ліній передачі даних | G22: шт. | H22: ='Прайс повний'!I403 -> 3807.91 | I22: ='Прайс повний'!J403 -> 3807.91
B23: ='Прайс повний'!B404 -> 99003 | D23: ='Прайс повний'!E404 -> MJ8-POE-A | E23: ='Прайс повний'!A404 -> 99003 | G23: шт. | H23: ='Прайс повний'!I404 -> 3807.91 | I23: ='Прайс повний'!J404 -> 3807.91
B24: ='Прайс повний'!B405 -> 99004 | D24: ='Прайс повний'!E405 -> MJ8-POE-B | E24: ='Прайс повний'!A405 -> 99004 | G24: шт. | H24: ='Прайс повний'!I405 -> 3807.91 | I24: ='Прайс повний'!J405 -> 3807.91
B25: ='Прайс повний'!B406 -> 99002 | D25: ='Прайс повний'!E406 -> P8AX09-N/FF | E25: ='Прайс повний'!A406 -> 99002 | F25: ='Прайс повний'!F406 -> ПЗІП для високочастотних коаксіальних ліній | G25: шт. | H25: ='Прайс повний'!I406 -> 3492.22 | I25: ='Прайс повний'!J406 -> 3492.22
B26: ='Прайс повний'!B407 -> 99001 | D26: ='Прайс повний'!E407 -> P8AX09-N/MF | E26: ='Прайс повний'!A407 -> 99001 | G26: шт. | H26: ='Прайс повний'!I407 -> 3492.22 | I26: ='Прайс повний'!J407 -> 3492.22
B27: ='Прайс повний'!B408 -> 99016 | D27: ='Прайс повний'!E408 -> DS220-48DC | E27: ='Прайс повний'!A408 -> 99016 | F27: ='Прайс повний'!F410 -> ПЗІП для фітоелектричних систем та мереж постійного струму | G27: шт. | H27: ='Прайс повний'!I408 -> 2808.1 | I27: ='Прайс повний'!J408 -> 2808.1
B28: ='Прайс повний'!B409 -> 99017 | D28: ='Прайс повний'!E409 -> DS220S-48DC | E28: ='Прайс повний'!A409 -> 99017 | G28: шт. | H28: ='Прайс повний'!I409 -> 3071.07 | I28: ='Прайс повний'!J409 -> 3071.07
B29: ='Прайс повний'!B410 -> 99018 | D29: ='Прайс повний'!E410 -> DS230S-48DC | E29: ='Прайс повний'!A410 -> 99018 | G29: шт. | H29: ='Прайс повний'!I410 -> 3071.07 | I29: ='Прайс повний'!J410 -> 3071.07
B30: ='Прайс повний'!B411 -> 99019 | D30: ='Прайс повний'!E411 -> DS240S-230/G | E30: ='Прайс повний'!A411 -> 99019 | G30: шт. | H30: ='Прайс повний'!I411 -> 4720.51 | I30: ='Прайс повний'!J411 -> 4720.51
F31: ПЗІП SALTEK
B32: ='Прайс повний'!A516 -> A03421 | D32: ='Прайс повний'!E516 -> FLP-12,5 V/1 | E32: ='Прайс повний'!A516 -> A03421 | F32: ='Прайс повний'!F516 -> Для захисту від впливу часткових струмів блискавки, індукованї напруги при ударі блискавки і від комутаційної перенапруги. | G32: шт. | H32: ='Прайс повний'!I516 -> 2176.65 | I32: ='Прайс повний'!J516 -> 2176.65
B33: ='Прайс повний'!A517 -> A03423 | D33: ='Прайс повний'!E517 -> FLP-12,5 V/1+1 | E33: ='Прайс повний'!A517 -> A03423 | G33: шт. | H33: ='Прайс повний'!I517 -> 4940.55 | I33: ='Прайс повний'!J517 -> 4940.55
B34: ='Прайс повний'!A518 -> A03425 | D34: ='Прайс повний'!E518 -> FLP-12,5 V/3 | E34: ='Прайс повний'!A518 -> A03425 | G34: шт. | H34: ='Прайс повний'!I518 -> 6243.3 | I34: ='Прайс повний'!J518 -> 6243.3
B35: ='Прайс повний'!A519 -> A03427 | D35: ='Прайс повний'!E519 -> FLP-12,5 V/3+1 | E35: ='Прайс повний'!A519 -> A03427 | G35: шт. | H35: ='Прайс повний'!I519 -> 9166.5 | I35: ='Прайс повний'!J519 -> 9166.5
B36: ='Прайс повний'!A520 -> A05091 | D36: ='Прайс повний'!E520 -> FLP-B+C MAXI V/1 | E36: ='Прайс повний'!A520 -> A05091 | F36: ='Прайс повний'!F520 -> Для захисту від перенапруги при прямому і непрямому ударі блискавки. Підходить для об'єктів з однофазним електроживленням або для допоміжних розподільних щитових великих об'єктів. | G36: шт. | H36: ='Прайс повний'!I520 -> 6205.95 | I36: ='Прайс повний'!J520 -> 6205.95
B37: ='Прайс повний'!A521 -> A05095 | D37: ='Прайс повний'!E521 -> FLP-B+C MAXI V/1+1 | E37: ='Прайс повний'!A521 -> A05095 | G37: шт. | H37: ='Прайс повний'!I521 -> 10774.8 | I37: ='Прайс повний'!J521 -> 10774.8
B38: ='Прайс повний'!A522 -> A05093 | D38: ='Прайс повний'!E522 -> FLP-B+C MAXI V/3 | E38: ='Прайс повний'!A522 -> A05093 | G38: шт. | H38: ='Прайс повний'!I522 -> 16621.2 | I38: ='Прайс повний'!J522 -> 16621.2
B39: ='Прайс повний'!A523 -> A05096 | D39: ='Прайс повний'!E523 -> FLP-B+C MAXI V/3+1 | E39: ='Прайс повний'!A523 -> A05096 | G39: шт. | H39: ='Прайс повний'!I523 -> 24782.85 | I39: ='Прайс повний'!J523 -> 24782.85
B40: ='Прайс повний'!A524 -> A01617 | D40: ='Прайс повний'!E524 -> SLP-275 V/1 | E40: ='Прайс повний'!A524 -> A01617 | F40: ='Прайс повний'!F524 -> Для захисту ланцюгів і пристроїв від впливу індукованої напруги при ударі блискавки і від комутаційної перенапруги. | G40: шт. | H40: ='Прайс повний'!I524 -> 1428.3 | I40: ='Прайс повний'!J524 -> 1428.3
B41: ='Прайс повний'!A525 -> A01948 | D41: ='Прайс повний'!E525 -> SLP-275 V/1+1 | E41: ='Прайс повний'!A525 -> A01948 | G41: шт. | H41: ='Прайс повний'!I525 -> 3140.55 | I41: ='Прайс повний'!J525 -> 3140.55
...

Sheet Супутні товари
